{"text_format":"1","workbook":"xlsx","n_sheets":17,"sheets":["Curve Fitting","P inhibition, or deactivation","P spiked reactions","amide spiked","IS order","cat order","PhCONHBr order","BzOH order original","SM order","SM order (fake SM)","5 equiv. BzOH same excess","5 equiv. BzOH cat order","5. equiv. BzOH SM order","5. equiv. BzOH BzOH order","lower T","alternative bromenium","New Table"],"not_rendered":{"charts":51,"images":6,"macros":0,"external_links":0,"defined_names":27,"comments":0,"pivot_tables":0},"unopened":[],"bounds":{"document_bytes":16777216,"sheet_cells":100000,"rows_first":2000,"rows_last":500,"rows_between":2000,"halvings":0,"cell_chars":16384,"cell_head_chars":4096},"cells_cut":0,"cells_raw":0,"read":"whole","date_system":"1900"}

{"sheet":"Curve Fitting","index":0,"n_rows":79,"n_cols":36,"rows_kept":79,"cut":false,"hidden":true,"merged":[[64,4,64,8],[64,14,64,17],[78,6,78,8],[78,11,78,12],[0,4,0,6],[0,8,0,12],[0,14,0,18],[9,4,9,6],[9,8,9,12],[9,14,9,18]]}
[null,null,null,null,"BL-074, BL-076",null,null,null,"BL-077, BL-078",null,null,null,null,null,"BL-079, BL-080"]
[null,null,null,null,"  [SM]0","80 mM",null,null,"  [SM]0","40 mM",null,null,null,null,"  [SM]0","20 mM"]
[null,null,null,null,"  [PhCO2H]0","96 mM",null,null,"  [PhCO2H]0","56 mM",null,null,null,null,"  [PhCO2H]0","36 mM",null,null,null,null,null,null,null,null,"exp3 sm",null,"exp2 sm",null,"exp1 sm",null,null,"exp3 p",null,"exp2 p",null,"exp 1 p"]
[null,null,null,null,"  [PhCONHBr]0","96 mM","t1/2 (SM)",null,"  [PhCONHBr]0","56 mM",null,"t1/2 (SM)",null,null,"  [PhCONHBr]0","36 mM",null,null,null,null,null,null,null,"A",-21.165982524183857,null,-41.020268594477393,null,null,-81.110120348005381,null,24.764458759447681,null,50.819705990616356,null,160.53604481441144]
[null,null,null,null,"  [(DHQD)2PHAL]0","8 mM",null,null,"  [(DHQD)2PHAL]0","8 mM",null,null,null,null,"  [(DHQD)2PHAL]0","8 mM",null,null,null,null,null,null,null,"k",8.6188627543527652,null,5.689832247313821,null,null,3.5126954615642609,null,2.7372009073427447E-2,null,9.3480616996432404E-3,null,3.4426483687328602E-3]
[null,null,null,null,"  [(4-Tol)2CO]0","40 mM",null,null,"  [(4-Tol)2CO]0","40 mM",null,null,null,null,"  [(4-Tol)2CO]0","40 mM",null,null,null,null,null,null,null,"n",-0.53075374427894839,null,-0.48856514438431198,null,null,-0.46335910969734517,null,1.2852975729140004,null,1.3349155049836823,null,1.1991260200324969]
[null,null,null,null,"  [P]0 (83:17 er)","0 mM",null,null,"  [P]0 (83:17 er)","0 mM",null,null,null,null,"  [P]0 (83:17 er)","40 mM"]
[null,null,null,null,"  [PhCONH2]0","0 mM",null,null,"  [PhCONH2]0","0 mM",null,null,null,null,"  [PhCONH2]0","0 mM",null,null,null,null,null,null,null,"t1/2 (SM)",{"$f":"(-LN(((R12/2)/$Y$4)+1)/$Y$5)^(1/$Y$6)","v":112.04066981635481},null,{"$f":"(-LN(((L12/2)/$AA$4)+1)/$AA$5)^(1/$AA$6)","v":73.405990891646326},null,null,{"$f":"(-LN(((F12/2)/$AD$4)+1)/$AD$5)^(1/$AD$6)","v":33.082695069797559},null,{"$f":"(-LN(1-($R$12/2)/$AF$4)/$AF$5)^(1/$AF$6)","v":10.552656717407348},null,{"$f":"(-LN(1-($L$12/2)/$AH$4)/$AH$5)^(1/$AH$6)","v":20.289833635056389},null,{"$f":"(-LN(1-($F$12/2)/$AJ$4)/$AJ$5)^(1/$AJ$6)","v":40.522863869210518}]
[]
[null,null,null,null,"Experiment 1",null,null,null,"Experiment 2",null,null,null,null,null,"Experiment 3"]
[null,null,null,null,"t (minutes)","[SM] (mM)","[P] (mM)","ln([SM]/[SM]0)","t (minutes)","shifted t, SM","shifted t, P","[SM] (mM)","[P] (mM)","ln([SM]/[SM]0)","t (minutes)","shifted t, SM","shifted t, P","[SM] (mM)","[P] (mM)","ln([SM]/[SM]0)",null,null,null,null,"Y_fit ([SM]) = -A*(1-exp(-k*t^n))","residual^2","Y_fit ([SM]) = -A*(1-exp(-k*t^n))","residual^2","Y_fit ([SM]) = -A*(1-exp(-k*t^n))","residual^2","Y_fit ([SM]) = A*(1-exp(-k*t^n))","residual^2","Y_fit ([SM]) = A*(1-exp(-k*t^n))","residual^2","Y_fit ([SM]) = A*(1-exp(-k*t^n))","residual^2"]
[null,"shifted t, SM",null,31,0,81.2,0,{"$f":"LN(F12/$F$12)","v":0},0,{"$f":"I12+$C$12","v":0},{"$f":"I12+$C$13","v":0},41.2,{"$f":"0+$C$14","v":0},{"$f":"LN(L12/$L$12)","v":0},0,{"$f":"O12+$C$15","v":0},{"$f":"O12+$C$16","v":0},21.4,{"$f":"0+$C$17","v":0},{"$f":"LN(R12/$R$12)","v":0},null,null,null,null,{"$f":"-$Y$4*(1-EXP(-$Y$5*(P12+1E-50)^$Y$6))","v":21.165982524183857},{"$f":"(R12-Y12)^2","v":5.4764178987358483E-2},{"$f":"-$AA$4*(1-EXP(-$AA$5*(J12+1E-50)^$AA$6))","v":41.020268594477393},{"$f":"(L12-AA12)^2","v":3.230337813113273E-2},{"$f":"-$AD$4*(1-EXP(-$AD$5*(E12+1E-50)^$AD$6))","v":81.110120348005381},{"$f":"(F12-AC12)^2","v":8.0783518426742994E-3},{"$f":"$AF$4*(1-EXP(-$AF$5*(S12+1E-50)^$AF$6))","v":0},{"$f":"(S12-AE12)^2","v":0},{"$f":"$AH$4*(1-EXP(-$AH$5*(M12+1E-50)^$AH$6))","v":0},{"$f":"(M12-AG12)^2","v":0},{"$f":"$AJ$4*(1-EXP(-$AJ$5*(G12+1E-50)^$AJ$6))","v":0},{"$f":"(G12-AI12)^2","v":0}]
[null,"shifted t, P",null,31,15,50.4956676396353,29.772670347589028,{"$f":"LN(F13/$F$12)","v":-0.47502770388058424},15,15,{"$f":"I13+$C$13","v":15},31.081794874651941,{"$f":"10.6210185340732+$C$14","v":10.621018534073199},{"$f":"LN(L13/$L$12)","v":-0.28181598237383348},15,{"$f":"O13+$C$15","v":15},{"$f":"O13+$C$16","v":15},17.886475184658266,{"$f":"3.217275508169+$C$17","v":3.2172755081690001},{"$f":"LN(R13/$R$12)","v":-0.17934607104879194},null,null,null,null,{"$f":"-$Y$4*(1-EXP(-$Y$5*P13^$Y$6))","v":18.434505713607763},0.30033746066066486,{"$f":"-$AA$4*(1-EXP(-$AA$5*(J13)^$AA$6))","v":32.006496967544635},0.85507396060012908,{"$f":"-$AD$4*(1-EXP(-$AD$5*(E13)^$AD$6))","v":51.318637672541904},0.67727967506229592,{"$f":"$AF$4*(1-EXP(-$AF$5*(S13+1E-50)^$AF$6))","v":2.8641326663651898},{"$f":"(S13-AE13)^2","v":0.12470986671727097},{"$f":"$AH$4*(1-EXP(-$AH$5*(M13+1E-50)^$AH$6))","v":9.9976562637885689},{"$f":"(M13-AG13)^2","v":0.38858052001440863},{"$f":"$AJ$4*(1-EXP(-$AJ$5*(G13+1E-50)^$AJ$6))","v":29.291827393433088},{"$f":"(G13-AI13)^2","v":0.23120994656141058}]
[null,"shifted [P] (mM)",null,40,30,41.729769675039798,37.554713985640191,-0.66570047198894544,30,30,30,27.355019774399928,{"$f":"14.7003413123808+$C$14","v":14.7003413123808},-0.40953820595931195,30,30,30,15.748331458160287,{"$f":"5.14384721284062+$C$17","v":5.1438472128406199},-0.30665650153253948,null,null,null,null,16.036044754122525,8.2778940673454315E-2,27.090168031300799,7.0146445822647063E-2,41.883231347819226,2.3550485012260442E-2,4.9828890646855335,2.5907525457514728E-2,14.577823212393834,1.5010684824416131E-2,37.512437591319099,1.7872935167924959E-3]
[null,"shifted t, SM",null,95,45,36.927756490559602,42.068213051351869,-0.78795177047186127,45,45,45,24.223628427819957,{"$f":"17.0757071003981+$C$14","v":17.075707100398098},-0.53110971822816089,45,45,45,14.590823117126188,{"$f":"6.37228506338429+$C$17","v":6.3722850633842896},-0.3829981445576518,null,null,null,null,14.416176855887915,3.0501316564507053E-2,24.106292100811441,1.3767813635849436E-2,36.685678110322044,5.8601942178439774E-2,6.342124289578261,9.0967227657841798E-4,17.190800411589809,1.3246470281071916E-2,42.194392907668501,1.5921356140085975E-2]
[null,"shifted t, P",null,95,60,34.016085451517313,44.663578972441606,-0.87008173291349289,60,60,60,22.384735146693323,{"$f":"18.7931401070885+$C$14","v":18.793140107088501},-0.61005899646391559,60,60,60,13.485944832755532,{"$f":"7.37527033876866+$C$17","v":7.3752703387686598},-0.4617429024285481,null,null,null,null,13.230462127721278,6.5271412571619558E-2,22.022836475364493,0.13097064830957311,33.219473902531441,0.63458995997767076,7.4348482966179139,3.5495330614875014E-3,19.033401696564795,5.7725631377675148E-2,44.849996272661521,3.4751409821281998E-2]
[null,"shifted [P] (mM)",null,60,90,29.348574595351089,48.712540301286225,-1.0176712678190107,90,90,90,19.717317267218533,{"$f":"21.2697845967899+$C$14","v":21.269784596789901},-0.73694095765153578,90,90,90,11.914398293595282,{"$f":"8.7257814937178+$C$17","v":8.7257814937178004},-0.58564331266033887,null,null,null,null,11.570420850325119,0.11832048147867789,19.204412232914265,0.26307157421466215,28.696482332138871,0.42522431974123248,8.8649107039409323,1.9356937137312416E-2,21.603794470794323,0.11156259593245027,48.93285061633145,4.8536634915326303E-2]
[null,null,null,null,120,26.140885958688038,51.21127286455409,-1.1334146467116271,120,120,120,17.457917953884625,{"$f":"22.7769723164391+$C$14","v":22.7769723164391},-0.85864495968192467,120,120,120,10.716912700742311,{"$f":"9.59514621798861+$C$17","v":9.59514621798861},-0.69156780219722147,null,null,null,null,10.4329957845097,8.0608815323035543E-2,17.321319366344987,1.8659174117824039E-2,25.761121855089684,0.14422077438186176,9.7538324573576052,2.5181322565074035E-2,23.11124534310169,0.11173845635416857,51.413232230582054,4.0787585526417112E-2]
[null,null,null,null,180,22.599417544837607,54.404591191787397,-1.2789911135738232,180,180,180,15.211583902403973,{"$f":"25.0156102727655+$C$14","v":25.0156102727655},-0.99638101991074945,180,180,180,9.2785922625162698,{"$f":"11.0141146363754+$C$17","v":11.0141146363754},-0.83568108258621554,null,null,null,null,8.9248092170224549,0.12516244327887871,14.865658690301061,0.11966425236844493,22.017028371919679,0.33917714873202826,11.142865884275666,1.6576883835875959E-2,25.263628991349375,6.1513284767987453E-2,54.536777813295878,1.747330290582642E-2]
[null,null,null,null,240,19.473244509717276,56.808000338541021,-1.4278738001814517,240,240,240,13.376268338041214,{"$f":"26.5092700746549+$C$14","v":26.5092700746549},-1.1249561390569698,240,240,240,7.973791846012416,{"$f":"11.8367164536655+$C$17","v":11.836716453665501},-0.98723077749609001,null,null,null,null,7.9378551320964181,1.291447407080273E-3,13.275833631387819,1.0087130300553559E-2,19.634747893137067,2.6083342856040231E-2,11.910205151664327,5.4005887335626624E-3,26.639283413598903,1.6903468303368328E-2,56.852015537263426,1.9373377185728517E-3]
[null,null,null,null,300,17.755399827619399,57.927842233003751,-1.5202255618698732,300,300,300,12.05348375086332,{"$f":"27.5018570311999+$C$14","v":27.501857031199901},-1.2290845302470064,300,300,300,7.1952057403913052,{"$f":"12.5957367190259+$C$17","v":12.595736719025901},-1.0899759871853756,null,null,null,null,7.224828282486933,8.7749500020723858E-4,12.132335783442908,6.2176430419324516E-3,17.937996996319697,3.3341726017364952E-2,12.592401259194089,1.1125292289628698E-5,27.525891829278358,5.7767151867219968E-4,57.920025588767075,6.1099927122767873E-5]
[null,null,null,null,360,16.108141509347472,59.413777981871746,-1.6175904191817836,360,360,360,11.03721503825173,{"$f":"28.3242661263123+$C$14","v":28.324266126312299},-1.3171655083576195,360,360,360,6.5068654921511682,{"$f":"13.1340536386762+$C$17","v":13.1340536386762},-1.1905330729824666,null,null,null,null,6.6774537558558489,2.9100355713777691E-2,11.256046518338158,4.7887216676816419E-2,16.645844711207516,0.28912473329054306,13.060914025176499,5.3494030628855301E-3,28.243596334082696,6.5076153783673379E-3,59.326449999488354,7.6261765071541227E-3]
[null,null,null,null,420,15.00319940165372,60.668075551457875,-1.6886517753656534,420,420,420,10.139290832583349,{"$f":"29.1856674881565+$C$14","v":29.185667488156501},-1.402020198253247,420,420,420,5.8480705198743994,{"$f":"13.4998056079374+$C$17","v":13.4998056079374},-1.2972791408509834,null,null,null,null,6.2395460351174901,0.15325307903484331,10.555312615877581,0.17307412417531284,15.61697178692285,0.37671654091895668,13.371918145705884,1.6355202996017552E-2,28.978791492581191,4.2797677545275456E-2,60.503987876074881,2.692476521259491E-2]
[null,null,null,null,480,14.073293652637449,61.640195529202138,-1.752636312985806,480,480,480,9.3129822599530172,{"$f":"29.4961199843847+$C$14","v":29.496119984384698},-1.4870288876869875,480,480,480,5.4152430147722193,{"$f":"13.8768765706848+$C$17","v":13.8768765706848},-1.3741731645075637,null,null,null,null,5.8785656113924993,0.21466782853895877,9.9775166346051556,0.44160593509430862,14.771198487358312,0.48707115832675441,13.686321105819786,3.6311385189921525E-2,29.239595630797186,6.5804743983490829E-2,61.410480830473219,5.2768842812118293E-2]
[]
[null,null,null,null,null,null,null,null,null,null,null,null,null,null,null,null,null,null,null,null,null,null,"log[SM]/[SM]0",null,null,{"$f":"SUM(Z12:Z24)","v":1.2569352552330637},null,{"$f":"SUM(AB12:AB24)","v":2.1825292964891867},null,3.5230601583381231,null,{"$f":"SUM(AF12:AF24)","v":0.27961944632579094},null,{"$f":"SUM(AH12:AH24)","v":0.89196882028135205},null,{"$f":"SUM(AJ12:AJ24)","v":0.47978575156470382}]
[]
[null,null,null,null,null,null,null,null,null,null,null,null,null,null,null,null,null,null,null,null,null,null,null,null,"t"]
[]
[]
[]
[]
[]
[]
[]
[]
[]
[]
[]
[]
[]
[]
[]
[]
[]
[]
[]
[]
[]
[]
[]
[]
[]
[]
[]
[]
[]
[]
[]
[]
[]
[]
[]
[]
[null,null,null,null,"Experiment 1",null,null,null,null,"Experiment 2",null,null,null,null,"Experiment 3"]
[null,null,null,null,"[P]n - [P]n-1","[SM]n-1 - [SM]n","subtraction",null,"[SM]0 - [P]n - [SM]n","[P]n - [P]n-1","[SM]n-1 - [SM]n","subtraction","[SM]0 - [P]n + [SM]n",null,"[P]n - [P]n-1","[SM]n-1 - [SM]n","subtraction","[SM]0 - [P]n - [SM]n"]
[null,null,null,null,{"$f":"G13-G12","v":29.772670347589028},{"$f":"F12-F13","v":30.704332360364702},{"$f":"F67-E67","v":0.93166201277567495},null,{"$f":"$F$12-(F12+G12)","v":0},{"$f":"M13-M12","v":10.621018534073199},{"$f":"L12-L13","v":10.118205125348062},{"$f":"K67-J67","v":-0.50281340872513702},{"$f":"($L$12+$C$14)-(L12+M12)","v":0},null,{"$f":"S13-S12","v":3.2172755081690001},{"$f":"R12-R13","v":3.5135248153417322},{"$f":"P67-O67","v":0.29624930717273212},{"$f":"($R$12+$C$17)-S12-R12","v":0}]
[null,null,null,null,{"$f":"G14-G13","v":7.7820436380511637},{"$f":"F13-F14","v":8.7658979645955029},{"$f":"F68-E68","v":0.98385432654433913},null,{"$f":"$F$12-(F13+G13)","v":0.93166201277567495},4.0793227783076009,3.7267751002520129,{"$f":"K68-J68","v":-0.35254767805558807},-0.5028134087251388,null,{"$f":"S14-S13","v":1.9265717046716198},{"$f":"R13-R14","v":2.1381437264979795},{"$f":"P68-O68","v":0.2115720218263597},0.29624930717273301]
[null,null,null,null,{"$f":"G15-G14","v":4.5134990657116774},{"$f":"F14-F15","v":4.8020131844801952},0.28851411876851785,null,1.915516339320007,2.375365788017298,3.1313913465799708,0.75602555856267273,-0.85536108678072509,null,1.2284378505436697,1.1575083410340987,-7.0929509509570998E-2,0.50782132899909271]
[null,null,null,null,{"$f":"G16-G15","v":2.5953659210897371},{"$f":"F15-F16","v":2.9116710390422895},0.31630511795255245,null,2.2040304580885248,1.7174330066904027,1.8388932811266336,0.12146027443623097,-9.9335528218048808E-2,null,1.0029852753843702,1.1048782843706562,0.10189300898628595,0.43689181948952083]
[null,null,null,null,4.0489613288446193,4.6675108561662242,0.61854952732160484,null,2.5203355760410915,2.4766444897013997,2.6674178794747903,0.19077338977339053,2.2124746218182167E-2,null,1.3505111549491406,1.5715465391602503,0.22103538421110969,0.53878482847580678]
[null,null,null,null,2.4987325632678647,3.2076886366630504,0.70895607339518563,null,3.1388851033626821,1.507187719649199,2.2593993133339083,0.75221159368470936,0.2128981359915656,null,0.86936472427080957,1.1974855928529706,0.32812086858216105,0.75982021268691646]
[null,null,null,null,3.1933183272333068,3.5414684138504313,0.34815008661712454,null,3.847841176757882,2.2386379563264001,2.2463340514806518,7.6960951542517364E-3,0.9651097296762785,null,1.4189684183867897,1.4383204382260413,1.9352019839251611E-2,1.0879410812690775]
[null,null,null,null,2.4034091467536243,3.1261730351203312,0.72276388836670691,null,4.1959912633750065,1.4936598018894003,1.8353155643627588,0.34165576247335849,0.97280582483053024,null,0.82260181729010107,1.3048004165038538,0.48219859921375274,1.1072931011083291]
[null,null,null,null,1.1198418944627306,1.7178446820978763,0.59800278763514569,null,4.9187551517417063,0.99258695654500073,1.3227845871778943,0.33019763063289354,1.3144615873038887,null,0.7590202653603999,0.77858610562111075,1.9565840260710843E-2,1.5894917003220819]
[null,null,null,null,1.4859357488679947,1.6472583182719269,0.16132256940393219,null,5.5167579393768591,0.82240909511239835,1.0162687126115895,0.19385961749919112,1.644659217936784,null,0.53831691965029904,0.68834024824013706,0.15002332858983802,1.6090575405827927]
[null,null,null,null,1.2542975695861287,1.104942107693752,-0.1493554618923767,null,5.6780805087807806,0.86140136184420157,0.8979242056683816,3.6522843824180029E-2,1.8385188354359769,null,0.36575196926120057,0.65879497227676875,0.29304300301556818,1.7590808691726307]
[null,null,null,null,0.97211997774426351,0.92990574901627099,-4.221422872799252E-2,null,5.528725046888411,0.31045249622819782,0.82630857263033164,0.51585607640213382,1.8750416792601499,null,0.37707096274739982,0.43282750510218015,5.5756542354780336E-2,2.0521238721881989]
[null,null,null,null,null,null,"cant be negative",null,null,null,null,"cant be negative"]

{"sheet":"P inhibition, or deactivation","index":1,"n_rows":70,"n_cols":29,"rows_kept":70,"cut":false,"hidden":false,"merged":[[0,12,0,16],[0,3,0,6],[0,7,0,11],[53,12,53,15],[9,12,9,16],[9,3,9,6],[9,7,9,11],[53,3,53,7],[53,8,53,11],[5,10,5,11],[6,10,6,11]]}
[null,null,null,"BL-074, BL-076",null,null,null,"BL-077, BL-078",null,null,null,null,"BL-079, BL-080"]
[null,null,null,"  [SM]0","80 mM",null,null,"  [SM]0","40 mM",null,null,null,"  [SM]0","20 mM"]
[null,null,null,"  [PhCO2H]0","96 mM",null,"t1/2 (SM, h)","  [PhCO2H]0","56 mM",null,"t1/2 (SM, h)",null,"  [PhCO2H]0","36 mM"]
[null,null,null,"  [PhCONHBr]0","96 mM",null,33.082695069797559,"  [PhCONHBr]0","56 mM",null,73.405990891646326,null,"  [PhCONHBr]0","36 mM",null,"t1/2 (SM, h)"]
[null,null,null,"  [(DHQD)2PHAL]0","8 mM",null,null,"  [(DHQD)2PHAL]0","8 mM",null,null,null,"  [(DHQD)2PHAL]0","8 mM",null,112.04066981635481]
[null,null,null,"  [(4-Tol)2CO]0","40 mM",null,"in. rate (mM h-1)","  [(4-Tol)2CO]0","40 mM",null,"in. rate (mM h-1)",null,"  [(4-Tol)2CO]0","40 mM","← internal standard"]
[null,null,null,"  [P]0 (83:17 er)","0 mM",null,{"$f":"SLOPE(G12:G14,D12:D14)","v":146.13479252811959},"  [P]0 (83:17 er)","0 mM",null,{"$f":"SLOPE(L12:L14,H12:H14)","v":47.543467107716396},null,"  [P]0 (83:17 er)","0 mM"]
[null,null,null,"  [PhCONH2]0","0 mM",null,null,"  [PhCONH2]0","0 mM",null,null,null,"  [PhCONH2]0","0 mM"]
[]
[null,null,null,"Experiment 1",null,null,null,"Experiment 2",null,null,null,null,"Experiment 3"]
[null,null,null,"t (hours)","er","[SM] (mM)","[P] (mM)","t (hours)","shifted t, SM","shifted t, P","[SM] (mM)","[P] (mM)","t (hours)","shifted t, SM","shifted t, P","[SM] (mM)","[P] (mM)"]
["shifted t, SM",{"$f":"33.0826950697976/60","v":0.55137825116329331},null,{"$f":"0/60","v":0},null,81.2,0,{"$f":"0/60","v":0},{"$f":"H12+$B$12","v":0.55137825116329331},{"$f":"H12+$B$13","v":0.60833333333333328},41.2,{"$f":"0+$B$14","v":40},{"$f":"0/60","v":0},{"$f":"M12+$B$15","v":1.7748114326907314},{"$f":"M12+$B$16","v":1.7748114326907314},20.8,{"$f":"0+$B$17","v":60}]
["shifted t, P",{"$f":"36.5/60","v":0.60833333333333328},null,{"$f":"5/60","v":8.3333333333333329E-2},82,61.327168299177231,17.093114709733523,{"$f":"5/60","v":8.3333333333333329E-2},0.63471158449662668,{"$f":"H13+$B$13","v":0.69166666666666665},null,{"$f":"4.8722916197291+$B$14","v":44.872291619729097},{"$f":"15/60","v":0.25},{"$f":"M13+$B$15","v":2.0248114326907314},{"$f":"M13+$B$16","v":2.0248114326907314},17.886475184658266,{"$f":"3.217275508169+$B$17","v":63.217275508169003}]
["shifted [P] (mM)",40,null,{"$f":"10/60","v":0.16666666666666666},82,54.167548197973019,24.355798754686599,{"$f":"10/60","v":0.16666666666666666},{"$f":"H14+$B$12","v":0.71804491782995994},{"$f":"H14+$B$13","v":0.77499999999999991},null,47.923911184619399,{"$f":"30/60","v":0.5},2.2748114326907314,2.2748114326907314,15.748331458160287,{"$f":"5.14384721284062+$B$17","v":65.143847212840626}]
["shifted t, SM",{"$f":"(K4+G4)/60","v":1.7748114326907314},null,{"$f":"15/60","v":0.25},83,50.4956676396353,29.772670347589028,{"$f":"15/60","v":0.25},{"$f":"H15+$B$12","v":0.80137825116329331},{"$f":"H15+$B$13","v":0.85833333333333328},31.081794874651941,{"$f":"10.6210185340732+$B$14","v":50.621018534073201},{"$f":"45/60","v":0.75},2.5248114326907314,2.5248114326907314,14.590823117126188,{"$f":"6.37228506338429+$B$17","v":66.372285063384282}]
["shifted t, P",{"$f":"(K4+G4)/60","v":1.7748114326907314},null,{"$f":"30/60","v":0.5},83,41.729769675039798,37.554713985640191,{"$f":"30/60","v":0.5},{"$f":"H16+$B$12","v":1.0513782511632934},1.1083333333333334,27.355019774399928,{"$f":"14.7003413123808+$B$14","v":54.7003413123808},{"$f":"60/60","v":1},2.7748114326907314,2.7748114326907314,13.485944832755532,{"$f":"7.37527033876866+$B$17","v":67.375270338768658}]
["shifted [P] (mM)",60,null,{"$f":"45/60","v":0.75},83,36.927756490559602,42.068213051351869,{"$f":"45/60","v":0.75},1.3013782511632934,1.3583333333333334,24.223628427819957,{"$f":"17.0757071003981+$B$14","v":57.075707100398098},{"$f":"90/60","v":1.5},3.2748114326907314,3.2748114326907314,11.914398293595299,{"$f":"8.7257814937178+$B$17","v":68.725781493717804}]
[null,null,null,{"$f":"60/60","v":1},83,34.016085451517313,44.663578972441606,{"$f":"60/60","v":1},1.5513782511632934,1.6083333333333334,22.384735146693323,{"$f":"18.7931401070885+$B$14","v":58.793140107088504},{"$f":"120/60","v":2},3.7748114326907314,3.7748114326907314,10.716912700742311,{"$f":"9.65990977443887+$B$17","v":69.659909774438873}]
[null,null,null,{"$f":"90/60","v":1.5},83,29.348574595351089,48.712540301286225,{"$f":"90/60","v":1.5},2.0513782511632934,2.1083333333333334,19.717317267218533,{"$f":"21.2697845967899+$B$14","v":61.269784596789904},{"$f":"180/60","v":3},4.7748114326907309,4.7748114326907309,8.5871144574756428,{"$f":"11.0141146363754+$B$17","v":71.014114636375396}]
[null,null,null,{"$f":"120/60","v":2},83,26.140885958688038,51.21127286455409,{"$f":"120/60","v":2},2.5513782511632934,2.6083333333333334,17.457917953884625,{"$f":"22.7769723164391+$B$14","v":62.7769723164391},{"$f":"240/60","v":4},5.7748114326907309,5.7748114326907309,7.973791846012416,{"$f":"11.8367164536655+$B$17","v":71.836716453665503},null,null,null,null,null,null,null,null,null,null,0,20]
[null,null,null,{"$f":"180/60","v":3},83,22.599417544837607,54.404591191787397,{"$f":"180/60","v":3},3.5513782511632934,3.6083333333333334,15.211583902403973,{"$f":"25.0156102727655+$B$14","v":65.0156102727655},{"$f":"300/60","v":5},6.7748114326907309,6.7748114326907309,7.1952057403913052,{"$f":"12.5957367190259+$B$17","v":72.595736719025894},null,null,null,null,null,null,null,null,null,null,0,40]
[null,null,null,{"$f":"240/60","v":4},83,19.473244509717276,56.808000338541021,{"$f":"240/60","v":4},4.5513782511632934,4.6083333333333334,13.376268338041214,{"$f":"26.5092700746549+$B$14","v":66.509270074654893},{"$f":"360/60","v":6},7.7748114326907309,7.7748114326907309,6.5068654921511682,{"$f":"13.1340536386762+$B$17","v":73.134053638676193},null,null,null,null,null,null,null,null,null,null,0,60]
[null,null,null,{"$f":"300/60","v":5},83,17.755399827619399,58.863940740855149,{"$f":"300/60","v":5},5.5513782511632934,5.6083333333333334,12.05348375086332,{"$f":"27.5018570311999+$B$14","v":67.501857031199904},{"$f":"420/60","v":7},8.7748114326907309,8.7748114326907309,5.8480705198743994,{"$f":"13.4998056079374+$B$17","v":73.499805607937404},null,null,null,null,null,null,null,null,null,null,0,80]
[null,null,null,{"$f":"360/60","v":6},83,16.108141509347472,60.05,{"$f":"360/60","v":6},6.5513782511632934,6.6083333333333334,11.03721503825173,{"$f":"28.5779087047444+$B$14","v":68.577908704744402},{"$f":"480/60","v":8},9.7748114326907309,9.7748114326907309,5.4152430147722193,{"$f":"13.8768765706848+$B$17","v":73.8768765706848}]
[null,null,null,{"$f":"420/60","v":7},83,15.00319940165372,60.9,{"$f":"420/60","v":7},7.5513782511632934,7.6083333333333334,10.139290832583349,{"$f":"29.1856674881565+$B$14","v":69.185667488156497}]
[null,null,null,{"$f":"480/60","v":8},83,14.073293652637449,61.640195529202138,{"$f":"480/60","v":8},8.5513782511632925,8.6083333333333325,9.3129822599530172,{"$f":"29.4961199843847+$B$14","v":69.496119984384706}]
[]
[]
[]
[]
[]
[]
[]
[]
[]
[]
[]
[]
[]
[]
[]
[]
[]
[]
[]
[]
[null,null,null,null,null,null,null,null,null,null,null,null,null,null,null,null,null,null," "]
[]
[]
[]
[]
[]
[]
[null,null,null,"Experiment 1",null,null,null,null,"Experiment 2",null,null,null,"Experiment 3"]
[null,null,null,"[P]n - [P]n-1",null,"[SM]n-1 - [SM]n","subtraction","[SM]0 - [P]n - [SM]n","[P]n - [P]n-1","[SM]n-1 - [SM]n","subtraction","[SM]0 - [P]n - [SM]n","[P]n - [P]n-1","[SM]n-1 - [SM]n","subtraction","[SM]0 - [P]n - [SM]n"]
[null,null,null,{"$f":"G13-G12","v":17.093114709733523},null,{"$f":"F12-F13","v":19.872831700822772},{"$f":"F56-D56","v":2.7797169910892485},{"$f":"$F$12-(F12+G12)","v":0},{"$f":"L13-L12","v":4.8722916197290971},null,null,{"$f":"($K$12)-L12+$L$12-K12","v":0},{"$f":"Q13-Q12","v":3.2172755081690028},{"$f":"P12-P13","v":2.9135248153417344},{"$f":"N56-M56","v":-0.30375069282726841},{"$f":"($P$12+$B$17)-Q12-P12","v":0}]
[null,null,null,{"$f":"G14-G13","v":7.2626840449530761},null,{"$f":"F13-F14","v":7.1596201012042116},-0.10306394374886452,2.779716991089245,{"$f":"L14-L13","v":3.0516195648903022},null,null,null,1.9265717046716233,2.1381437264979795,{"$f":"N57-M57","v":0.21157202182635615},-0.30375069282727196]
[null,null,null,5.416871592902428,null,3.671880558337719,-1.7449910345647091,2.6766530473403805,2.6971073494538018,null,null,null,1.2284378505436564,1.1575083410340987,-7.0929509509557676E-2,-9.2178671000915813E-2]
[null,null,null,7.7820436380511637,null,8.7658979645955029,0.98385432654433913,0.93166201277567495,4.0793227783075992,{"$f":"K15-K16","v":3.7267751002520129},{"$f":"J59-I59","v":-0.35254767805558629},{"$f":"($K$12)-L15+$L$12-K15","v":-0.5028134087251388},1.0029852753843755,1.1048782843706562,0.10189300898628062,-0.16310818051047349]
[null,null,null,4.5134990657116774,null,4.8020131844801952,0.28851411876851785,1.915516339320007,2.375365788017298,3.1313913465799708,0.75602555856267273,-0.85536108678072509,1.350511154949146,1.5715465391602326,0.22103538421108659,-6.1215171524192868E-2]
[null,null,null,2.5953659210897371,null,2.9116710390422895,0.31630511795255245,2.2040304580885248,1.7174330066904062,1.8388932811266336,0.12146027443622742,-9.933552821805236E-2,0.9341282807210689,1.1974855928529884,0.26335731213191949,0.15982021268689373]
[null,null,null,4.0489613288446193,null,4.6675108561662242,0.61854952732160484,2.5203355760410915,2.4766444897013997,2.6674178794747903,0.19077338977339053,2.2124746218175062E-2,1.3542048619365232,2.1297982432666682,0.77559338133014499,0.42317752481881321]
[null,null,null,2.4987325632678647,null,3.2076886366630504,0.70895607339518563,3.1388851033626821,1.5071877196491954,2.2593993133339083,0.75221159368471291,0.2128981359915656,0.8226018172901064,0.61332261146322686,-0.20927920582687953,1.1987709061489582]
[null,null,null,3.1933183272333068,null,3.5414684138504313,0.34815008661712454,3.847841176757882,2.2386379563264001,2.2463340514806518,7.6960951542517364E-3,0.9651097296762785,0.75902026536039102,0.77858610562111075,1.9565840260719725E-2,0.98949170032207867]
[null,null,null,2.4034091467536243,null,3.1261730351203312,0.72276388836670691,4.1959912633750065,1.4936598018893932,1.8353155643627588,0.3416557624733656,0.97280582483053024,0.53831691965029904,0.68834024824013706,0.15002332858983802,1.0090575405827984]
[null,null,null,2.0559404023141283,null,1.7178446820978763,-0.338095720216252,4.9187551517417063,0.99258695654501139,1.3227845871778943,0.33019763063288288,1.3144615873038958,0.36575196926121123,0.65879497227676875,0.29304300301555752,1.1590808691726364]
[null,null,null,1.186059259144848,null,1.6472583182719269,0.46119905912707893,4.5806594315254614,1.076051673544498,1.0162687126115895,-5.978296093290858E-2,1.6446592179367787,0.37707096274739627,0.43282750510218015,5.5756542354783889E-2,1.4521238721881939]
[null,null,null,0.85000000000000142,null,1.104942107693752,0.25494210769375059,5.0418584906525297,0.60775878341209477,0.8979242056683816,0.29016542225628683,1.5848762570038701,null,null,null,1.5078804145429778]
[null,null,null,0.74019552920213982,null,0.92990574901627099,0.18971021981413116,5.2968005983462803,0.31045249622820847,0.82630857263033164,0.51585607640212316,1.875041679260157]
[null,null,null,null,null,null,null,5.4865108181604114,null,null,null,2.3908977556622801]

{"sheet":"P spiked reactions","index":2,"n_rows":69,"n_cols":18,"rows_kept":69,"cut":false,"hidden":false,"merged":[[52,3,52,6],[52,7,52,10],[52,11,52,14],[0,3,0,7],[0,8,0,12],[0,13,0,17],[9,3,9,7],[9,8,9,12],[9,13,9,17],[3,6,3,7],[2,6,2,7],[2,11,2,12],[3,11,3,12],[2,16,2,17],[3,16,3,17]]}
[null,null,null,"BL-085, BL-087",null,null,null,null,"BL-084, BL-086",null,null,null,null,"BL-082, BL-083"]
[null,null,null,"  [SM]0","40 mM",null,null,null,"  [SM]0","40 mM",null,null,null,"  [SM]0","40 mM"]
[null,null,null,"  [PhCO2H]0","56 mM",null,"initial rate (mM h-1)",null,"  [PhCO2H]0","56 mM",null,"initial rate (mM h-1)",null,"  [PhCO2H]0","56 mM",null,"initial rate (mM h-1)"]
[null,null,null,"  [PhCONHBr]0","56 mM",null,{"$f":"SLOPE(H12:H14,D12:D14)","v":12.550657285204807},null,"  [PhCONHBr]0","56 mM",null,{"$f":"SLOPE(M12:M14,I12:I14)","v":43.467366055606568},null,"  [PhCONHBr]0","56 mM",null,{"$f":"SLOPE(R12:R14,N12:N14)","v":16.423349764510263}]
[null,null,null,"  [(DHQD)2PHAL]0","8 mM",null,null,null,"  [(DHQD)2PHAL]0","8 mM",null,null,null,"  [(DHQD)2PHAL]0","8 mM"]
[null,null,null,"  [(4-Tol)2CO]0","40 mM","← internal standard",null,null,"  [(4-Tol)2CO]0","40 mM","← internal standard",null,null,"  [(4-Tol)2CO]0","40 mM","← internal standard"]
[null,null,null,"  [P]0 (83:17 er)","40 mM",null,null,null,"  [P]0 (83:17 er)","40 mM",null,null,null,"  [P]0 (83:17 er)","0 mM"]
[null,null,null,"  [PhCONH2]0","40 mM",null,null,null,"  [PhCONH2]0","0 mM",null,null,null,"  [PhCONH2]0","40 mM"]
[]
[null,null,null,"Experiment 4",null,null,null,null,"Experiment 5",null,null,null,null,"Experiment 6"]
[null,null,null,"t (hours)","shifted t, SM","shifted t, P","[SM] (mM)","[P] (mM)","t (hours)","shifted t, SM","shifted t, P","[SM] (mM)","[P] (mM)","t (hours)","shifted t, SM","shifted t, P","[SM] (mM)","[P] (mM)"]
["shifted t, SM",{"$f":"33.0826950697976/60","v":0.55137825116329331},null,{"$f":"0/60","v":0},{"$f":"D12+$B$12","v":0.55137825116329331},{"$f":"D12+$B$13","v":0.55137825116329331},41.136458680048818,{"$f":"39.5594609061098+$B$14","v":39.559460906109798},{"$f":"0/60","v":0},{"$f":"I12+$B$15","v":0.55137825116329331},{"$f":"I12+$B$16","v":0.60833333333333328},40.966430714648787,40.259460906109801,{"$f":"0/60","v":0},{"$f":"N12+$B$18","v":0.55137825116329331},{"$f":"N12+$B$19","v":0.60833333333333328},41.697904059331428,{"$f":"0+$B$20","v":40}]
["shifted t, P",{"$f":"33.0826950697976/60","v":0.55137825116329331},null,{"$f":"15/60","v":0.25},{"$f":"D13+$B$12","v":0.80137825116329331},{"$f":"D13+$B$13","v":0.80137825116329331},37.198006472866716,{"$f":"42.9469027837689+$B$14","v":42.946902783768898},{"$f":"10/60","v":0.16666666666666666},{"$f":"I13+$B$15","v":0.71804491782995994},{"$f":"I13+$B$16","v":0.77499999999999991},32.732512898955889,48.533056237581434,{"$f":"5/60","v":8.3333333333333329E-2},{"$f":"N13+$B$18","v":0.63471158449662668},{"$f":"N13+$B$19","v":0.69166666666666665},39.187747667899764,{"$f":"1.46586054395403+$B$20","v":41.46586054395403}]
["shifted [P] (mM)",0,null,{"$f":"30/60","v":0.5},1.0513782511632934,1.0513782511632934,33.830447685292086,{"$f":"45.8347895487122+$B$14","v":45.834789548712202},{"$f":"15/60","v":0.25},0.80137825116329331,0.85833333333333328,30.780782018910362,50.869043839460474,{"$f":"10/60","v":0.16666666666666666},0.71804491782995994,0.77499999999999991,37.526179628956427,{"$f":"2.73722496075171+$B$20","v":42.737224960751711}]
["shifted t, SM",{"$f":"33.0826950697976/60","v":0.55137825116329331},null,{"$f":"45/60","v":0.75},1.3013782511632934,1.3013782511632934,31.258266547238566,{"$f":"47.5997221413016+$B$14","v":47.599722141301598},{"$f":"30/60","v":0.5},1.0513782511632934,1.1083333333333334,26.707443557787645,55.016787755429007,{"$f":"15/60","v":0.25},0.80137825116329331,0.85833333333333328,36.098580014470876,{"$f":"3.856912236185+$B$20","v":43.856912236184996}]
["shifted t, P",{"$f":"36.5/60","v":0.60833333333333328},null,{"$f":"60/60","v":1},1.5513782511632934,1.5513782511632934,29.155073644384661,{"$f":"49.4776930460117+$B$14","v":49.477693046011701},{"$f":"45/60","v":0.75},1.3013782511632934,1.3583333333333334,24.112267269117041,57.72542773683098,{"$f":"30/60","v":0.5},1.0513782511632934,1.1083333333333334,33.554292485101286,{"$f":"6.38245434559773+$B$20","v":46.382454345597729}]
["shifted [P] (mM)",0,null,{"$f":"90/60","v":1.5},2.0513782511632934,2.0513782511632934,26.6526614374364,{"$f":"51.7916254397384+$B$14","v":51.791625439738397},{"$f":"60/60","v":1},1.5513782511632934,1.6083333333333334,22.140215537855013,59.134437891685337,{"$f":"45/60","v":0.75},1.3013782511632934,1.3583333333333334,31.05782538184895,{"$f":"8.33415954417405+$B$20","v":48.334159544174049}]
["shifted t, SM",{"$f":"33.0826950697976/60","v":0.55137825116329331},null,{"$f":"120/60","v":2},2.5513782511632934,2.5513782511632934,24.244895640017603,{"$f":"53.4964472439418+$B$14","v":53.496447243941802},{"$f":"90/60","v":1.5},2.0513782511632934,2.1083333333333334,19.51543785398815,61.398159779287013,{"$f":"60/60","v":1},1.5513782511632934,1.6083333333333334,29.300811183651298,{"$f":"9.7864212309207+$B$20","v":49.786421230920702}]
["shifted t, P",{"$f":"36.5/60","v":0.60833333333333328},null,{"$f":"180/60","v":3},3.5513782511632934,3.5513782511632934,21.146021348272733,{"$f":"56.1193434453863+$B$14","v":56.119343445386299},{"$f":"120/60","v":2},2.5513782511632934,2.6083333333333334,17.602875491153632,63.176959031626708,{"$f":"90/60","v":1.5},2.0513782511632934,2.1083333333333334,26.55908049984712,{"$f":"12.1777665170435+$B$20","v":52.177766517043501}]
["shifted [P] (mM)",40,null,{"$f":"240/60","v":4},4.5513782511632934,4.5513782511632934,18.736293798272634,{"$f":"57.8464481255858+$B$14","v":57.846448125585802},{"$f":"180/60","v":3},3.5513782511632934,3.6083333333333334,15.105548047714251,65.11094261955563,{"$f":"120/60","v":2},2.5513782511632934,2.6083333333333334,24.278400434231678,{"$f":"13.9625057412563+$B$20","v":53.962505741256301}]
[null,null,null,{"$f":"300/60","v":5},5.5513782511632934,5.5513782511632934,16.999669195407236,{"$f":"59.0267350286217+$B$14","v":59.026735028621701},{"$f":"240/60","v":4},4.5513782511632934,4.6083333333333334,13.179264790173962,66.766732061006209,{"$f":"180/60","v":3},3.5513782511632934,3.6083333333333334,20.829659434853479,{"$f":"16.5273799558341+$B$20","v":56.5273799558341}]
[null,null,null,{"$f":"360/60","v":6},6.5513782511632934,6.5513782511632934,15.37563331089483,{"$f":"59.9686642685561+$B$14","v":59.968664268556097},{"$f":"300/60","v":5},5.5513782511632934,5.6083333333333334,12.005907514196309,67.731128519043665,{"$f":"240/60","v":4},4.5513782511632934,4.6083333333333334,18.922415270815009,{"$f":"18.0644946246226+$B$20","v":58.064494624622597}]
[null,null,null,{"$f":"420/60","v":7},{"$f":"D23+$B$12","v":7.5513782511632934},{"$f":"D23+$B$13","v":7.5513782511632934},14.578844562155446,{"$f":"60.8767299457605+$B$14","v":60.876729945760502},{"$f":"360/60","v":6},6.5513782511632934,6.6083333333333334,10.877666696696631,68.141714132471918,{"$f":"300/60","v":5},5.5513782511632934,5.6083333333333334,17.033075224406751,{"$f":"19.4005734588743+$B$20","v":59.400573458874305}]
[null,null,null,{"$f":"480/60","v":8},8.5513782511632925,8.5513782511632925,13.542605215478993,{"$f":"61.4893870811158+$B$14","v":61.489387081115801},{"$f":"420/60","v":7},7.5513782511632934,7.6083333333333334,9.9840401412164823,68.67045109919124,{"$f":"360/60","v":6},6.5513782511632934,6.6083333333333334,15.537320702970852,{"$f":"20.5110982233604+$B$20","v":60.511098223360399}]
[null,null,null,null,null,null,null,null,null,null,null,null,null,{"$f":"420/60","v":7},7.5513782511632934,7.6083333333333334,14.19979854902682,{"$f":"21.3190854228598+$B$20","v":61.3190854228598}]
[null,null,null,null,null,null,null,null,null,null,null,null,null,{"$f":"480/60","v":8},8.5513782511632925,8.6083333333333325,13.530106327772696,{"$f":"21.8962934690397+$B$20","v":61.896293469039705}]
[]
[]
[]
[]
[]
[]
[]
[]
[]
[]
[]
[]
[]
[]
[]
[]
[]
[]
[]
[]
[]
[]
[]
[]
[]
[]
[null,null,null,"Experiment 4",null,null,null,"Experiment 5",null,null,null,"Experiment 6"]
[null,null,null,"[P]n - [P]n-1","[SM]n-1 - [SM]n","subtraction","[SM]0 - [P]n - [SM]n","[P]n - [P]n-1","[SM]n-1 - [SM]n","subtraction","[SM]0 - [P]n - [SM]n","[P]n - [P]n-1","[SM]n-1 - [SM]n","subtraction","[SM]0 - [P]n - [SM]n"]
[null,null,null,{"$f":"H13-H12","v":3.3874418776591},{"$f":"G12-G13","v":3.9384522071821024},{"$f":"E55-D55","v":0.55101032952300244},{"$f":"$G$12-(H12-$H$12)-G12","v":0},{"$f":"M13-M12","v":8.2735953314716326},{"$f":"L12-L13","v":8.233917815692898},{"$f":"I55-H55","v":-3.9677515778734573E-2},{"$f":"$L$12-(M12-$M$12)-L12","v":0},{"$f":"R13-R12","v":1.4658605439540295},{"$f":"Q12-Q13","v":2.5101563914316642},{"$f":"M55-L55","v":1.0442958474776347},{"$f":"$Q$12-R12-Q12+$B$20","v":0}]
[null,null,null,2.8878867649433033,3.3675587875746302,0.47967202263132691,0.55101032952300244,2.3359876018790402,1.9517308800455275,{"$f":"I56-H56","v":-0.38425672183351267},-3.9677515778734573E-2,1.271364416797681,1.6615680389433365,{"$f":"M56-L56","v":0.39020362214565552},1.0442958474776347]
[null,null,null,1.7649325925893962,2.5721811380535193,0.80724854546412317,1.0306823521543294,4.1477439159685332,4.0733384611227166,-7.4405454845816621E-2,-0.42393423761224724,1.1196872754332858,1.4275996144855512,0.30791233905226534,1.4344994696232902]
[null,null,null,1.8779709047101036,2.1031929028539054,0.22522199814380173,1.8379308976184525,2.7086399814019728,2.5951762886706042,-0.11346369273136858,-0.49833969245806387,2.5255421094127328,2.5442875293695906,1.8745419956857745E-2,1.7424118086755556]
[null,null,null,2.3139323937266951,2.5024122069482608,0.18847981322156571,2.0631528957622542,1.4090101548543572,1.9720517312620274,0.56304157640767016,-0.61180338518943245,1.9517051985763203,2.4964671032523356,0.54476190467601526,1.7611572286324133]
[null,null,null,1.7048218042034051,2.4077657974187971,0.70294399321539203,2.25163270898382,2.263721887601676,2.6247776838668635,0.36105579626518747,-4.8761808781762284E-2,1.4522616867466525,1.7570141981976519,0.30475251145099946,2.3059191333084286]
[null,null,null,2.6228962014444974,3.0988742917448704,0.47597809030037297,2.954576702199212,1.7787992523396952,1.9125623628345174,0.13376311049482226,0.31229398748342518,2.3913452861227995,2.7417306838041782,0.35038539768137866,2.610671644759428]
[null,null,null,1.7271046801995027,2.409727550000099,0.68262286980059628,3.4305547924995849,1.9339835879289211,2.4973274434393815,0.5633438555104604,0.44605709797824744,1.7847392242127995,2.2806800656154422,0.49594084140264272,2.9610570424408067]
[null,null,null,1.1802869030358991,1.7366246028653975,0.55633769982949843,4.1131776623001812,1.6557894414505796,1.9262832575402893,0.27049381608970968,1.0094009534887078,2.5648742145777987,3.4487409993781988,0.88386678480040004,3.4569978838434494]
[null,null,null,0.94192923993439592,1.6240358845124057,0.68210664457800974,4.6695153621296797,0.96439645803745577,1.1733572759776525,0.20896081794019672,1.2798947695784175,1.5371146687884973,1.9072441640384703,0.37012949524997296,4.3408646686438459]
[null,null,null,0.90806567720440512,0.79678874873938454,-0.11127692846502057,5.3516220067076894,0.41058561342825328,1.1282408174996785,0.71765520407142525,1.4888555875186142,1.3360788342517083,1.8893400464082575,0.55326121215654922,4.7109941638938224]
[null,null,null,0.61265713535529898,1.036239346676453,0.42358221132115403,5.2403450782426688,0.5287369667193218,0.89362655548014835,0.36488958876082656,2.2065107915900395,1.1105247644860938,1.4957545214358987,0.38522975694980488,5.2642553760503716]
[null,null,null,null,null,null,5.6639272895638229,null,null,null,2.571400380350866,0.80798719949940079,1.3375221539440325,0.52953495444463172,5.6494851330001765]
[null,null,null,null,null,null,null,null,null,null,null,0.57720804617990495,0.66969222125412387,9.2484175074218911E-2,6.1790200874448118]
[null,null,null,null,null,null,null,null,null,null,null,null,null,null,6.2715042625190307]

{"sheet":"amide spiked","index":3,"n_rows":254,"n_cols":18,"rows_kept":254,"cut":false,"hidden":false,"merged":[[181,3,181,14],[62,3,62,4],[62,8,62,9],[87,10,87,11],[92,3,92,7],[92,8,92,12],[87,15,87,16],[82,3,82,7],[82,8,82,12],[82,13,82,17],[87,5,87,6],[37,8,37,12],[32,5,32,6],[37,3,37,7],[164,3,164,6],[164,11,164,14],[164,7,164,10],[37,13,37,17],[54,3,54,7],[54,8,54,12],[54,13,54,17],[59,5,59,6],[59,10,59,11],[59,15,59,16],[64,3,64,7],[64,8,64,12],[64,13,64,17],[115,15,115,16],[120,3,120,7],[120,8,120,12],[90,3,90,4],[90,8,90,9],[110,3,110,7],[110,8,110,12],[110,13,110,17],[92,13,92,17],[90,13,90,14],[120,13,120,17],[115,5,115,6],[115,10,115,11],[0,0,0,2],[27,3,27,7],[27,8,27,12],[27,13,27,17],[32,15,32,16],[0,3,0,7],[0,8,0,12],[0,13,0,17],[10,3,10,7],[10,8,10,12],[10,13,10,17],[5,5,5,6],[5,10,5,11],[32,10,32,11],[235,3,235,14],[236,3,236,6],[236,7,236,10],[236,11,236,14],[182,7,182,10],[182,11,182,14],[217,3,217,14],[218,3,218,6],[218,7,218,10],[218,11,218,14],[200,3,200,6],[200,7,200,10],[200,11,200,14],[199,3,199,14],[182,3,182,6]]}
[null,null,null,"BL-127, BL-128",null,null,null,null,"BL-129, BL-131, BL-133 − SM profiles less reproducible",null,null,null,null,"BL-134, BL-137 − SM can't calculate, not homogeneous"]
[null,null,null,"  [SM]0","40 mM",null,null,null,"  [SM]0","40 mM",null,null,null,"  [SM]0","40 mM"]
[null,null,null,"  [PhCO2H]0","56 mM",null,null,null,"  [PhCO2H]0","56 mM",null,null,null,"  [PhCO2H]0","56 mM"]
["\n",null,null,"  [PhCONHBr]0","56 mM",null,null,null,"  [PhCONHBr]0","56 mM",null,null,null,"  [PhCONHBr]0","56 mM"]
[null,null,null,"  [(DHQD)2PHAL]0","8 mM",null,null,null,"  [(DHQD)2PHAL]0","8 mM",null,null,null,"  [(DHQD)2PHAL]0","8 mM"]
[null,null,null,"  [(4-Tol)2CO]0","40 mM","← internal standard",null,null,"  [(4-Tol)2CO]0","40 mM","← internal standard",null,null,"  [(4-Tol)2CO]0","40 mM","← internal standard"]
[null,null,null,"  [P]0 (83:17 er)","0 mM",null,null,null,"  [P]0 (83:17 er)","0 mM",null,null,null,"  [P]0 (83:17 er)","0 mM"]
[null,null,null,"  [PhCONH2]0","0 mM",null,null,null,"  [PhCONH2]0","0 mM",null,null,"succinimide","  [PhCONH2]0","0 mM",null,null,"saccharin"]
[null,null,null,"  [PhCONHMe]0","40 mM",null,null,null,"  [succinimide]0","40 mM",null,null,null,"  [saccharin]0","40 mM"]
[]
[null,null,null,"Experiment 14",null,null,null,null,"Experiment 15",null,null,null,null,"Experiment 16"]
[null,null,null,"t (hours)","shifted t, SM","shifted t, P","[SM] (mM)","[P] (mM)","t (hours)","shifted t, SM","shifted t, P","[SM] (mM)","[P] (mM)","t (hours)","shifted t, SM","shifted t, P","[SM] (mM)","[P] (mM)"]
["shifted t, SM",0,null,{"$f":"0/60","v":0},{"$f":"D13+$B$13","v":0},{"$f":"D13+$B$14","v":0},39.813605755690403,{"$f":"0+$B$15","v":0},{"$f":"0/60","v":0},{"$f":"I13+$B$16","v":0},{"$f":"I13+$B$17","v":0},39.913175330642112,{"$f":"0+$B$18","v":0},{"$f":"0/60","v":0},{"$f":"N13+$B$19","v":0},{"$f":"N13+$B$20","v":0},"−",{"$f":"0+$B$21","v":0}]
["shifted t, P",0,null,{"$f":"5/60","v":8.3333333333333329E-2},8.3333333333333329E-2,8.3333333333333329E-2,33.012713678990892,{"$f":"4.64022753148704+$B$15","v":4.6402275314870396},{"$f":"5/60","v":8.3333333333333329E-2},8.3333333333333329E-2,8.3333333333333329E-2,31.279304057325458,{"$f":"0.770515678106081+$B$18","v":0.77051567810608101},{"$f":"5/60","v":8.3333333333333329E-2},8.3333333333333329E-2,8.3333333333333329E-2,"−",{"$f":"1.59566633943817+$B$21","v":1.59566633943817}]
["shifted [P] (mM)",0,null,{"$f":"10/60","v":0.16666666666666666},0.16666666666666666,0.16666666666666666,29.850747960568196,{"$f":"7.94002544096177+$B$15","v":7.9400254409617697},{"$f":"10/60","v":0.16666666666666666},0.16666666666666666,0.16666666666666666,29.275788567115136,{"$f":"1.48085149846829+$B$18","v":1.4808514984682899},{"$f":"10/60","v":0.16666666666666666},0.16666666666666666,0.16666666666666666,"−",{"$f":"2.07301567122766+$B$21","v":2.07301567122766}]
["shifted t, SM",0,null,{"$f":"15/60","v":0.25},0.25,0.25,27.661923737658789,{"$f":"9.89118285517372+$B$15","v":9.8911828551737209},{"$f":"15/60","v":0.25},0.25,0.25,28.190274978874349,{"$f":"2.17757611076204+$B$18","v":2.1775761107620402},{"$f":"15/60","v":0.25},0.25,0.25,"−",{"$f":"1.97814406258446+$B$21","v":1.97814406258446}]
["shifted t, P",0,null,{"$f":"30/60","v":0.5},0.5,0.5,23.636793314974359,{"$f":"13.4963554624148+$B$15","v":13.496355462414799},{"$f":"30/60","v":0.5},0.5,0.5,26.048242699100957,{"$f":"4.08937292449813+$B$18","v":4.0893729244981296},{"$f":"30/60","v":0.5},0.5,0.5,"−",{"$f":"2.11784426911133+$B$21","v":2.1178442691113299}]
["shifted [P] (mM)",0,null,{"$f":"45/60","v":0.75},0.75,0.75,20.907921238272294,{"$f":"15.919531600468+$B$15","v":15.919531600468},{"$f":"45/60","v":0.75},0.75,0.75,23.6581284263215,{"$f":"5.82828906566224+$B$18","v":5.8282890656622399},{"$f":"45/60","v":0.75},0.75,0.75,"−",{"$f":"2.12188653080573+$B$21","v":2.12188653080573}]
["shifted t, SM",0,null,{"$f":"60/60","v":1},1,1,19.143726726730371,{"$f":"17.7070200452223+$B$15","v":17.707020045222301},{"$f":"60/60","v":1},1,1,22.241662114792202,{"$f":"7.17396994407527+$B$18","v":7.17396994407527},{"$f":"60/60","v":1},1,1,"−",{"$f":"2.14781605621264+$B$21","v":2.14781605621264}]
["shifted t, P",0,null,{"$f":"90/60","v":1.5},1.5,1.5,16.583226188360026,{"$f":"19.7496237607801+$B$15","v":19.7496237607801},{"$f":"90/60","v":1.5},1.5,1.5,19.904832944475029,{"$f":"9.35289354436681+$B$18","v":9.3528935443668093},{"$f":"90/60","v":1.5},1.5,1.5,"−",{"$f":"2.1624142364294+$B$21","v":2.1624142364294001}]
["shifted [P] (mM)",0,null,{"$f":"120/60","v":2},2,2,14.959105325579506,{"$f":"21.5721835581692+$B$15","v":21.572183558169201},{"$f":"120/60","v":2},2,2,18.630806444804499,{"$f":"11.2777918038885+$B$18","v":11.277791803888499},{"$f":"120/60","v":2},2,2,"−",{"$f":"2.1824949877907+$B$21","v":2.1824949877907001}]
["shifted t, SM",0,null,{"$f":"180/60","v":3},3,3,12.279723924497031,{"$f":"23.1399614156429+$B$15","v":23.139961415642901},{"$f":"180/60","v":3},3,3,16.761766045737236,{"$f":"13.7573027020047+$B$18","v":13.757302702004701},{"$f":"180/60","v":3},3,3,"−",{"$f":"2.21101157122501+$B$21","v":2.21101157122501}]
["shifted t, P",0,null,{"$f":"240/60","v":4},4,4,10.867930025337103,{"$f":"24.5783525304974+$B$15","v":24.578352530497401},{"$f":"240/60","v":4},4,4,14.773597909409295,{"$f":"15.646159116565+$B$18","v":15.646159116565},{"$f":"240/60","v":4},4,4,"−",{"$f":"2.18428205684048+$B$21","v":2.1842820568404799}]
["shifted [P] (mM)",0,null,{"$f":"300/60","v":5},5,5,9.7216494783132603,{"$f":"25.7954875433428+$B$15","v":25.795487543342801},{"$f":"300/60","v":5},5,5,13.860750679628637,{"$f":"17.1724971590598+$B$18","v":17.172497159059802},{"$f":"300/60","v":5},5,5,"−",{"$f":"2.24104021579839+$B$21","v":2.2410402157983902}]
["shifted t, SM",0,null,{"$f":"360/60","v":6},6,6,8.4706104118205587,{"$f":"26.5917932166763+$B$15","v":26.591793216676301},{"$f":"360/60","v":6},6,6,13.247724692301112,{"$f":"18.2286753577817+$B$18","v":18.2286753577817},{"$f":"360/60","v":6},6,6,"−",{"$f":"2.16806779755539+$B$21","v":2.1680677975553899}]
["shifted t, P",0,null,{"$f":"420/60","v":7},7,7,7.7317773942057499,{"$f":"26.7328339446856+$B$15","v":26.732833944685598},{"$f":"420/60","v":7},7,7,12.495271420652474,{"$f":"18.8677107934504+$B$18","v":18.867710793450399},{"$f":"420/60","v":7},7,7,"−",{"$f":"2.21513924897239+$B$21","v":2.21513924897239}]
["shifted [P] (mM)",0,null,{"$f":"480/60","v":8},8,8,6.9523645978559871,{"$f":"27.170503233011+$B$15","v":27.170503233011001},{"$f":"480/60","v":8},8,8,12.293633824904989,{"$f":"19.4435656251641+$B$18","v":19.443565625164101},{"$f":"480/60","v":8},8,8,"−",{"$f":"2.19354143478419+$B$21","v":2.1935414347841902}]
["shifted t, SM",0,null,"BL-138, BL-142",null,null,null,null,"BL-143, BL-144",null,null,null,null,"BL-145, BL-147"]
["shifted t, P",0,null,"  [SM]0","40 mM",null,null,null,"  [SM]0","40 mM",null,null,null,"  [SM]0","40 mM"]
["shifted [P] (mM)",0,null,"  [PhCO2H]0","56 mM",null,null,null,"  [PhCO2H]0","56 mM",null,null,null,"  [PhCO2H]0","56 mM"]
["shifted t, SM",0,null,"  [PhCONHBr]0","56 mM",null,null,null,"  [PhCONHBr]0","56 mM",null,null,null,"  [PhCONHBr]0","56 mM"]
["shifted t, P",0,null,"  [(DHQD)2PHAL]0","8 mM",null,null,null,"  [(DHQD)2PHAL]0","8 mM",null,null,null,"  [(DHQD)2PHAL]0","8 mM"]
["shifted [P] (mM)",0,null,"  [(4-Tol)2CO]0","40 mM","← internal standard",null,null,"  [(4-Tol)2CO]0","40 mM","← internal standard",null,null,"  [(4-Tol)2CO]0","40 mM","← internal standard"]
["shifted t, SM",0,null,"  [P]0 (83:17 er)","0 mM",null,null,null,"  [P]0 (83:17 er)","0 mM",null,null,null,"  [P]0 (83:17 er)","0 mM"]
["shifted t, P",0,null,"  [PhCONH2]0","0 mM",null,null,null,"  [PhCONH2]0","0 mM",null,null,null,"  [PhCONH2]0","0 mM",null,null,"2-pyrrolidone"]
["shifted [P] (mM)",0,null,"  [MeCONHMe]0","40 mM",null,null,null,"  [MeCONH2]0","40 mM",null,null,null,"  [2-pyrrolidone]0","40 mM"]
["shifted t, SM",0]
["shifted t, P",0,null,"Experiment 17",null,null,null,null,"Experiment 18",null,null,null,null,"Experiment 19"]
["shifted [P] (mM)",0,null,"t (hours)","shifted t, SM","shifted t, P","[SM] (mM)","[P] (mM)","t (hours)","shifted t, SM","shifted t, P","[SM] (mM)","[P] (mM)","t (hours)","shifted t, SM","shifted t, P","[SM] (mM)","[P] (mM)"]
["shifted t, SM",0,null,{"$f":"0/60","v":0},{"$f":"$B$22+D40","v":0},{"$f":"$B$23+D40","v":0},39.856278430669711,{"$f":"0+$B$24","v":0},{"$f":"0/60","v":0},{"$f":"$B$25+I40","v":0},{"$f":"$B$26+I40","v":0},40.548168792176853,{"$f":"0+$B$27","v":0},{"$f":"0/60","v":0},{"$f":"$B$28+N40","v":0},{"$f":"$B$29+N40","v":0},40.817831003220391,{"$f":"0+$B$30","v":0}]
["shifted t, P",0,null,{"$f":"5/60","v":8.3333333333333329E-2},8.3333333333333329E-2,8.3333333333333329E-2,36.232452135530984,{"$f":"3.28452839208757+$B$24","v":3.2845283920875699},{"$f":"5/60","v":8.3333333333333329E-2},8.3333333333333329E-2,8.3333333333333329E-2,39.894891517339474,{"$f":"0.8091545549502+$B$27","v":0.80915455495019994},{"$f":"5/60","v":8.3333333333333329E-2},8.3333333333333329E-2,8.3333333333333329E-2,40.671649344843729,{"$f":"0.13941256166032+$B$30","v":0.13941256166032001}]
["shifted [P] (mM)",0,null,{"$f":"10/60","v":0.16666666666666666},0.16666666666666666,0.16666666666666666,33.005694293325767,{"$f":"4.76980955985665+$B$24","v":4.7698095598566503},{"$f":"10/60","v":0.16666666666666666},0.16666666666666666,0.16666666666666666,38.577672658176468,{"$f":"1.65412142521324+$B$27","v":1.6541214252132399},{"$f":"10/60","v":0.16666666666666666},0.16666666666666666,0.16666666666666666,41.007591535377728,{"$f":"0.544020227805507+$B$30","v":0.54402022780550696}]
["shifted t, SM",0,null,{"$f":"15/60","v":0.25},0.25,0.25,29.419280106066726,{"$f":"7.72831535614047+$B$24","v":7.7283153561404703},{"$f":"15/60","v":0.25},0.25,0.25,37.601591653749814,{"$f":"2.39757919861184+$B$27","v":2.3975791986118402},{"$f":"15/60","v":0.25},0.25,0.25,40.415901575164568,{"$f":"0.651830452775294+$B$30","v":0.65183045277529394}]
["shifted t, P",0,null,{"$f":"30/60","v":0.5},0.5,0.5,27.407000023899812,{"$f":"11.7705560042485+$B$24","v":11.770556004248499},{"$f":"30/60","v":0.5},0.5,0.5,34.894627419464634,{"$f":"4.63091446201174+$B$27","v":4.6309144620117397},{"$f":"30/60","v":0.5},0.5,0.5,38.965185244413746,{"$f":"1.36165363582732+$B$30","v":1.3616536358273199}]
["shifted [P] (mM)",0,null,{"$f":"45/60","v":0.75},0.75,0.75,24.627485159776342,{"$f":"14.2004297195647+$B$24","v":14.200429719564699},{"$f":"45/60","v":0.75},0.75,0.75,32.65210440841696,{"$f":"6.39930271166508+$B$27","v":6.3993027116650802},{"$f":"45/60","v":0.75},0.75,0.75,37.63723907155677,{"$f":"2.02330450995503+$B$30","v":2.0233045099550302}]
["shifted t, SM",0,null,{"$f":"60/60","v":1},1,1,21.816474518342581,{"$f":"16.0579312276991+$B$24","v":16.0579312276991},{"$f":"60/60","v":1},1,1,31.134990525974004,{"$f":"7.95772576849829+$B$27","v":7.9577257684982898},{"$f":"60/60","v":1},1,1,37.306204150356088,{"$f":"2.86566387771657+$B$30","v":2.8656638777165702}]
["shifted t, P",0,null,{"$f":"90/60","v":1.5},1.5,1.5,19.604752828037121,{"$f":"18.7604902625116+$B$24","v":18.760490262511599},{"$f":"90/60","v":1.5},1.5,1.5,28.192849664382123,{"$f":"10.2044830170099+$B$27","v":10.204483017009901},{"$f":"90/60","v":1.5},1.5,1.5,35.387835352504467,{"$f":"4.14402490461277+$B$30","v":4.1440249046127704}]
["shifted [P] (mM)",0,null,{"$f":"120/60","v":2},2,2,17.764632294608088,{"$f":"20.3525136573852+$B$24","v":20.352513657385199},{"$f":"120/60","v":2},2,2,26.238277129577416,{"$f":"12.2239838670456+$B$27","v":12.2239838670456},{"$f":"120/60","v":2},2,2,34.363972317381254,{"$f":"5.37048594427565+$B$30","v":5.3704859442756501}]
["shifted t, SM",0,null,{"$f":"180/60","v":3},3,3,14.834089693448366,{"$f":"22.2937693485648+$B$24","v":22.293769348564801},{"$f":"180/60","v":3},3,3,22.903240267198012,{"$f":"14.7027868732005+$B$27","v":14.7027868732005},{"$f":"180/60","v":3},3,3,31.7663595162579,{"$f":"7.30616901909801+$B$30","v":7.30616901909801}]
["shifted t, P",0,null,{"$f":"240/60","v":4},4,4,13.036393521054118,{"$f":"24.095947812435+$B$24","v":24.095947812435},{"$f":"240/60","v":4},4,4,20.334076505100526,{"$f":"16.1565530145294+$B$27","v":16.156553014529401},{"$f":"240/60","v":4},4,4,30.432816644378001,{"$f":"8.51448889774638+$B$30","v":8.5144888977463804}]
["shifted [P] (mM)",0,null,{"$f":"300/60","v":5},5,5,11.497811590681648,{"$f":"25.151963062449+$B$24","v":25.151963062448999},{"$f":"300/60","v":5},5,5,18.959187700873308,{"$f":"17.7736301662332+$B$27","v":17.7736301662332},{"$f":"300/60","v":5},5,5,28.672931413122015,{"$f":"9.57606943795279+$B$30","v":9.5760694379527909}]
["shifted t, SM",0,null,{"$f":"360/60","v":6},6,6,10.266466790315651,{"$f":"26.3163126383557+$B$24","v":26.316312638355701},{"$f":"360/60","v":6},6,6,17.65179257698577,{"$f":"19.0398985514743+$B$27","v":19.039898551474302},{"$f":"360/60","v":6},6,6,27.868835900959361,{"$f":"10.4666989838859+$B$30","v":10.4666989838859}]
["shifted t, P",0,null,{"$f":"420/60","v":7},7,7,9.3267845421283315,{"$f":"26.8876997760648+$B$24","v":26.8876997760648},{"$f":"420/60","v":7},7,7,16.531922258334539,{"$f":"20.0251426433911+$B$27","v":20.025142643391099},{"$f":"420/60","v":7},7,7,26.980646010264699,{"$f":"10.9922895324663+$B$30","v":10.9922895324663}]
["shifted [P] (mM)",0,null,{"$f":"480/60","v":8},8,8,8.6335329894219583,{"$f":"27.2928740627149+$B$24","v":27.292874062714901},{"$f":"480/60","v":8},8,8,15.639425417185912,{"$f":"20.5890916280019+$B$27","v":20.589091628001899},{"$f":"480/60","v":8},8,8,26.361752890356787,{"$f":"11.532051316567+$B$30","v":11.532051316566999}]
["shifted t, SM",0,null,"BL-149, BL-150",null,null,null,null,"BL-151, BL-155",null,null,null,null,"BL-077, BL-078 + BL-154, BL-165"]
["shifted t, P",0,null,"  [SM]0","40 mM",null,null,null,"  [SM]0","40 mM",null,null,null,"  [SM]0","40 mM"]
["shifted [P] (mM)",0,null,"  [PhCO2H]0","56 mM",null,null,null,"  [PhCO2H]0","56 mM",null,null,null,"  [PhCO2H]0","56 mM"]
[null,null,null,"  [PhCONHBr]0","56 mM",null,null,null,"  [PhCONHBr]0","56 mM",null,null,null,"  [PhCONHBr]0","56 mM"]
[null,null,null,"  [(DHQD)2PHAL]0","8 mM",null,null,null,"  [(DHQD)2PHAL]0","8 mM",null,null,null,"  [(DHQD)2PHAL]0","8 mM"]
[null,null,null,"  [(4-Tol)2CO]0","40 mM","← internal standard",null,null,"  [(4-Tol)2CO]0","40 mM","← internal standard",null,null,"  [(4-Tol)2CO]0","40 mM","← internal standard"]
[null,null,null,"  [P]0 (83:17 er)","0 mM",null,null,null,"  [P]0 (83:17 er)","0 mM",null,null,null,"  [P]0 (83:17 er)","0 mM"]
[null,null,null,"  [PhCONH2]0","0 mM",null,null,null,"  [PhCONH2]0","0 mM",null,null,null,"  [PhCONH2]0","0 mM"]
[null,null,null,"  [(S)-PhCONHCH(Me)Ph]0",null,"40 mM",null,null,"  [(R)-PhCONHCH(Me)Ph]0",null,"40 mM"]
[]
[null,null,null,"Experiment 20",null,null,null,null,"Experiment 21",null,null,null,null,"Experiment 2"]
[null,null,null,"t (hours)","shifted t, SM","shifted t, P","[SM] (mM)","[P] (mM)","t (hours)","shifted t, SM","shifted t, P","[SM] (mM)","[P] (mM)","t (hours)","shifted t, SM","shifted t, P","[SM] (mM)","[P] (mM)"]
[null,null,null,{"$f":"0/60","v":0},{"$f":"D67+$B$31","v":0},{"$f":"D67+$B$32","v":0},40.024967197169303,{"$f":"0+$B$33","v":0},{"$f":"0/60","v":0},{"$f":"I67+$B$34","v":0},{"$f":"I67+$B$35","v":0},39.240284633938941,{"$f":"0+$B$36","v":0},{"$f":"0/60","v":0},{"$f":"N67+$B$37","v":0},{"$f":"N67+$B$38","v":0},40.816842943004687,{"$f":"0+$B$39","v":0}]
[null,null,null,{"$f":"5/60","v":8.3333333333333329E-2},8.3333333333333329E-2,8.3333333333333329E-2,36.517390579968371,{"$f":"4.40605447404791+$B$33","v":4.4060544740479104},{"$f":"2.5/60","v":4.1666666666666664E-2},4.1666666666666664E-2,4.1666666666666664E-2,36.415912557017762,{"$f":"3.53890800311826+$B$36","v":3.53890800311826},{"$f":"5/60","v":8.3333333333333329E-2},8.3333333333333329E-2,8.3333333333333329E-2,null,{"$f":"4.8722916197291+$B$39","v":4.8722916197290997}]
[null,null,null,{"$f":"10/60","v":0.16666666666666666},0.16666666666666666,0.16666666666666666,31.384558026808911,{"$f":"7.55801652397383+$B$33","v":7.5580165239738299},{"$f":"7.5/60","v":0.125},0.125,0.125,null,{"$f":"7.06189821865721+$B$36","v":7.0618982186572099},{"$f":"10/60","v":0.16666666666666666},0.16666666666666666,0.16666666666666666,30.249003991882368,{"$f":"7.98686364686522+$B$39","v":7.9868636468652197}]
[null,null,null,{"$f":"15/60","v":0.25},0.25,0.25,29.675530892031322,{"$f":"9.57118564611791+$B$33","v":9.5711856461179092},{"$f":"12.5/60","v":0.20833333333333334},0.20833333333333334,0.20833333333333334,29.982086707152327,{"$f":"9.42586848021899+$B$36","v":9.4258684802189894},{"$f":"15/60","v":0.25},0.25,0.25,28.716789863002603,{"$f":"9.91714930260114+$B$39","v":9.9171493026011408}]
[null,null,null,{"$f":"30/60","v":0.5},0.5,0.5,25.229526677175489,{"$f":"13.6495181387023+$B$33","v":13.6495181387023},{"$f":"22.5/60","v":0.375},0.375,0.375,27.87426627123947,{"$f":"13.0211001318258+$B$36","v":13.021100131825801},{"$f":"30/60","v":0.5},0.5,0.5,24.968848211335601,{"$f":"13.9305049151336+$B$39","v":13.9305049151336}]
[null,null,null,{"$f":"45/60","v":0.75},0.75,0.75,22.767253130570616,{"$f":"16.2704303935926+$B$33","v":16.270430393592601},{"$f":"37.5/60","v":0.625},0.625,0.625,23.67870787031223,{"$f":"15.8963400406311+$B$36","v":15.896340040631101},{"$f":"45/60","v":0.75},0.75,0.75,21.955423649271772,{"$f":"16.4196252741745+$B$39","v":16.4196252741745}]
[null,null,null,{"$f":"60/60","v":1},1,1,20.460713113104632,{"$f":"18.0910174193688+$B$33","v":18.0910174193688},{"$f":"52.5/60","v":0.875},0.875,0.875,21.772255909904423,{"$f":"17.5884944268865+$B$36","v":17.588494426886498},{"$f":"60/60","v":1},1,1,19.687438747341893,{"$f":"18.214393484379+$B$39","v":18.214393484378999}]
[null,null,null,{"$f":"90/60","v":1.5},1.5,1.5,17.796141659918195,{"$f":"20.1934936948495+$B$33","v":20.193493694849501},{"$f":"75/60","v":1.25},1.25,1.25,19.046603682593727,{"$f":"19.8504896772099+$B$36","v":19.8504896772099},{"$f":"90/60","v":1.5},1.5,1.5,17.566718892760033,{"$f":"20.5164503232919+$B$39","v":20.516450323291899}]
[null,null,null,{"$f":"120/60","v":2},2,2,15.811082475502644,{"$f":"21.9213119733226+$B$33","v":21.921311973322599},{"$f":"105/60","v":1.75},1.75,1.75,16.569542595991567,{"$f":"21.6468113646537+$B$36","v":21.646811364653701},{"$f":"120/60","v":2},2,2,15.385963590229281,{"$f":"21.942237141525+$B$39","v":21.942237141524998}]
[null,null,null,{"$f":"180/60","v":3},3,3,13.057832169204309,{"$f":"24.0044204634382+$B$33","v":24.004420463438201},{"$f":"150/60","v":2.5},2.5,2.5,14.183486477523225,{"$f":"23.7469460017501+$B$36","v":23.7469460017501},{"$f":"180/60","v":3},3,3,12.775042298696738,{"$f":"24.0745651746078+$B$39","v":24.074565174607802}]
[null,null,null,{"$f":"240/60","v":4},4,4,11.215164726638941,{"$f":"25.9114773143358+$B$33","v":25.911477314335801},{"$f":"210/60","v":3.5},3.5,3.5,12.326063484617439,{"$f":"25.3678665977256+$B$36","v":25.367866597725602},{"$f":"240/60","v":4},4,4,11.451570375940928,{"$f":"25.7153980376127+$B$39","v":25.715398037612701}]
[null,null,null,{"$f":"300/60","v":5},5,5,9.9587316340564325,{"$f":"26.631713910571+$B$33","v":26.631713910571001},{"$f":"270/60","v":4.5},4.5,4.5,10.673078955299776,{"$f":"26.5725895163774+$B$36","v":26.572589516377398},{"$f":"300/60","v":5},5,5,10.105467801823426,{"$f":"26.7632191988612+$B$39","v":26.763219198861201}]
[null,null,null,{"$f":"360/60","v":6},6,6,8.7376996386724013,{"$f":"27.0571549405196+$B$33","v":27.057154940519599},{"$f":"330/60","v":5.5},5.5,5.5,9.2415248515230708,{"$f":"27.1453503372904+$B$36","v":27.145350337290399},{"$f":"360/60","v":6},6,6,9.4608639984620702,{"$f":"27.5410927735301+$B$39","v":27.541092773530099}]
[null,null,null,{"$f":"420/60","v":7},7,7,7.8159964527822945,{"$f":"27.7754675916512+$B$33","v":27.7754675916512},{"$f":"390/60","v":6.5},6.5,6.5,8.3398950101495668,{"$f":"27.9409361103195+$B$36","v":27.940936110319502},{"$f":"420/60","v":7},7,7,8.7617685941674388,{"$f":"28.041083434127+$B$39","v":28.041083434127}]
[null,null,null,{"$f":"480/60","v":8},8,8,7.3802407747838537,{"$f":"28.128175786348+$B$33","v":28.128175786347999},{"$f":"450/60","v":7.5},7.5,7.5,7.6360421211817791,{"$f":"28.6409233038841+$B$36","v":28.640923303884101},{"$f":"480/60","v":8},8,8,7.7439789268805157,{"$f":"28.5462495980188+$B$39","v":28.5462495980188}]
[null,null,null,null,null,null,null,null,{"$f":"510/60","v":8.5},8.5,8.5,7.1202463271192284,{"$f":"28.886705991871+$B$36","v":28.886705991871001}]
[null,null,null,"BL-156, BL-158 − SM profiles less reproducible",null,null,null,null,"BL-157, BL-159 − SM profiles less reproducible",null,null,null,null,"BL-215, BL-216"]
[null,null,null,"  [SM]0","40 mM",null,null,null,"  [SM]0","40 mM",null,null,null,"  [SM]0","40 mM"]
[null,null,null,"  [PhCO2H]0","56 mM",null,null,null,"  [PhCO2H]0","56 mM",null,null,null,"  [PhCO2H]0","56 mM"]
[null,null,null,"  [PhCONHBr]0","56 mM",null,null,null,"  [PhCONHBr]0","56 mM",null,null,null,"  [PhCONHBr]0","56 mM"]
[null,null,null,"  [(DHQD)2PHAL]0","8 mM",null,null,null,"  [(DHQD)2PHAL]0","8 mM",null,null,null,"  [(DHQD)2PHAL]0","8 mM"]
[null,null,null,"  [(4-Tol)2CO]0","40 mM","← internal standard",null,null,"  [(4-Tol)2CO]0","40 mM","← internal standard",null,null,"  [(4-Tol)2CO]0","40 mM","← internal standard"]
[null,null,null,"  [P]0 (83:17 er)","0 mM",null,null,null,"  [P]0 (83:17 er)","0 mM",null,null,null,"  [P]0 (83:17 er)","0 mM"]
[null,null,null,"  [PhCONH2]0","0 mM",null,null,null,"  [PhCONH2]0","0 mM",null,null,null,"  [PhCONH2]0","0 mM"]
[null,null,null,"  [(S)-5-isopropylhydantoin]0",null,"40 mM",null,null,"  [(R)-5-isopropylhydantoin]0",null,"40 mM",null,null,"  [PhCONH(t-Bu)]0",null,"40 mM"]
[]
[null,null,null,"Experiment 22",null,null,null,null,"Experiment 23",null,null,null,null,"Experiment 34"]
[null,null,null,"t (hours)","shifted t, SM","shifted t, P","[SM] (mM)","[P] (mM)","t (hours)","shifted t, SM","shifted t, P","[SM] (mM)","[P] (mM)","t (hours)","shifted t, SM","shifted t, P","[SM] (mM)","[P] (mM)"]
[null,null,null,{"$f":"0/60","v":0},{"$f":"D95+$B$40","v":0},{"$f":"D95+$B$41","v":0},"−",{"$f":"0+$B$42","v":0},{"$f":"0/60","v":0},{"$f":"I95+$B$43","v":0},{"$f":"I95+$B$44","v":0},"−",{"$f":"0+$B$45","v":0},{"$f":"0/60","v":0},{"$f":"N95+$B$46","v":0},{"$f":"N95+$B$47","v":0},40.225766472703953,{"$f":"0+$B$48","v":0}]
[null,null,null,{"$f":"5/60","v":8.3333333333333329E-2},{"$f":"D96+$B$40","v":8.3333333333333329E-2},{"$f":"D96+$B$41","v":8.3333333333333329E-2},"−",{"$f":"1.97514836608338+$B$42","v":1.97514836608338},{"$f":"2.5/60","v":4.1666666666666664E-2},{"$f":"I96+$B$43","v":4.1666666666666664E-2},{"$f":"I96+$B$44","v":4.1666666666666664E-2},"−",{"$f":"0.830009980989903+$B$45","v":0.83000998098990297},{"$f":"5/60","v":8.3333333333333329E-2},{"$f":"N96+$B$46","v":8.3333333333333329E-2},{"$f":"N96+$B$47","v":8.3333333333333329E-2},34.418774970501325,{"$f":"4.84586642989263+$B$48","v":4.8458664298926299}]
[null,null,null,{"$f":"10/60","v":0.16666666666666666},0.16666666666666666,0.16666666666666666,"−",{"$f":"3.46488152338613+$B$42","v":3.4648815233861301},{"$f":"7.5/60","v":0.125},0.125,0.125,"−",{"$f":"2.77925282111306+$B$45","v":2.7792528211130598},{"$f":"10/60","v":0.16666666666666666},0.16666666666666666,0.16666666666666666,31.669176070690916,{"$f":"7.80087723540032+$B$48","v":7.8008772354003204}]
[null,null,null,{"$f":"15/60","v":0.25},0.25,0.25,"−",{"$f":"4.78918444599654+$B$42","v":4.7891844459965398},{"$f":"12.5/60","v":0.20833333333333334},0.20833333333333334,0.20833333333333334,"−",{"$f":"4.35756459198873+$B$45","v":4.35756459198873},{"$f":"15/60","v":0.25},0.25,0.25,29.172181570111505,{"$f":"9.99281270766975+$B$48","v":9.9928127076697493}]
[null,null,null,{"$f":"30/60","v":0.5},0.5,0.5,"−",{"$f":"7.96621056974653+$B$42","v":7.9662105697465302},{"$f":"22.5/60","v":0.375},0.375,0.375,"−",{"$f":"6.74827267007714+$B$45","v":6.7482726700771396},{"$f":"30/60","v":0.5},0.5,0.5,25.087394815255621,{"$f":"14.0510893934894+$B$48","v":14.0510893934894}]
[null,null,null,{"$f":"45/60","v":0.75},0.75,0.75,"−",{"$f":"10.4562890819797+$B$42","v":10.456289081979699},{"$f":"37.5/60","v":0.625},0.625,0.625,"−",{"$f":"9.38628074056732+$B$45","v":9.3862807405673205},{"$f":"45/60","v":0.75},0.75,0.75,22.254726750428617,{"$f":"16.5348354966185+$B$48","v":16.534835496618498}]
[null,null,null,{"$f":"60/60","v":1},1,1,"−",{"$f":"12.1201452364759+$B$42","v":12.120145236475899},{"$f":"52.5/60","v":0.875},0.875,0.875,"−",{"$f":"11.4505005743325+$B$45","v":11.4505005743325},{"$f":"60/60","v":1},1,1,20.527524427736122,{"$f":"18.2085441153471+$B$48","v":18.208544115347099}]
[null,null,null,{"$f":"90/60","v":1.5},1.5,1.5,"−",{"$f":"14.7629209107634+$B$42","v":14.7629209107634},{"$f":"75/60","v":1.25},1.25,1.25,"−",{"$f":"13.7221909419514+$B$45","v":13.7221909419514},{"$f":"90/60","v":1.5},1.5,1.5,17.965528533347676,{"$f":"20.4747782617207+$B$48","v":20.474778261720701}]
[null,null,null,{"$f":"120/60","v":2},2,2,"−",{"$f":"16.6640373388687+$B$42","v":16.664037338868699},{"$f":"105/60","v":1.75},1.75,1.75,"−",{"$f":"15.8872894291686+$B$45","v":15.8872894291686},{"$f":"120/60","v":2},2,2,16.134678364579898,{"$f":"22.0763014499154+$B$48","v":22.076301449915398}]
[null,null,null,{"$f":"180/60","v":3},3,3,"−",{"$f":"19.0019525055702+$B$42","v":19.001952505570198},{"$f":"150/60","v":2.5},2.5,2.5,"−",{"$f":"17.9590842636313+$B$45","v":17.959084263631301},{"$f":"180/60","v":3},3,3,13.567751580782913,{"$f":"24.13989424158+$B$48","v":24.139894241579999}]
[null,null,null,{"$f":"240/60","v":4},4,4,"−",{"$f":"20.7213966009208+$B$42","v":20.721396600920801},{"$f":"210/60","v":3.5},3.5,3.5,"−",{"$f":"19.9722823602674+$B$45","v":19.9722823602674},{"$f":"240/60","v":4},4,4,11.673639576085613,{"$f":"25.7362242731391+$B$48","v":25.736224273139101}]
[null,null,null,{"$f":"300/60","v":5},5,5,"−",{"$f":"21.9414992027958+$B$42","v":21.9414992027958},{"$f":"270/60","v":4.5},4.5,4.5,"−",{"$f":"21.5162517482671+$B$45","v":21.516251748267099},{"$f":"300/60","v":5},5,5,10.383322755375053,{"$f":"26.3971655292344+$B$48","v":26.3971655292344}]
[null,null,null,{"$f":"360/60","v":6},6,6,"−",{"$f":"23.0807521230482+$B$42","v":23.0807521230482},{"$f":"330/60","v":5.5},5.5,5.5,"−",{"$f":"22.7522504949034+$B$45","v":22.7522504949034},{"$f":"360/60","v":6},6,6,9.3224857184783865,{"$f":"27.1633989360732+$B$48","v":27.1633989360732}]
[null,null,null,{"$f":"420/60","v":7},7,7,"−",{"$f":"23.8065523351197+$B$42","v":23.806552335119701},{"$f":"390/60","v":6.5},6.5,6.5,"−",{"$f":"23.5688343552172+$B$45","v":23.568834355217199},{"$f":"420/60","v":7},7,7,8.6749771546775492,{"$f":"27.9939308286365+$B$48","v":27.993930828636501}]
[null,null,null,{"$f":"480/60","v":8},8,8,"−",{"$f":"24.5253028354373+$B$42","v":24.525302835437301},{"$f":"450/60","v":7.5},7.5,7.5,"−",{"$f":"24.0713350812761+$B$45","v":24.0713350812761},{"$f":"480/60","v":8},8,8,8.0340006354183959,{"$f":"28.5299230014823+$B$48","v":28.529923001482299}]
[null,null,null,null,null,null,null,null,{"$f":"510/60","v":8.5},8.5,8.5,"−",{"$f":"24.7720975315427+$B$45","v":24.772097531542698},{"$f":"540/60","v":9},9,9,7.5605672437317555,{"$f":"28.9233709850299+$B$48","v":28.923370985029901}]
[null,null,null,"BL-234, BL-235",null,null,null,null,"BL-410, BL-412",null,null,null,null,"BL-082, BL-083"]
[null,null,null,"  [SM]0","40 mM",null,null,null,"  [SM]0","40 mM",null,null,null,"  [SM]0","40 mM"]
[null,null,null,"  [PhCO2H]0","56 mM",null,null,null,"  [PhCO2H]0","56 mM",null,null,null,"  [PhCO2H]0","56 mM"]
[null,null,null,"  [PhCONHBr]0","56 mM",null,null,null,"  [PhCONHBr]0","56 mM",null,null,null,"  [PhCONHBr]0","56 mM"]
[null,null,null,"  [(DHQD)2PHAL]0","8 mM",null,null,null,"  [(DHQD)2PHAL]0","8 mM",null,null,null,"  [(DHQD)2PHAL]0","8 mM"]
[null,null,null,"  [(4-Tol)2CO]0","40 mM","← internal standard",null,null,"  [(4-Tol)2CO]0","40 mM","← internal standard",null,null,"  [(4-Tol)2CO]0","40 mM","← internal standard"]
[null,null,null,"  [P]0 (83:17 er)","0 mM",null,null,null,"  [P]0 (83:17 er)","0 mM",null,null,null,"  [P]0 (83:17 er)","0 mM"]
[null,null,null,"  [PhCONH2]0","0 mM",null,null,null,"  [PhCONH2]0","0 mM",null,null,null,"  [PhCONH2]0","40 mM"]
[null,null,null,"  [PhCONMe2]0","40 mM",null,null,null,"  [DMH]0","40 mM"]
[]
[null,null,null,"Experiment 35",null,null,null,null,"Experiment 46",null,null,null,null,"Experiment 6"]
[null,null,null,"t (hours)","shifted t, SM","shifted t, P","[SM] (mM)","[P] (mM)","t (hours)","shifted t, SM","shifted t, P","[SM] (mM)","[P] (mM)","t (hours)","shifted t, SM","shifted t, P","[SM] (mM)","[P] (mM)"]
[null,null,null,{"$f":"0/60","v":0},{"$f":"D123+$B$49","v":0},{"$f":"D123+$B$50","v":0},40.65526227098853,{"$f":"0+$B$51","v":0},{"$f":"0/60","v":0},{"$f":"I123+$B$52","v":0},{"$f":"I123+$B$53","v":0},40,{"$f":"0+B54","v":0},{"$f":"0/60","v":0},null,null,41.697904059331428,{"$f":"0","v":0}]
[null,null,null,{"$f":"2.5/60","v":4.1666666666666664E-2},{"$f":"D124+$B$49","v":4.1666666666666664E-2},{"$f":"D124+$B$50","v":4.1666666666666664E-2},37.682598295151124,{"$f":"2.41221335670263+$B$51","v":2.41221335670263},{"$f":"5/60","v":8.3333333333333329E-2},{"$f":"I124+$B$52","v":8.3333333333333329E-2},{"$f":"I124+$B$53","v":8.3333333333333329E-2},35.935833471444752,{"$f":"1.36498701566738+B54","v":1.36498701566738},{"$f":"5/60","v":8.3333333333333329E-2},null,null,39.187747667899764,{"$f":"1.46586054395403","v":1.46586054395403}]
[null,null,null,{"$f":"7.5/60","v":0.125},{"$f":"D125+$B$49","v":0.125},{"$f":"D125+$B$50","v":0.125},30.87621509052925,{"$f":"6.37598301945415+$B$51","v":6.37598301945415},{"$f":"10/60","v":0.16666666666666666},0.16666666666666666,0.16666666666666666,34.419029369085948,{"$f":"2.43793308421968+B54","v":2.4379330842196798},{"$f":"10/60","v":0.16666666666666666},null,null,37.526179628956427,{"$f":"2.73722496075171","v":2.7372249607517101}]
[null,null,null,{"$f":"12.5/60","v":0.20833333333333334},0.20833333333333334,0.20833333333333334,30.16891772082753,{"$f":"8.81870528728344+$B$51","v":8.8187052872834393},{"$f":"15/60","v":0.25},0.25,0.25,33.230596867318866,{"$f":"3.43336904248904+B54","v":3.4333690424890402},{"$f":"15/60","v":0.25},null,null,36.098580014470876,{"$f":"3.856912236185","v":3.8569122361849999}]
[null,null,null,{"$f":"22.5/60","v":0.375},0.375,0.375,27.003856961104191,{"$f":"12.0486135452273+$B$51","v":12.048613545227299},{"$f":"30/60","v":0.5},0.5,0.5,30.44908206207759,{"$f":"5.89410239498386+B54","v":5.89410239498386},{"$f":"30/60","v":0.5},null,null,33.554292485101286,{"$f":"6.38245434559773","v":6.3824543455977301}]
[null,null,null,{"$f":"37.5/60","v":0.625},0.625,0.625,23.946907549793778,{"$f":"15.0199294158472+$B$51","v":15.0199294158472},{"$f":"45/60","v":0.75},0.75,0.75,28.093610795346148,{"$f":"7.62288711980502+B54","v":7.6228871198050197},{"$f":"45/60","v":0.75},null,null,31.05782538184895,{"$f":"8.33415954417405","v":8.3341595441740495}]
[null,null,null,{"$f":"52.5/60","v":0.875},0.875,0.875,21.755468873222888,{"$f":"17.1235409250085+$B$51","v":17.123540925008498},{"$f":"60/60","v":1},1,1,26.024661776407527,{"$f":"9.10649743047891+B54","v":9.1064974304789104},{"$f":"60/60","v":1},null,null,29.300811183651298,{"$f":"9.7864212309207","v":9.7864212309207002}]
[null,null,null,{"$f":"75/60","v":1.25},1.25,1.25,18.860366781603318,{"$f":"19.1412018852052+$B$51","v":19.141201885205199},{"$f":"90/60","v":1.5},1.5,1.5,22.594418601543804,{"$f":"11.4163215674835+B54","v":11.4163215674835},{"$f":"90/60","v":1.5},null,null,26.55908049984712,{"$f":"12.1777665170435","v":12.1777665170435}]
[null,null,null,{"$f":"105/60","v":1.75},1.75,1.75,16.852971866294457,{"$f":"20.8961042445122+$B$51","v":20.896104244512198},{"$f":"120/60","v":2},2,2,20.489267920045958,{"$f":"13.1646442272394+B54","v":13.1646442272394},{"$f":"120/60","v":2},null,null,24.278400434231678,{"$f":"13.9625057412563","v":13.962505741256299}]
[null,null,null,{"$f":"150/60","v":2.5},2.5,2.5,14.542714867148964,{"$f":"22.9613231650221+$B$51","v":22.961323165022101},{"$f":"180/60","v":3},3,3,17.876866697321407,{"$f":"15.476022574464+B54","v":15.476022574464},{"$f":"180/60","v":3},null,null,20.829659434853479,{"$f":"16.5273799558341","v":16.5273799558341}]
[null,null,null,{"$f":"210/60","v":3.5},3.5,3.5,12.5530606627891,{"$f":"24.5551955205173+$B$51","v":24.555195520517302},{"$f":"240/60","v":4},4,4,15.941191655915549,{"$f":"17.2679782988974+B54","v":17.2679782988974},{"$f":"240/60","v":4},null,null,18.922415270815009,{"$f":"18.0644946246226","v":18.064494624622601}]
[null,null,null,{"$f":"270/60","v":4.5},4.5,4.5,11.013540878020997,{"$f":"25.7768056950921+$B$51","v":25.776805695092101},{"$f":"300/60","v":5},5,5,13.960511960131083,{"$f":"18.2555267688858+B54","v":18.255526768885801},{"$f":"300/60","v":5},null,null,17.033075224406751,{"$f":"19.4005734588743","v":19.400573458874302}]
[null,null,null,{"$f":"330/60","v":5.5},5.5,5.5,9.6317819898407144,{"$f":"26.5252110619043+$B$51","v":26.525211061904301},{"$f":"360/60","v":6},6,6,12.373322020642929,{"$f":"19.3641303909224+B54","v":19.364130390922401},{"$f":"360/60","v":6},null,null,15.537320702970852,{"$f":"20.5110982233604","v":20.511098223360399}]
[null,null,null,{"$f":"390/60","v":6.5},6.5,6.5,8.7982993753646284,{"$f":"27.1720598569694+$B$51","v":27.172059856969401},{"$f":"420/60","v":7},7,7,11.286484876516043,{"$f":"20.0808191565254+B54","v":20.080819156525401},{"$f":"420/60","v":7},null,null,14.19979854902682,{"$f":"21.3190854228598","v":21.3190854228598}]
[null,null,null,{"$f":"450/60","v":7.5},7.5,7.5,7.9070020717445733,{"$f":"27.8225034523812+$B$51","v":27.822503452381198},{"$f":"480/60","v":8},8,8,10.154096443879574,{"$f":"20.5286292981081+B54","v":20.5286292981081},{"$f":"480/60","v":8},null,null,13.530106327772696,{"$f":"21.8962934690397","v":21.896293469039701}]
[null,null,null,{"$f":"510/60","v":8.5},8.5,8.5,7.3240995841999599,{"$f":"28.0697648081972+$B$51","v":28.069764808197199}]
[]
[]
[]
[]
[]
[]
[]
[]
[]
[]
[]
[]
[]
[]
[]
[]
[]
[]
[]
[]
[]
[]
[]
[]
[]
[]
[null,null,null,"Experiment 14",null,null,null,"Experiment 15",null,null,null,"Experiment 16"]
[null,null,null,"[P]n - [P]n-1","[SM]n-1 - [SM]n","subtraction","[SM]0 - [P]n - [SM]n","[P]n - [P]n-1","[SM]n-1 - [SM]n","subtraction","[SM]0 - [P]n - [SM]n","[P]n - [P]n-1","[SM]n-1 - [SM]n","subtraction","[SM]0 - [P]n - [SM]n"]
[null,null,null,{"$f":"H14-H13","v":4.6402275314870396},{"$f":"G13-G14","v":6.8008920766995118},{"$f":"E167-D167","v":2.1606645452124722},{"$f":"$G$13-(H13-$H$13)-G13","v":0},{"$f":"M14-M13","v":0.77051567810608101},{"$f":"L13-L14","v":8.6338712733166538},{"$f":"I167-H167","v":7.8633555952105727},{"$f":"$L$13-(M13-$M$13)-L13","v":0},{"$f":"R14-R13","v":1.59566633943817},"−","−"]
[null,null,null,3.2997979094747301,3.1619657184226959,-0.13783219105203415,2.1606645452124695,0.71033582036220888,2.0035154902103223,{"$f":"I168-H168","v":1.2931796698481133},7.8633555952105745,0.47734933178948991,"−","−"]
[null,null,null,1.9511574142119512,2.1888242229094068,0.2376668086974556,2.0228323541604389,0.69672461229375027,1.0855135882407865,0.38878897594703621,9.156535265058686,-9.4871608643199989E-2,"−","−"]
[null,null,null,3.6051726072410784,4.0251304226844304,0.41995781544335209,2.2604991628578937,1.9117968137360895,2.1420322797733924,0.23023546603730294,9.5453242410057229,0.13970020652686999,"−","−"]
[null,null,null,2.4231761380532006,2.7288720767020642,0.30569593864886357,2.6804569783012475,1.7389161411641103,2.3901142727794564,0.65119813161534612,9.7755597070430262,4.0422616944000289E-3,"−","−"]
[null,null,null,1.7874884447543007,1.7641945115419233,-2.3293933212377382E-2,2.9861529169501111,1.3456808784130301,1.4164663115292981,7.0785433116268059E-2,10.426757838658371,2.592952540691007E-2,"−","−"]
[null,null,null,2.0426037155577994,2.560500538370345,0.51789682281254557,2.9628589837377319,2.1789236002915393,2.3368291703171735,0.15790557002563421,10.497543271774642,1.459818021676007E-2,"−","−"]
[null,null,null,1.8225597973891006,1.6241208627805204,-0.1984389346085802,3.4807558065502775,1.9248982595216901,1.2740264996705299,-0.65087175985116019,10.655448841800276,2.0080751361299942E-2,"−","−"]
[null,null,null,1.5677778574737005,2.679381401082475,1.1116035436087746,3.2823168719416973,2.4795108981162013,1.8690403990672628,-0.61047049904893846,10.004577081949115,2.8516583434309961E-2,"−","−"]
[null,null,null,1.4383911148545003,1.4117938991599281,-2.6597215694572185E-2,4.3939204155504719,1.8888564145602995,1.9881681363279409,9.9311721767641359E-2,9.3941065829001751,-2.6729514384530084E-2,"−","−"]
[null,null,null,1.2171350128454002,1.1462805470238422,-7.0854465821557966E-2,4.3673231998558997,1.5263380424948014,0.9128472297806578,-0.61349081271414363,9.4934183046678147,5.6758158957910254E-2,"−","−"]
[null,null,null,0.79630567333349944,1.2510390664927016,0.45473339315920214,4.2964687340343417,1.0561781987218986,0.613025987327525,-0.44315221139437355,8.8799274919536728,-7.297241824300027E-2,"−","−"]
[null,null,null,0.14104072800929757,0.7388330176148088,0.59779228960551123,4.7512021271935438,0.63903543566869914,0.75245327164863873,0.1134178359799396,8.4367752805592993,4.7071451417000088E-2,"−","−"]
[null,null,null,0.43766928832540231,0.77941279634976279,0.34174350802436049,5.3489944167990551,0.575854831713702,0.20163759574748497,-0.37421723596621703,8.5501931165392389,-2.1597814188199838E-2,"−","−"]
[null,null,null,null,null,null,5.6907379248234156,null,null,null,8.1759758805730218]
[]
[null,null,null,"Experiment 17",null,null,null,"Experiment 18",null,null,null,"Experiment 19"]
[null,null,null,"[P]n - [P]n-1","[SM]n-1 - [SM]n","subtraction","[SM]0 - [P]n - [SM]n","[P]n - [P]n-1","[SM]n-1 - [SM]n","subtraction","[SM]0 - [P]n - [SM]n","[P]n - [P]n-1","[SM]n-1 - [SM]n","subtraction","[SM]0 - [P]n - [SM]n"]
[null,null,null,{"$f":"H41-H40","v":3.2845283920875699},{"$f":"G40-G41","v":3.623826295138727},{"$f":"E185-D185","v":0.33929790305115715},{"$f":"$G$40-(H40-$H$40)-G40","v":0},{"$f":"M41-M40","v":0.80915455495019994},{"$f":"L40-L41","v":0.65327727483737874},{"$f":"I185-H185","v":-0.1558772801128212},{"$f":"$L$40-(M40-$M$40)-L40","v":0},{"$f":"R41-R40","v":0.13941256166032001},{"$f":"Q40-Q41","v":0.14618165837666197},{"$f":"M185-L185","v":6.7690967163419602E-3},{"$f":"$Q$40-(R40-$R$40)-Q40","v":0}]
[null,null,null,1.4852811677690805,3.2267578422052168,{"$f":"E186-D186","v":1.7414766744361363},0.33929790305115404,0.84496687026303996,1.3172188591630061,{"$f":"I186-H186","v":0.47225198889996611},-0.15587728011281854,0.40460766614518695,{"$f":"Q41-Q42","v":-0.33594219053399854},{"$f":"M186-L186","v":-0.74054985667918549},{"$f":"$Q$40-(R41-$R$40)-Q41","v":6.7690967163400728E-3}]
[null,null,null,2.9585057962838199,3.5864141872590416,0.62790839097522166,2.080774577487297,0.74345777339860031,0.97608100442665346,0.23262323102805316,0.31637470878714424,0.10781022496978698,"−","−"]
[null,null,null,4.0422406481080291,2.0122800821669138,-2.0299605659411153,2.7086829684625151,2.2333352633998995,2.7069642342851807,0.47362897088528122,0.54899793981520162,0.70982318305202596,{"$f":"Q43-Q44","v":1.4507163307508222},0.74089314769879622,{"$f":"$Q$40-(R43-$R$40)-Q43","v":-0.2499010247194704}]
[null,null,null,2.4298737153161998,2.7795148641234704,0.3496411488072706,0.67872240252140159,1.7683882496533405,2.2425230110476733,0.47413476139433275,1.0226269107004811,0.66165087412771029,{"$f":"Q44-Q45","v":1.3279461728569757},0.66629529872926541,{"$f":"$Q$40-(R44-$R$40)-Q44","v":0.49099212297932837}]
[null,null,null,1.8575015081344013,2.8110106414337608,0.95350913329935949,1.0283635513286704,1.5584230568332096,1.5171138824429562,-4.1309174390253389E-2,1.4967616720948129,0.84235936776153997,{"$f":"Q45-Q46","v":0.33103492120068267},-0.51132444656085729,{"$f":"$Q$40-(R45-$R$40)-Q45","v":1.1572874217085882}]
[null,null,null,2.7025590348124986,2.2117216903054597,-0.49083734450703886,1.9818726846280299,2.246757248511611,2.9421408615918807,0.69538361308026975,1.455452497704556,1.2783610268962002,"−","−"]
[null,null,null,1.5920233948735998,1.8401205334290331,0.24809713855543336,1.491035340120991,2.0195008500356995,1.9545725348047078,-6.4928315230991629E-2,2.1508361107848302,1.2264610396628797,{"$f":"Q47-Q48","v":1.0238630351232132},-0.20259800453966648,{"$f":"$Q$40-(R47-$R$40)-Q47","v":1.2859707461031533}]
[null,null,null,1.9412556911796024,2.930542601159722,0.98928690998011959,1.7391324786764244,2.4788030061548998,3.335036862379404,0.85623385622450421,2.0859077955538368,1.9356830748223599,2.5976128011233541,0.66192972630099423,1.0833727415634868]
[null,null,null,1.8021784638701988,1.7976961723942484,-4.4822914759503618E-3,2.728419388656544,1.4537661413289005,2.5691637620974852,1.1153976207685847,2.9421416517783392,1.2083198786483704,1.3335428718798994,0.12522299323152897,1.7453024678644837]
[null,null,null,1.0560152500139992,1.5385819303724695,0.48256668035847028,2.7239370971805936,1.6170771517037998,1.3748888042272185,-0.24218834747658136,4.0575392725469257,1.0615805402064105,1.7598852312559856,0.69830469104957515,1.8705254610960083]
[null,null,null,1.1643495759067015,1.2313448003659975,6.6995224459295954E-2,3.2065037775390639,1.2662683852411014,1.3073951238875381,4.1126738646436678E-2,3.8153509250703443,0.89062954593310906,0.80409551216265385,-8.653403377045521E-2,2.568830152145587]
[null,null,null,0.57138713770909888,0.93968224818731905,0.36829511047822017,3.2734990019983599,0.98524409191679752,1.1198703186512304,0.13462622673443292,3.856477663716781,0.5255905485804,0.8881898906946617,0.3625993421142617,2.4822961183751318]
[null,null,null,0.40517428665010158,0.69325155270637318,0.2880772660562716,3.64179411247658,0.5639489846107999,0.8924968411486276,0.3285478565378277,3.9911038904512139,0.53976178410069942,0.61889311990791285,7.9131335807213432E-2,2.8448954604893899]
[null,null,null,null,null,null,3.9298713785328516,null,null,null,4.3196517469890416,null,null,null,2.9240267962966051]
[]
[null,null,null,"Experiment 20",null,null,null,"Experiment 21",null,null,null,"Experiment 2"]
[null,null,null,"[P]n - [P]n-1","[SM]n-1 - [SM]n","subtraction","[SM]0 - [P]n - [SM]n","[P]n - [P]n-1","[SM]n-1 - [SM]n","subtraction","[SM]0 - [P]n - [SM]n","[P]n - [P]n-1","[SM]n-1 - [SM]n","subtraction","[SM]0 - [P]n - [SM]n"]
[null,null,null,{"$f":"H68-H67","v":4.4060544740479104},{"$f":"G67-G68","v":3.5075766172009324},{"$f":"E203-D203","v":-0.89847785684697801},{"$f":"$G$67-(H67-$H$67)-G67","v":0},{"$f":"M68-M67","v":3.53890800311826},{"$f":"L67-L68","v":2.8243720769211791},{"$f":"I203-H203","v":-0.71453592619708095},{"$f":"$L$67-(M67-$M$67)-L67","v":0},{"$f":"R68-R67","v":4.8722916197290997},{"$f":"Q67-Q68","v":40.816842943004687},{"$f":"M203-L203","v":35.94455132327559},{"$f":"$Q$67-(R67-$R$67)-Q67","v":0}]
[null,null,null,3.1519620499259196,5.1328325531594601,{"$f":"E204-D204","v":1.9808705032335405},-0.89847785684698067,3.5229902155389499,{"$f":"L68-L69","v":36.415912557017762},{"$f":"I204-H204","v":32.892922341478815},{"$f":"$L$67-(M68-$M$67)-L68","v":-0.71453592619707962},3.1145720271361199,-30.249003991882368,{"$f":"M204-L204","v":-33.363576019018488},35.94455132327559]
[null,null,null,2.0131691221440793,1.7090271347775889,-0.30414198736649034,1.082392646386559,2.3639702615617795,"−","−",null,1.9302856557359211,1.5322141288797653,-0.39807152685615588,2.5809753042571018]
[null,null,null,4.0783324925843907,4.446004214855833,0.36767172227144229,0.7782506590200704,3.5952316516068112,{"$f":"L70-L71","v":2.1078204359128563},-1.487411215693955,{"$f":"$L$67-(M70-$M$67)-L70","v":-0.16767055343237303},4.0133556125324592,3.7479416516670021,-0.2654139608654571,2.182903777400945]
[null,null,null,2.6209122548903014,2.4622735466048731,-0.15863870828542836,1.1459223812915162,2.8752399088053,4.19555840092724,1.32031849212194,-1.6550817691263298,2.4891203590408999,3.0134245620638289,0.52430420302292902,1.9174898165354861]
[null,null,null,1.8205870257761987,2.3065400174659842,0.48595299168978556,0.9872836730060861,1.6921543862553978,1.9064519604078072,0.21429757415240935,-0.33476327700439157,1.7947682102044986,2.2679849019298786,0.47321669172537995,2.4417940195584151]
[null,null,null,2.1024762754807007,2.6645714531864364,0.56209517770573569,1.4732366646958717,2.2619952503234018,2.7256522273106967,0.46365697698729491,-0.12046570285198044,2.3020568389129004,2.1207198545818606,-0.18133698433103973,2.9150107112837951]
[null,null,null,1.727818278473098,1.985059184415551,0.25724090594245297,2.0353318424016074,1.7963216874438004,2.4770610866021592,0.68073939915835879,0.34319127413531447,1.4257868182330995,2.180755302530752,0.75496848429765251,2.7336737269527553]
[null,null,null,2.0831084901156025,2.7532503062983356,0.67014181618273305,2.2925727483440603,2.1001346370963994,2.3860561184683426,0.28592148137194329,1.0239306732936733,2.1323280330828034,2.6109212915325433,0.47859325844973988,3.4886422112504079]
[null,null,null,1.9070568508976002,1.842667442565368,-6.4389408332232279E-2,2.9627145645267934,1.6209205959755018,1.8574229929057857,0.23650239693028396,1.3098521546656166,1.6408328630048992,1.3234719227558092,-0.31736094024909001,3.9672354697001477]
[null,null,null,0.72023659623519976,1.2564330925825082,0.53619649634730848,2.8983251561945611,1.2047229186517967,1.6529845293176635,0.44826161066586678,1.5463545515959005,1.0478211612484998,1.3461025741175021,0.29828141286900234,3.6498745294510577]
[null,null,null,0.42544102994859756,1.2210319953840312,0.79559096543543362,3.4345216525418696,0.5727608209130004,1.4315541037767048,0.85879328286370438,1.9946161622617673,0.77787357466889873,0.64460380336135614,-0.13326977130754258,3.9481559423200601]
[null,null,null,0.71831265113160114,0.9217031858901068,0.20339053475850566,4.2301126179773032,0.79558577302910294,0.90162984137350399,0.10604406834440105,2.8534094451254717,0.49999066059690023,0.69909540429463135,0.19910474369773112,3.8148861710125175]
[null,null,null,0.35270819469679893,0.43575567799844084,8.3047483301641911E-2,4.4335031527358089,0.69998719356459915,0.70385288896778775,3.8656954031885959E-3,2.9594535134698727,0.50516616389180058,1.0177896672869231,0.51262350339512253,4.0139909147102486]
[null,null,null,null,null,null,4.5165506360374508,null,null,null,2.9633192088730613,null,null,null,4.5266144181053711]
[]
[null,null,null,"Experiment 22",null,null,null,"Experiment 23",null,null,null,"Experiment 34"]
[null,null,null,"[P]n - [P]n-1","[SM]n-1 - [SM]n","subtraction","[SM]0 - [P]n - [SM]n","[P]n - [P]n-1","[SM]n-1 - [SM]n","subtraction","[SM]0 - [P]n - [SM]n","[P]n - [P]n-1","[SM]n-1 - [SM]n","subtraction","[SM]0 - [P]n - [SM]n"]
[null,null,null,{"$f":"H96-H95","v":1.97514836608338},"−","−",null,{"$f":"M96-M95","v":0.83000998098990297},"−","−",null,{"$f":"R96-R95","v":4.8458664298926299},{"$f":"Q95-Q96","v":5.8069915022026279},{"$f":"M221-L221","v":0.961125072309998},{"$f":"$Q$95-(R95-$R$95)-Q95","v":0}]
[null,null,null,1.4897331573027501,"−","−",null,1.9492428401231567,"−","−",null,2.9550108055076905,2.7495988998104082,{"$f":"M222-L222","v":-0.20541190569728229},{"$f":"$Q$95-(R96-$R$95)-Q96","v":0.96112507230999711}]
[null,null,null,1.3243029226104097,"−","−",null,1.5783117708756702,"−","−",null,2.1919354722694289,2.4969945005794116,0.30505902830998277,0.75571316661271482]
[null,null,null,3.1770261237499904,"−","−",null,2.3907080780884096,"−","−",null,4.0582766858196511,4.0847867548558838,2.6510069036232764E-2,1.0607721949226985]
[null,null,null,2.4900785122331692,"−","−",null,2.6380080704901809,"−","−",null,2.4837461031290982,2.8326680648270042,0.34892196169790601,1.087282263958933]
[null,null,null,1.6638561544961998,"−","−",null,2.0642198337651791,"−","−",null,1.6737086187286003,1.7272023226924951,5.3493703963894745E-2,1.4362042256568373]
[null,null,null,2.6427756742875008,"−","−",null,2.2716903676189002,"−","−",null,2.266234146373602,2.5619958943884455,0.29576174801484356,1.489697929620732]
[null,null,null,1.9011164281052988,"−","−",null,2.1650984872172003,"−","−",null,1.6015231881946974,1.8308501687677783,0.22932698057308087,1.7854596776355756]
[null,null,null,2.3379151667014995,"−","−",null,2.0717948344627004,"−","−",null,2.0635927916646004,2.5669267837969851,0.50333399213238472,2.0147866582086564]
[null,null,null,1.7194440953506032,"−","−",null,2.0131980966360992,"−","−",null,1.596330031559102,1.8941120046973001,0.2977819731381981,2.5181206503410412]
[null,null,null,1.2201026018749985,"−","−",null,1.5439693879996987,"−","−",null,0.66094125609529897,1.2903168207105598,0.62937556461526079,2.8159026234792393]
[null,null,null,1.1392529202523995,"−","−",null,1.2359987466363016,"−","−",null,0.76623340683880059,1.0608370368966664,0.29460363005786583,3.4452781880945]
[null,null,null,0.72580021207150125,"−","−",null,0.81658386031379848,"−","−",null,0.83053189256330029,0.64750856380083732,-0.18302332876246297,3.7398818181523659]
[null,null,null,0.71875050031760068,"−","−",null,0.50250072605890139,"−","−",null,0.53599217284579836,0.64097651925915322,0.10498434641335486,3.5568584893899029]
[null,null,null,null,null,null,null,null,null,null,null,null,null,null,3.6618428358032578]
[]
[null,null,null,"Experiment 35",null,null,null,"Experiment X",null,null,null,"Experiment X"]
[null,null,null,"[P]n - [P]n-1","[SM]n-1 - [SM]n","subtraction","[SM]0 - [P]n - [SM]n","[P]n - [P]n-1","[SM]n-1 - [SM]n","subtraction","[SM]0 - [P]n - [SM]n","[P]n - [P]n-1","[SM]n-1 - [SM]n","subtraction","[SM]0 - [P]n - [SM]n"]
[null,null,null,{"$f":"H124-H123","v":2.41221335670263},{"$f":"G123-G124","v":2.9726639758374063},{"$f":"E239-D239","v":0.56045061913477623},{"$f":"$G$123-(H123-$H$123)-G123","v":0}]
[null,null,null,{"$f":"H125-H124","v":3.96376966275152},{"$f":"G124-G125","v":6.8063832046218735},{"$f":"E240-D240","v":2.8426135418703535},{"$f":"$G$123-(H124-$H$123)-G124","v":0.56045061913477667}]
[null,null,null,2.4427222678292893,0.70729736970172041,-1.7354248981275688,3.4030641610051262]
[null,null,null,3.2299082579438601,3.1650607597233389,-6.484749822052116E-2,1.6676392628775609]
[null,null,null,2.9713158706199003,3.0569494113104128,8.5633540690512433E-2,1.6027917646570415]
[null,null,null,2.1036115091612988,2.1914386765708898,8.7827167409590956E-2,1.6884253053475504]
[null,null,null,2.0176609601967002,2.8951020916195702,0.87744113142287006,1.7762524727571432]
[null,null,null,1.7549023593069997,2.0073949153088613,0.2524925560018616,2.6536936041800132]
[null,null,null,2.0652189205099027,2.3102569991454924,0.24503807863558968,2.9061861601818748]
[null,null,null,1.5938723554952006,1.989654204359864,0.39578184886466339,3.1512242388174645]
[null,null,null,1.2216101745747991,1.5395197847681032,0.3179096101933041,3.5470060876821279]
[null,null,null,0.74840536681220016,1.3817588881802827,0.63335352136808254,3.864915697875432]
[null,null,null,0.64684879506510029,0.83348261447608607,0.18663381941098578,4.4982692192435145]
[null,null,null,0.6504435954117973,0.8912973036200551,0.2408537082082578,4.6849030386545003]
[null,null,null,0.24726135581600062,0.58290248754461338,0.33564113172861276,4.9257567468627581]
[null,null,null,null,null,null,5.2613978785913709]

{"sheet":"IS order","index":4,"n_rows":69,"n_cols":14,"rows_kept":69,"cut":false,"hidden":false,"merged":[[0,4,0,8],[0,9,0,13],[9,4,9,8],[9,9,9,13],[52,4,52,7],[52,8,52,11]]}
[null,null,null,null,"BL-074, BL-076 + BL-091 + BL-103",null,null,null,null,"BL-090, BL-095"]
[null,null,null,null,"  [SM]0","80 mM",null,null,null,"  [SM]0","80 mM"]
[null,null,null,null,"  [PhCO2H]0","96 mM",null,null,null,"  [PhCO2H]0","96 mM"]
[null,null,null,null,"  [PhCONHBr]0","96 mM",null,null,null,"  [PhCONHBr]0","96 mM"]
[null,null,null,null,"  [(DHQD)2PHAL]0","8 mM",null,null,null,"  [(DHQD)2PHAL]0","8 mM"]
[null,null,null,null,"  [(4-Tol)2CO]0","40 mM","← internal standard",null,null,"  [(4-Tol)2CO]0","20 mM","← internal standard"]
[null,null,null,null,"  [P]0 (83:17 er)","0 mM",null,null,null,"  [P]0 (83:17 er)","0 mM"]
[null,null,null,null,"  [PhCONH2]0","0 mM",null,null,null,"  [PhCONH2]0","0 mM"]
[]
[null,null,null,null,"Experiment 1",null,null,null,null,"Experiment 7"]
[null,null,null,null,"t (hours)","shifted t, SM","shifted t, P","[SM] (mM)","[P] (mM)","t (hours)","shifted t, SM","shifted t, P","[SM] (mM)","[P] (mM)"]
["order in (4-Tol)2CO",0,null,null,0,0,0,81.078082460677138,0,{"$f":"0/60","v":0},0,0,80.864719085780607,0]
[null,null,null,null,{"$f":"5/60","v":8.3333333333333329E-2},{"$f":"F12+((H13+H12)/2)^$B$12*(E13-E12)","v":8.3333333333333329E-2},{"$f":"G12+((I13+I12)/2)^$B$12*(E13-E12)","v":8.3333333333333329E-2},61.327168299177231,17.093114709733523,{"$f":"5/60","v":8.3333333333333329E-2},{"$f":"K12+((M13+M12)/2)^$B$12*(J13-J12)","v":8.3333333333333329E-2},{"$f":"L12+((N13+N12)/2)^$B$12*(J13-J12)","v":8.3333333333333329E-2},61.094208330565777,17.12936265985735]
[null,null,null,null,{"$f":"10/60","v":0.16666666666666666},0.16666666666666666,{"$f":"G13+((I14+I13)/2)^$B$12*(E14-E13)","v":0.16666666666666666},54.167548197973019,24.355798754686603,{"$f":"10/60","v":0.16666666666666666},{"$f":"K13+((M14+M13)/2)^$B$12*(J14-J13)","v":0.16666666666666666},{"$f":"L13+((N14+N13)/2)^$B$12*(J14-J13)","v":0.16666666666666666},53.244026688420405,24.713151570851437]
[null,null,null,null,0.25,{"$f":"F14+((H15+H14)/2)^$B$12*(E15-E14)","v":0.25},0.25,49.325055225665537,28.841291474149038,{"$f":"15/60","v":0.25},{"$f":"K14+((M15+M14)/2)^$B$12*(J15-J14)","v":0.25},{"$f":"L14+((N15+N14)/2)^$B$12*(J15-J14)","v":0.25},48.604838951400552,29.256422912539549]
[null,null,null,null,0.5,{"$f":"F15+((H16+H15)/2)^$B$12*(E16-E15)","v":0.5},0.5,41.060446870558543,36.35950078782114,{"$f":"30/60","v":0.5},0.5,0.5,40.819539883739452,37.071440845499424]
[null,null,null,null,0.75,{"$f":"F16+((H17+H16)/2)^$B$12*(E17-E16)","v":0.75},0.75,36.50137065951418,40.683032700015751,{"$f":"45/60","v":0.75},0.75,0.75,35.466928244647676,41.342735340356938]
[null,null,null,null,1,1,1,32.908841157658983,43.719857032358888,{"$f":"60/60","v":1},1,1,32.502805721287245,44.438588974149155]
[null,null,null,null,1.5,1.5,1.5,28.388800840859766,47.470049757339453,{"$f":"90/60","v":1.5},1.5,1.5,27.797968423504077,48.427088063565328]
[null,null,null,null,2,2,2,25.738968218274337,50.11749133832069,{"$f":"120/60","v":2},2,2,25.234773990851522,50.790433916476296]
[null,null,null,null,3,3,3,21.675824866447766,53.110852348002119,{"$f":"180/60","v":3},3,3,21.128298283384431,53.721444554994846]
[null,null,null,null,4,4,4,18.953880372968431,55.300617303107614,{"$f":"240/60","v":4},4,4,18.50467570530278,55.83678819807416]
[null,null,null,null,5,5,5,17.041735283544604,56.7456981343339,{"$f":"300/60","v":5},5,5,16.631528220333486,57.382440479302574]
[null,null,null,null,6,6,6,15.316420234713711,58.231804117041989,{"$f":"360/60","v":6},6,6,14.949816354689393,58.497939296142945]
[null,null,null,null,7,7,7,14.232090722404987,58.889508644072166,{"$f":"420/60","v":7},7,7,13.706183612161595,59.369998286789169]
[null,null,null,null,8,8,8,13.17071067532439,59.543440610400857,{"$f":"480/60","v":8},8,8,12.439108800701701,60.393604138869463]
[]
[]
[]
[]
[]
[]
[]
[]
[]
[]
[]
[]
[]
[]
[]
[]
[]
[]
[]
[]
[]
[]
[]
[]
[]
[]
[null,null,null,null,"Experiment 1",null,null,null,"Experiment 7"]
[null,null,null,null,"[P]n - [P]n-1","[SM]n-1 - [SM]n","subtraction","[SM]0 - [P]n - [SM]n","[P]n - [P]n-1","[SM]n-1 - [SM]n","subtraction","[SM]0 - [P]n - [SM]n"]
[null,null,null,null,{"$f":"I13-I12","v":17.093114709733523},{"$f":"H12-H13","v":19.750914161499907},{"$f":"F55-E55","v":2.6577994517663832},{"$f":"$H$12-(I12-$I$12)-H12","v":0},{"$f":"N13-N12","v":17.12936265985735},{"$f":"M12-M13","v":19.770510755214829},{"$f":"J55-I55","v":2.6411480953574795},{"$f":"$M$12-(N12-$N$12)-M12","v":0}]
[null,null,null,null,7.2626840449530796,7.1596201012042116,-0.10306394374886807,2.6577994517663797,7.5837889109940875,7.8501816421453725,{"$f":"J56-I56","v":0.26639273115128503},2.6411480953574795]
[null,null,null,null,4.4854927194624352,4.8424929723074825,0.35700025284504733,2.5547355080175151,4.5432713416881114,4.6391877370198529,9.5916395331741455E-2,2.9075408265087646]
[null,null,null,null,7.5182093136721022,8.2646083551069935,0.74639904143489133,2.9117357608625625,7.8150179329598757,7.7852990676611,-2.9718865298775654E-2,3.003457221840506]
[null,null,null,null,4.3235319121946105,4.5590762110443634,0.23554429884975292,3.6581348022974538,4.2712944948575142,5.3526116390917764,1.0813171442342622,2.9737383565417304]
[null,null,null,null,3.0368243323431372,3.5925295018551964,0.55570516951205917,3.8936791011472067,3.0958536337922169,2.9641225233604303,-0.13173111043178665,4.0550555007759925]
[null,null,null,null,3.7501927249805647,4.5200403167992178,0.76984759181865314,4.4493842706592659,3.9884990894161731,4.7048372977831683,0.71633820836699513,3.9233243903442059]
[null,null,null,null,2.6474415809812371,2.6498326225854285,2.3910416041914573E-3,5.219231862477919,2.3633458529109674,2.5631944326525549,0.19984857974158743,4.639662598711201]
[null,null,null,null,2.9933610096814292,4.0631433518265716,1.0697823421451425,5.2216229040821105,2.9310106385185506,4.1064757074670908,1.1754650689485402,4.8395111784527884]
[null,null,null,null,2.1897649551054954,2.7219444934793344,0.53217953837383902,6.2914052462272529,2.1153436430793136,2.6236225780816511,0.50827893500233756,6.0149762474013286]
[null,null,null,null,1.4450808312262851,1.9121450894238272,0.46706425819754216,6.823584784601092,1.5456522812284135,1.8731474849692944,0.32749520374088092,6.5232551824036662]
[null,null,null,null,1.4861059827080894,1.7253150488308933,0.2392090661228039,7.2906490427986341,1.1154988168403719,1.6817118656440933,0.56621304880372136,6.8507503861445471]
[null,null,null,null,0.65770452703017668,1.0843295123087238,0.42662498527854709,7.529858108921438,0.87205899064622372,1.2436327425277973,0.3715737518815736,7.4169634349482685]
[null,null,null,null,0.65393196632869177,1.061380047080597,0.4074480807519052,7.9564830941999851,1.0236058520802942,1.267074811459894,0.24346895937959978,7.7885371868298421]
[null,null,null,null,null,null,null,8.3639311749518903,null,null,null,8.0320061462094419]

{"sheet":"cat order","index":5,"n_rows":70,"n_cols":21,"rows_kept":70,"cut":false,"hidden":false,"merged":[[0,15,0,20],[9,15,9,20],[52,11,52,14],[0,3,0,8],[0,9,0,14],[9,3,9,8],[9,9,9,14],[52,3,52,6],[52,7,52,10]]}
[null,null,null,"BL-074, BL-076 + BL-091 + BL-103",null,null,null,null,null,"BL-101, BL-102",null,null,null,null,null,"BL-106, BL-108 + BL-115"]
[null,null,null,"  [SM]0","80 mM",null,null,null,null,"  [SM]0","80 mM",null,null,null,null,"  [SM]0","80 mM"]
[null,null,null,"  [PhCO2H]0","96 mM",null,null,null,null,"  [PhCO2H]0","96 mM",null,null,null,null,"  [PhCO2H]0","96 mM"]
[null,null,null,"  [PhCONHBr]0","96 mM",null,null,null,null,"  [PhCONHBr]0","96 mM",null,null,null,null,"  [PhCONHBr]0","96 mM"]
[null,null,null,"  [(DHQD)2PHAL]0","8 mM",null,null,null,null,"  [(DHQD)2PHAL]0","5 mM",null,null,null,null,"  [(DHQD)2PHAL]0","2 mM"]
[null,null,null,"  [(4-Tol)2CO]0","40 mM","← internal standard",null,null,null,"  [(4-Tol)2CO]0","40 mM","← internal standard",null,null,null,"  [(4-Tol)2CO]0","40 mM","← internal standard"]
[null,null,null,"  [P]0 (83:17 er)","0 mM",null,null,null,null,"  [P]0 (83:17 er)","0 mM",null,null,null,null,"  [P]0 (83:17 er)","0 mM"]
[null,null,null,"  [PhCONH2]0","0 mM",null,null,null,null,"  [PhCONH2]0","0 mM",null,null,null,null,"  [PhCONH2]0","0 mM"]
[]
[null,null,null,"Experiment 1",null,null,null,null,null,"Experiment 8",null,null,null,null,null,"Experiment 12"]
[null,null,null,"t (hours)","tcat (SM)","tcat (P)","[SM] (mM)","[P] (mM)","[cat] (mM)","t (hours)","tcat (SM)","tcat (P)","[SM] (mM)","[P] (mM)","[cat] (mM)","t (hours)","tcat (SM)","tcat (P)","[SM] (mM)","[P] (mM)","[cat] (mM)"]
["order in cat (SM)",0,null,0,0,0,81.078082460677138,0,8,{"$f":"0/60","v":0},0,0,81.078082460677138,0,5,{"$f":"0/60","v":0},0,0,80.907391760759921,0,2]
["order in cat (P)",1,null,{"$f":"5/60","v":8.3333333333333329E-2},{"$f":"E12+(($I12+$I13)/2)^$B$12*($D13-$D12)","v":8.3333333333333329E-2},{"$f":"F12+(($I12+$I13)/2)^$B$13*($D13-$D12)","v":0.66666666666666663},61.327168299177231,17.093114709733523,8,{"$f":"5/60","v":8.3333333333333329E-2},{"$f":"K12+(($O12+$O13)/2)^$B$12*($J13-$J12)","v":8.3333333333333329E-2},{"$f":"L12+(($O12+$O13)/2)^$B$13*($J13-$J12)","v":0.41666666666666663},64.35849016167289,13.805284763718703,5,{"$f":"5/60","v":8.3333333333333329E-2},{"$f":"Q12+(($U12+$U13)/2)^$B$12*($P13-$P12)","v":8.3333333333333329E-2},{"$f":"R12+(($U12+$U13)/2)^$B$13*($P13-$P12)","v":0.16666666666666666},69.596518606667999,7.0302742778803253,2]
[null,null,null,{"$f":"10/60","v":0.16666666666666666},{"$f":"E13+(($I13+$I14)/2)^$B$12*($D14-$D13)","v":0.16666666666666666},{"$f":"F13+(($I13+$I14)/2)^$B$13*($D14-$D13)","v":1.3333333333333333},54.167548197973019,24.355798754686603,8,{"$f":"10/60","v":0.16666666666666666},{"$f":"K13+(($O13+$O14)/2)^$B$12*($J14-$J13)","v":0.16666666666666666},{"$f":"L13+(($O13+$O14)/2)^$B$13*($J14-$J13)","v":0.83333333333333326},57.698399879721855,20.71842834587445,5,{"$f":"10/60","v":0.16666666666666666},{"$f":"Q13+(($U13+$U14)/2)^$B$12*($P14-$P13)","v":0.16666666666666666},{"$f":"R13+(($U13+$U14)/2)^$B$13*($P14-$P13)","v":0.33333333333333331},63.107741210956803,12.137174053751142,2]
[null,null,null,0.25,{"$f":"E14+(($I14+$I15)/2)^$B$12*($D15-$D14)","v":0.25},{"$f":"F14+(($I14+$I15)/2)^$B$13*($D15-$D14)","v":2},49.325055225665537,28.841291474149038,8,{"$f":"15/60","v":0.25},{"$f":"K14+(($O14+$O15)/2)^$B$12*($J15-$J14)","v":0.25},{"$f":"L14+(($O14+$O15)/2)^$B$13*($J15-$J14)","v":1.25},52.664975187430791,25.499790538924213,5,{"$f":"15/60","v":0.25},{"$f":"Q14+(($U14+$U15)/2)^$B$12*($P15-$P14)","v":0.25},{"$f":"R14+(($U14+$U15)/2)^$B$13*($P15-$P14)","v":0.5},57.70810716077294,15.698814868049592,2]
[null,null,null,0.5,{"$f":"E15+(($I15+$I16)/2)^$B$12*($D16-$D15)","v":0.5},{"$f":"F15+(($I15+$I16)/2)^$B$13*($D16-$D15)","v":4},41.060446870558543,36.35950078782114,8,{"$f":"30/60","v":0.5},{"$f":"K15+(($O15+$O16)/2)^$B$12*($J16-$J15)","v":0.5},{"$f":"L15+(($O15+$O16)/2)^$B$13*($J16-$J15)","v":2.5},44.341588613839718,33.216099596552056,5,{"$f":"30/60","v":0.5},0.5,{"$f":"R15+(($U15+$U16)/2)^$B$13*($P16-$P15)","v":1},52.059527002015635,23.505851420419308,2]
[null,null,null,0.75,0.75,6,36.50137065951418,40.683032700015751,8,{"$f":"45/60","v":0.75},{"$f":"K16+(($O16+$O17)/2)^$B$12*($J17-$J16)","v":0.75},3.75,39.252652157054925,37.900439511452689,5,{"$f":"45/60","v":0.75},0.75,1.5,45.465741238671228,27.933210715645217,2]
[null,null,null,1,1,8,32.908841157658983,43.719857032358888,8,{"$f":"60/60","v":1},1,5,35.938750324324801,40.992453944563465,5,{"$f":"60/60","v":1},1,2,41.918549009929322,31.280807641000454,2]
[null,null,null,1.5,1.5,12,28.388800840859766,47.470049757339453,8,{"$f":"90/60","v":1.5},1.5,7.5,31.049349938888614,45.149177564736945,5,{"$f":"90/60","v":1.5},{"$f":"Q18+(($U18+$U19)/2)^$B$12*($P19-$P18)","v":1.5},{"$f":"R18+(($U18+$U19)/2)^$B$13*($P19-$P18)","v":3},36.372927802556433,35.355055799711756,2]
[null,null,null,2,2,16,25.738968218274337,50.11749133832069,8,{"$f":"120/60","v":2},2,10,27.960196323990047,48.049852882209308,5,{"$f":"120/60","v":2},2,4,33.562238605653249,38.732977814594378,2]
[null,null,null,3,3,24,21.675824866447766,53.110852348002119,8,{"$f":"180/60","v":3},3,15,23.767780825438759,51.360122824945243,5,{"$f":"180/60","v":3},3,6,29.373300899198707,42.79613766694613,2]
[null,null,null,4,4,32,18.953880372968431,55.300617303107614,8,{"$f":"240/60","v":4},4,20,20.873414409039317,53.245819875620654,5,{"$f":"240/60","v":4},4,8,26.695759192829385,45.626083943174287,2]
[null,null,null,5,5,40,17.041735283544604,56.7456981343339,8,{"$f":"300/60","v":5},5,25,18.92859981909033,54.910563944416438,5,{"$f":"300/60","v":5},5,10,24.416999763967176,47.221077185196641,2]
[null,null,null,6,6,48,15.316420234713711,58.231804117041989,8,{"$f":"360/60","v":6},6,30,17.043493030173785,56.20826077669561,5,{"$f":"360/60","v":6},6,12,22.185346523903785,48.644609780988901,2]
[null,null,null,7,7,56,14.232090722404987,58.889508644072166,8,{"$f":"420/60","v":7},7,35,15.840000309673638,57.398878282496185,5,{"$f":"420/60","v":7},7,14,20.652505119850296,49.876934570079548,2]
[null,null,null,8,8,64,13.17071067532439,59.543440610400857,8,{"$f":"480/60","v":8},8,40,14.792678137117294,58.026348956166615,5,{"$f":"480/60","v":8},8,16,18.999443806304036,50.916930209615629,2]
[null,null,null,null,null,null,null,null,null,null,null,null,null,null,null,{"$f":"540/60","v":9},9,18,18.106016621783986,51.970903040543973,2]
[null,null,null,null,null,null,null,null,null,null,null,null,null,null,null,{"$f":"600/60","v":10},10,20,17.353541665374841,52.952247800707219,2]
[]
[]
[]
[]
[]
[]
[]
[]
[]
[]
[]
[]
[]
[]
[]
[]
[]
[]
[]
[]
[]
[]
[]
[]
[null,null,null,"Experiment 1",null,null,null,"Experiment 8",null,null,null,"Experiment 12"]
[null,null,null,"[P]n - [P]n-1","[SM]n-1 - [SM]n","subtraction","[SM]0 - [P]n - [SM]n","[P]n - [P]n-1","[SM]n-1 - [SM]n","subtraction","[SM]0 - [P]n - [SM]n","[P]n - [P]n-1","[SM]n-1 - [SM]n","subtraction","[SM]0 - [P]n - [SM]n"]
[null,null,null,{"$f":"H13-H12","v":17.093114709733523},{"$f":"G12-G13","v":19.750914161499907},{"$f":"E55-D55","v":2.6577994517663832},{"$f":"$G$12-H12-G12","v":0},{"$f":"N13-N12","v":13.805284763718703},{"$f":"M12-M13","v":16.719592299004248},{"$f":"I55-H55","v":2.9143075352855448},{"$f":"$M$12-N12-M12","v":0},{"$f":"T13-T12","v":7.0302742778803253},{"$f":"S12-S13","v":11.310873154091922},{"$f":"M55-L55","v":4.280598876211597},{"$f":"$S$12-T12-S12","v":0}]
[null,null,null,7.2626840449530796,7.1596201012042116,{"$f":"E56-D56","v":-0.10306394374886807},2.6577994517663797,6.9131435821557474,6.6600902819510353,{"$f":"I56-H56","v":-0.25305330020471217},2.9143075352855448,{"$f":"T14-T13","v":5.1068997758708168},{"$f":"S13-S14","v":6.488777395711196},{"$f":"M56-L56","v":1.3818776198403793},{"$f":"$S$12-T13-S13","v":4.2805988762115987}]
[null,null,null,4.4854927194624352,4.8424929723074825,0.35700025284504733,2.5547355080175151,4.7813621930497625,5.0334246922910637,0.2520624992413012,2.6612542350808326,{"$f":"T16-T14","v":11.368677366668166},{"$f":"S14-S16","v":11.048214208941168},-0.32046315772699785,5.6624764960519798]
[null,null,null,7.5182093136721022,8.2646083551069935,0.74639904143489133,2.9117357608625625,7.7163090576278428,8.3233865735910726,0.60707751596322979,2.9133167343221302,{"$f":"T17-T16","v":4.4273592952259087},{"$f":"S16-S17","v":6.5937857633444068},2.1664264681184981,{"$f":"$S$12-T16-S16","v":5.3420133383249819}]
[null,null,null,4.3235319121946105,4.5590762110443634,0.23554429884975292,3.6581348022974538,4.6843399149006331,5.0889364567847934,0.40459654188416039,3.5203942502853636,3.3475969253552371,3.5471922287419062,0.19959530338666909,7.5084398064434765]
[null,null,null,3.0368243323431372,3.5925295018551964,0.55570516951205917,3.8936791011472067,3.0920144331107764,3.3139018327301244,0.221887399619348,3.924990792169524,4.0742481587113026,5.5456212073728892,1.4713730486615866,7.7080351098301492]
[null,null,null,3.7501927249805647,4.5200403167992178,0.76984759181865314,4.4493842706592659,4.1567236201734801,4.8894003854361863,0.7326767652627062,4.146878191788872,3.3779220148826212,2.8106891969031835,-0.5672328179794377,9.1794081584917322]
[null,null,null,2.6474415809812371,2.6498326225854285,2.3910416041914573E-3,5.219231862477919,2.9006753174723627,3.0891536148985672,0.18847829742620448,4.8795549570515782,4.0631598523517525,4.1889377064545421,0.12577785410278963,8.6121753405122945]
[null,null,null,2.9933610096814292,4.0631433518265716,1.0697823421451425,5.2216229040821105,3.3102699427359354,4.1924154985512878,0.88214555581535237,5.0680332544777826,2.8299462762281564,2.6775417063693219,-0.15240456985883455,8.7379531946150841]
[null,null,null,2.1897649551054954,2.7219444934793344,0.53217953837383902,6.2914052462272529,1.8856970506754109,2.8943664163994427,1.0086693657240318,5.950178810293135,1.5949932420223547,2.2787594288622088,0.68376618683985413,8.5855486247562496]
[null,null,null,1.4450808312262851,1.9121450894238272,0.46706425819754216,6.823584784601092,1.664744068795784,1.9448145899489866,0.28007052115320263,6.9588481760171668,1.4235325957922598,2.2316532400633911,0.80812064427113128,9.2693148115961037]
[null,null,null,1.4861059827080894,1.7253150488308933,0.2392090661228039,7.2906490427986341,1.297696832279172,1.8851067889165449,0.58740995663737294,7.2389186971703694,1.2323247890906472,1.5328414040534888,0.30051661496284154,10.077435455867235]
[null,null,null,0.65770452703017668,1.0843295123087238,0.42662498527854709,7.529858108921438,1.1906175058005743,1.2034927205001473,1.2875214699572979E-2,7.8263286538077423,1.0399956395360803,1.6530613135462602,0.61306567401017986,10.377952070830077]
[null,null,null,0.65393196632869177,1.061380047080597,0.4074480807519052,7.9564830941999851,0.6274706736704303,1.0473221725563437,0.41985149888591344,7.8392038685073153,1.0539728309283447,0.89342718452004988,-0.16054564640829483,10.991017744840256]
[null,null,null,null,null,null,8.3639311749518903,null,null,null,8.2590553673932288,0.98134476016324612,0.75247495640914508,-0.22886980375410104,10.830472098431962]
[null,null,null,null,null,null,null,null,null,null,null,null,null,null,10.601602294677861]

{"sheet":"PhCONHBr order","index":6,"n_rows":68,"n_cols":14,"rows_kept":68,"cut":false,"hidden":false,"merged":[[0,4,0,8],[0,9,0,13],[9,4,9,8],[9,9,9,13],[51,4,51,7],[51,8,51,11]]}
[null,null,null,null,"BL-074, BL-076 + BL-091 + BL-103",null,null,null,null,"BL-097, BL-116"]
[null,null,null,null,"  [SM]0","80 mM",null,null,null,"  [SM]0","80 mM"]
[null,null,null,null,"  [PhCO2H]0","96 mM",null,null,null,"  [PhCO2H]0","96 mM"]
[null,null,null,null,"  [PhCONHBr]0","96 mM",null,null,null,"  [PhCONHBr]0","64 mM"]
[null,null,null,null,"  [(DHQD)2PHAL]0","8 mM",null,null,null,"  [(DHQD)2PHAL]0","8 mM"]
[null,null,null,null,"  [(4-Tol)2CO]0","40 mM","← internal standard",null,null,"  [(4-Tol)2CO]0","40 mM","← internal standard"]
[null,null,null,null,"  [P]0 (83:17 er)","0 mM",null,null,null,"  [P]0 (83:17 er)","0 mM"]
[null,null,null,null,"  [PhCONH2]0","0 mM",null,null,null,"  [PhCONH2]0","0 mM"]
[]
[null,null,null,null,"Experiment 1",null,null,null,null,"Experiment 9"]
[null,null,null,null,"t (hours)","shifted t","[PhCONHBr]","[SM] (mM)","[P] (mM)","t (hours)","shifted t","[PhCONHBr]","[SM] (mM)","[P] (mM)"]
["order in PhCONHBr",1,null,null,0,0,{"$f":"96-I12","v":96},81.078082460677138,0,{"$f":"0/60","v":0},0,{"$f":"64-N12","v":64},80.736701060842691,0]
[null,null,null,null,{"$f":"5/60","v":8.3333333333333329E-2},{"$f":"F12+((G13+G12)/2)^$B$12*(E13-E12)","v":7.1770452432708369},{"$f":"G12-($H$12-H13)","v":76.249085838500093},61.327168299177231,17.093114709733523,{"$f":"5/60","v":8.3333333333333329E-2},{"$f":"K12+((L13+L12)/2)^$B$12*(J13-J12)","v":4.6830330910302926},{"$f":"64-($M$12-M13)","v":48.392794184727023},65.129495245569714,12.998621086445937]
[null,null,null,null,{"$f":"10/60","v":0.16666666666666666},{"$f":"F13+((G14+G13)/2)^$B$12*(E14-E13)","v":13.339265538429732},{"$f":"96-I14","v":71.644201245313397},54.167548197973019,24.355798754686603,{"$f":"10/60","v":0.16666666666666666},{"$f":"K13+((L14+L13)/2)^$B$12*(J14-J13)","v":8.4373260844557052},41.710237657482878,58.446938718325569,18.894891793517377]
[null,null,null,null,0.25,19.122720112228247,67.158708525850955,49.325055225665537,28.841291474149038,{"$f":"15/60","v":0.25},11.75958835330222,38.024056794833456,54.760757855676147,22.457345641232159]
[null,null,null,null,0.5,34.972621079481975,59.64049921217886,41.060446870558543,36.35950078782114,{"$f":"30/60","v":0.5},20.398780591428647,31.089481110177971,47.826182171020662,29.559963258654246]
[null,null,null,null,0.75,49.34230439350236,55.316967299984249,36.50137065951418,40.683032700015751,{"$f":"45/60","v":0.75},27.685920053560157,27.2076345868741,43.944335647716791,33.2606620036075]
[null,null,null,null,1,62.791943176955527,52.280142967641112,32.908841157658983,43.719857032358888,{"$f":"60/60","v":1},34.15137738484556,24.516024063409105,41.252725124251796,36.041206949941596]
[null,null,null,null,1.5,87.994466479530942,48.529950242660547,28.388800840859766,47.470049757339453,{"$f":"90/60","v":1.5},45.525335895147713,20.979809977799512,37.716511038642203,39.415945445687548]
[null,null,null,null,2,111.59758120561591,45.88250866167931,25.738968218274337,50.11749133832069,{"$f":"120/60","v":2},55.340460460480877,18.280688283533145,35.017389344375836,41.567027862812992]
[null,null,null,null,3,155.98340936245449,42.889147651997881,21.675824866447766,53.110852348002119,{"$f":"182/60","v":3.0333333333333332},72.534732728965793,14.998548365147336,31.735249425990027,45.092404714145509]
[null,null,null,null,4,197.77767453689961,40.699382696892386,18.953880372968431,55.300617303107614,{"$f":"240/60","v":4},85.832738114706586,12.5145662260405,29.251267286883188,46.711078184121206]
[null,null,null,null,5,237.75451681817884,39.2543018656661,17.041735283544604,56.7456981343339,{"$f":"300/60","v":5},97.651232766648519,11.122423077843358,27.859124138686049,48.211920511692924]
[null,null,null,null,6,276.2657656924909,37.768195882958011,15.316420234713711,58.231804117041989,{"$f":"360/60","v":6},108.11735392906363,9.8098192469868621,26.54652030782955,49.283624516401311]
[null,null,null,null,7,313.70510931193382,37.110491355927834,14.232090722404987,58.889508644072166,{"$f":"420/60","v":7},117.38389420239116,8.7232612996682022,25.459962360510893,50.087861463766785]
[null,null,null,null,8,350.48863468469733,36.456559389599143,13.17071067532439,59.543440610400857,{"$f":"480/60","v":8},125.69976127931,7.9084728541694815,24.645173915012172,50.778335706658737]
[]
[]
[]
[]
[]
[]
[]
[]
[]
[]
[]
[]
[]
[]
[]
[]
[]
[]
[]
[]
[]
[]
[]
[]
[]
[null,null,null,null,"Experiment 1",null,null,null,"Experiment 9"]
[null,null,null,null,"[P]n - [P]n-1","[SM]n-1 - [SM]n","subtraction","[SM]0 - [P]n - [SM]n","[P]n - [P]n-1","[SM]n-1 - [SM]n","subtraction","[SM]0 - [P]n - [SM]n"]
[null,null,null,null,{"$f":"I13-I12","v":17.093114709733523},{"$f":"H12-H13","v":19.750914161499907},{"$f":"F54-E54","v":2.6577994517663832},{"$f":"$H$12-(I12-$I$12)-H12","v":0},{"$f":"N13-N12","v":12.998621086445937},{"$f":"M12-M13","v":15.607205815272977},{"$f":"J54-I54","v":2.6085847288270401},{"$f":"$M$12-(N12-$N$12)-M12","v":0}]
[null,null,null,null,7.2626840449530796,7.1596201012042116,-0.10306394374886807,2.6577994517663797,5.8962707070714409,6.6825565272441452,{"$f":"J55-I55","v":0.78628582017270432},2.6085847288270401]
[null,null,null,null,4.4854927194624352,4.8424929723074825,0.35700025284504733,2.5547355080175151,3.5624538477147816,3.6861808626494224,0.12372701493464078,3.3948705489997479]
[null,null,null,null,7.5182093136721022,8.2646083551069935,0.74639904143489133,2.9117357608625625,7.1026176174220872,6.9345756846554849,-0.16804193276660229,3.5185975639343852]
[null,null,null,null,4.3235319121946105,4.5590762110443634,0.23554429884975292,3.6581348022974538,3.7006987449532538,3.8818465233038708,0.18114777835061702,3.3505556311677793]
[null,null,null,null,3.0368243323431372,3.5925295018551964,0.55570516951205917,3.8936791011472067,2.7805449463340963,2.6916105234649947,-8.8934422869101581E-2,3.5317034095183999]
[null,null,null,null,3.7501927249805647,4.5200403167992178,0.76984759181865314,4.4493842706592659,3.3747384957459516,3.5362140856095934,0.16147558986364174,3.4427689866492983]
[null,null,null,null,2.6474415809812371,2.6498326225854285,2.3910416041914573E-3,5.219231862477919,2.1510824171254441,2.6991216942663669,0.54803927714092282,3.6042445765129401]
[null,null,null,null,2.9933610096814292,4.0631433518265716,1.0697823421451425,5.2216229040821105,3.525376851332517,3.2821399183858091,-0.2432369329467079,4.1522838536538629]
[null,null,null,null,2.1897649551054954,2.7219444934793344,0.53217953837383902,6.2914052462272529,1.6186734699756968,2.4839821391068391,0.86530866913114224,3.909046920707155]
[null,null,null,null,1.4450808312262851,1.9121450894238272,0.46706425819754216,6.823584784601092,1.5008423275717178,1.3921431481971389,-0.10869917937457885,4.7743555898382972]
[null,null,null,null,1.4861059827080894,1.7253150488308933,0.2392090661228039,7.2906490427986341,1.071704004708387,1.3126038308564993,0.24089982614811234,4.6656564104637184]
[null,null,null,null,0.65770452703017668,1.0843295123087238,0.42662498527854709,7.529858108921438,0.80423694736547446,1.0865579473186564,0.28232099995318194,4.9065562366118307]
[null,null,null,null,0.65393196632869177,1.061380047080597,0.4074480807519052,7.9564830941999851,0.69047424289195192,0.81478844549872065,0.12431420260676873,5.1888772365650127]
[null,null,null,null,null,null,null,8.3639311749518903,null,null,null,5.3131914391717814]

{"sheet":"BzOH order original","index":7,"n_rows":112,"n_cols":20,"rows_kept":112,"cut":false,"hidden":false,"merged":[[77,3,77,6],[77,7,77,10],[77,11,77,14],[94,3,94,14],[95,3,95,6],[95,7,95,10],[95,11,95,14],[26,3,26,7],[26,8,26,12],[26,13,26,17],[35,3,35,7],[35,8,35,12],[35,13,35,17],[0,3,0,7],[0,8,0,12],[0,13,0,17],[9,3,9,7],[9,8,9,12],[9,13,9,17]]}
[null,null,null,"BL-074, BL-076 + BL-091 + BL-103",null,null,null,null,"BL-096, BL-105 + BL-117",null,null,null,null,"BL-118, BL-120"]
[null,null,null,"  [SM]0","80 mM",null,null,null,"  [SM]0","80 mM",null,null,null,"  [SM]0","80 mM"]
[null,null,null,"  [PhCO2H]0","96 mM","← 1.2 equiv.",null,null,"  [PhCO2H]0","64 mM","← 0.8 equiv.",null,null,"  [PhCO2H]0","160 mM","← 2.0 equiv."]
[null,null,null,"  [PhCONHBr]0","96 mM",null,null,null,"  [PhCONHBr]0","96 mM",null,null,null,"  [PhCONHBr]0","96 mM"]
[null,null,null,"  [(DHQD)2PHAL]0","8 mM",null,null,null,"  [(DHQD)2PHAL]0","8 mM",null,null,null,"  [(DHQD)2PHAL]0","8 mM"]
[null,null,null,"  [(4-Tol)2CO]0","40 mM","← internal standard",null,null,"  [(4-Tol)2CO]0","40 mM","← internal standard",null,null,"  [(4-Tol)2CO]0","40 mM","← internal standard"]
[null,null,null,"  [P]0 (83:17 er)","0 mM",null,null,null,"  [P]0 (83:17 er)","0 mM",null,null,null,"  [P]0 (83:17 er)","0 mM"]
[null,null,null,"  [PhCONH2]0","0 mM",null,null,null,"  [PhCONH2]0","0 mM",null,null,null,"  [PhCONH2]0","0 mM"]
[]
[null,null,null,"Experiment 1",null,null,null,null,"Experiment 10",null,null,null,null,"Experiment 13"]
[null,null,null,"t (hours)","shifted t","[PhCO2H] (mM)","[SM] (mM)","[P] (mM)","t (hours)","shifted t","[PhCO2H] (mM)","[SM] (mM)","[P] (mM)","t (hours)","shifted t","[PhCO2H] (mM)","[SM] (mM)","[P] (mM)",null,"t (minutes)"]
["order in BzOH",1,null,0,0,{"$f":"96-($B$13*(-$H$12+H12))-($B$14*8)","v":96},81.078082460677095,0,{"$f":"0/60","v":0},0,{"$f":"64-($B$13*(-$M$12+M12))-($B$14*8)","v":64},80.907391760759921,0,{"$f":"0/60","v":0},0,{"$f":"160-($B$13*(-$R$12+R12))-($B$14*8)","v":160},80.82204641080132,0,null,{"$f":"0","v":0}]
["correction benzamide",1,null,{"$f":"5/60","v":8.3333333333333329E-2},{"$f":"E12+((F13+F12)/2)^$B$12*(D13-D12)","v":7.2877868870944358},{"$f":"96-($B$13*(-$H$12+H13))-($B$14*8)","v":78.906885290266473},61.327168299177231,17.093114709733523,{"$f":"5/60","v":8.3333333333333329E-2},{"$f":"J12+((K13+K12)/2)^$B$12*(I13-I12)","v":4.8504124389196459},{"$f":"64-($B$13*(-$M$12+M13))-($B$14*8)","v":52.409898534071523},62.653664308676689,11.590101465928477,{"$f":"5/60","v":8.3333333333333329E-2},{"$f":"O12+((P13+P12)/2)^$B$12*(N13-N12)","v":12.32086414375215},{"$f":"160-($B$13*(-$R$12+R13))-($B$14*8)","v":135.70073945005163},50.088227855416264,24.299260549948386,null,{"$f":"5","v":5}]
["acid equiv. cat",0,null,{"$f":"10/60","v":0.16666666666666666},{"$f":"E13+((F14+F13)/2)^$B$12*(D14-D13)","v":13.560748826076932},{"$f":"96-($B$13*(-$H$12+H14))-($B$14*8)","v":71.644201245313397},54.167548197973019,24.355798754686603,{"$f":"10/60","v":0.16666666666666666},{"$f":"J13+((K14+K13)/2)^$B$12*(I14-I13)","v":8.9744206353290323},46.566298179753773,58.413013779678948,17.433701820246224,{"$f":"10/60","v":0.16666666666666666},{"$f":"O13+((P14+P13)/2)^$B$12*(N14-N13)","v":23.232420568608234},126.17661474649432,38.984711203660254,33.823385253505684,null,{"$f":"10","v":10}]
[null,null,null,0.25,19.344203399875447,67.158708525850955,49.325055225665537,28.841291474149038,{"$f":"15/60","v":0.25},12.704232356865473,42.949183137120812,54.3898897881108,21.050816862879188,{"$f":"15/60","v":0.25},33.513539312811282,120.57023511437876,34.332158318603895,39.429764885621239,null,{"$f":"15","v":15}]
[null,null,null,0.5,35.194104367129171,59.64049921217886,41.060446870558543,36.35950078782114,{"$f":"30/60","v":0.5},22.66511100959768,36.737846084736859,47.699719345200933,27.262153915263138,{"$f":"30/60","v":0.5},62.508564235881067,111.3899642701795,27.018385400097877,48.610035729820495,null,{"$f":"30","v":30}]
[null,null,null,0.75,49.563787681149563,55.316967299984249,36.50137065951418,40.683032700015751,{"$f":"45/60","v":0.75},31.389307211520876,33.055723530648713,43.128004976205894,30.944276469351287,{"$f":"45/60","v":0.75},89.839045265500403,107.25388396677521,22.428791561855892,52.746116033224794,null,{"$f":"45","v":45}]
[null,null,null,1,63.01342646460273,52.280142967641112,32.908841157658983,43.719857032358888,{"$f":"60/60","v":1},39.364102547034832,30.742639153462932,39.998554125811651,33.257360846537068,{"$f":"60/60","v":1},116.31992509793061,104.5931546926664,19.25052858485315,55.406845307333597,null,{"$f":"60","v":60}]
[null,null,null,1.5,88.215949767178145,48.529950242660547,28.388800840859766,47.470049757339453,{"$f":"90/60","v":1.5},53.973899281025666,27.696547782500389,36.646304806801659,36.303452217499611,{"$f":"90/60","v":1.5},167.58177428308511,100.45424204795154,14.913848017763694,59.545757952048469,null,{"$f":"90","v":90}]
[null,null,null,2,111.81906449326311,45.88250866167931,25.738968218274337,50.11749133832069,{"$f":"120/60","v":2},67.262762202378127,25.458903902909441,33.85532204925557,38.541096097090559,{"$f":"120/60","v":2},217.09655381558809,97.604876082060343,12.471643415643332,62.39512391793965,null,{"$f":"120","v":120}]
[null,null,null,3,156.20489265010173,42.889147651997881,21.675824866447766,53.110852348002119,{"$f":"180/60","v":3},91.210366485997369,22.436304664329043,29.75788902242563,41.563695335670957,{"$f":"180/60","v":3},312.97474855986547,94.151513406494374,9.3611583058051515,65.848486593505626,null,{"$f":"180","v":180}]
[null,null,null,4,197.99915782454684,40.699382696892386,18.953880372968431,55.300617303107614,{"$f":"240/60","v":4},112.76538574284352,20.673733849363259,27.371146219643965,43.326266150636741,{"$f":"240/60","v":4},406.38001781074053,92.659025095255714,7.2255955029776109,67.340974904744286,null,{"$f":"240","v":240}]
[null,null,null,5,237.97600010582607,39.2543018656661,17.041735283544604,56.7456981343339,{"$f":"300/60","v":5},132.87978954811129,19.555073761172281,25.225291522189707,44.444926238827719,{"$f":"300/60","v":5},498.37756128311094,91.336061849485176,5.8051698589337288,68.663938150514824,null,{"$f":"300","v":300}]
[null,null,null,6,276.48724898013813,37.768195882958011,15.316420234713711,58.231804117041989,{"$f":"360/60","v":6},151.90885249646618,18.503052135537509,23.709149963677334,45.496947864462491,{"$f":"360/60","v":6},589.41951207439979,90.747839733092619,4.8934597565354245,69.252160266907381,null,{"$f":"360","v":360}]
[null,null,null,7,313.92659259958106,37.110491355927834,14.232090722404987,58.889508644072166,{"$f":"420/60","v":7},170.04749054817896,17.774223967888034,21.936720753619618,46.225776032111966,{"$f":"420/60","v":7},679.79343194094611,90,4.1789552402072738,70,null,{"$f":"420","v":420}]
[null,null,null,8,350.71011797234456,36.456559389599143,13.17071067532439,59.543440610400857,{"$f":"480/60","v":8},187.52329375491138,17.177382445576825,20.332638890634922,46.822617554423175,{"$f":"480/60","v":8},769.54866914669924,89.510474411506237,3.3953957301940338,70.489525588493763,null,{"$f":"480","v":480}]
[null,null,null,"BL-176, BL-177"]
[null,null,null,"  [SM]0","80 mM",null,null,null,"  [SM]0","80 mM",null,null,null,"  [SM]0","80 mM"]
[null,null,null,"  [PhCO2H]0","400 mM","← 5.0 equiv.",null,null,"  [PhCO2H]0","64 mM",null,null,null,"  [PhCO2H]0","160 mM"]
[null,null,null,"  [PhCONHBr]0","96 mM",null,null,null,"  [PhCONHBr]0","96 mM",null,null,null,"  [PhCONHBr]0","96 mM"]
[null,null,null,"  [(DHQD)2PHAL]0","8 mM",null,null,null,"  [(DHQD)2PHAL]0","8 mM",null,null,null,"  [(DHQD)2PHAL]0","8 mM"]
[null,null,null,"  [(4-Tol)2CO]0","40 mM","← internal standard",null,null,"  [(4-Tol)2CO]0","40 mM","← internal standard",null,null,"  [(4-Tol)2CO]0","40 mM","← internal standard"]
[null,null,null,"  [P]0 (83:17 er)","0 mM",null,null,null,"  [P]0 (83:17 er)","0 mM",null,null,null,"  [P]0 (83:17 er)","0 mM"]
[null,null,null,"  [PhCONH2]0","0 mM",null,null,null,"  [PhCONH2]0","0 mM",null,null,null,"  [PhCONH2]0","0 mM"]
[]
[null,null,null,"Experiment 26",null,null,null,null,"Experiment X",null,null,null,null,"Experiment X"]
[null,null,null,"t (hours)","shifted t, SM","[PhCO2H] (mM)","[SM] (mM)","[P] (mM)","t (hours)","shifted t, SM","shifted t, P","[SM] (mM)","[P] (mM)","t (hours)","shifted t, SM","shifted t, P","[SM] (mM)","[P] (mM)"]
[null,null,null,0,0,{"$f":"400-($B$13*(-$H$38+H38))-($B$14*8)","v":400},80.096610936153155,0,{"$f":"0/60","v":0},0,0,null,null,{"$f":"0/60","v":0},0,0]
[null,null,null,{"$f":"5/60","v":8.3333333333333329E-2},{"$f":"E38+((F39+F38)/2)^$B$12*(D39-D38)","v":31.822016425739807},{"$f":"400-($B$13*(-$H$38+H39))-($B$14*8)","v":363.72839421775541},34.312201285929987,36.271605782244599,{"$f":"5/60","v":8.3333333333333329E-2},{"$f":"J38+((L39+L38)/2)^$B$12*(I39-I38)","v":0},{"$f":"K38+((M39+M38)/2)^$B$12*(I39-I38)","v":0},null,null,{"$f":"5/60","v":8.3333333333333329E-2},{"$f":"O38+((Q39+Q38)/2)^$B$12*(N39-N38)","v":0},{"$f":"P38+((R39+R38)/2)^$B$12*(N39-N38)","v":0}]
[null,null,null,{"$f":"10/60","v":0.16666666666666666},{"$f":"E39+((F40+F39)/2)^$B$12*(D40-D39)","v":61.509179669839554},348.76352364063843,20.78926910139824,51.236476359361575,{"$f":"10/60","v":0.16666666666666666},{"$f":"J39+((L40+L39)/2)^$B$12*(I40-I39)","v":0},0,null,null,{"$f":"10/60","v":0.16666666666666666},{"$f":"O39+((Q40+Q39)/2)^$B$12*(N40-N39)","v":0},{"$f":"P39+((R40+R39)/2)^$B$12*(N40-N39)","v":0}]
[null,null,null,0.25,90.249836617227146,341.01224309666395,13.484727009718815,58.987756903336077,{"$f":"15/60","v":0.25},{"$f":"J40+((L41+L40)/2)^$B$12*(I41-I40)","v":0},0,null,null,{"$f":"15/60","v":0.25},0,0]
[null,null,null,0.5,174.27960658693786,331.22591666102187,6.1186427451130712,68.774083338978116,{"$f":"30/60","v":0.5},0,0,null,null,{"$f":"30/60","v":0.5},0,0]
[null,null,null,0.75,256.68943790925829,328.05273391754145,3.4888238147147135,71.94726608245854,{"$f":"45/60","v":0.75},0,0,null,null,{"$f":"45/60","v":0.75},0,0]
[null,null,null,1,338.48796364600753,326.33547197645254,1.9161149645651536,73.664528023547462,{"$f":"60/60","v":1},0,0,null,null,{"$f":"60/60","v":1},0,0]
[null,null,null,1.5,501.41896010985511,325.38851387893777,0.73422981666597065,74.611486121062214,{"$f":"90/60","v":1.5},0,0,null,null,{"$f":"90/60","v":1.5},0,0]
[null,null,null,2,663.99187565484476,324.90314830102062,0.29168275796591259,75.096851698979378,{"$f":"120/60","v":2},0,0,null,null,{"$f":"120/60","v":2},0,0]
[null,null,null,3,988.44344980535504,324,0,76,{"$f":"180/60","v":3},0,0,null,null,{"$f":"180/60","v":3},0,0]
[null,null,null,4,1312.4434498053552,324,0,76,{"$f":"240/60","v":4},0,0,null,null,{"$f":"240/60","v":4},0,0]
[null,null,null,5,1636.4434498053552,324,0,76,{"$f":"300/60","v":5},0,0,null,null,{"$f":"300/60","v":5},0,0]
[null,null,null,6,1960.4434498053552,324,0,76,{"$f":"360/60","v":6},0,0,null,null,{"$f":"360/60","v":6},0,0]
[null,null,null,7,2284.4434498053552,324,0,76,{"$f":"420/60","v":7},0,0,null,null,{"$f":"420/60","v":7},0,0]
[null,null,null,8,2608.4434498053552,324,0,76,{"$f":"480/60","v":8},0,0,null,null,{"$f":"480/60","v":8},0,0]
[]
[]
[]
[]
[]
[]
[]
[]
[]
[]
[]
[]
[]
[]
[]
[]
[]
[]
[]
[]
[]
[]
[]
[]
[]
[null,null,null,"Experiment 1",null,null,null,"Experiment 10",null,null,null,"Experiment 13"]
[null,null,null,"[P]n - [P]n-1","[SM]n-1 - [SM]n","subtraction","[SM]0 - [P]n - [SM]n","[P]n - [P]n-1","[SM]n-1 - [SM]n","subtraction","[SM]0 - [P]n - [SM]n","[P]n - [P]n-1","[SM]n-1 - [SM]n","subtraction","[SM]0 - [P]n - [SM]n"]
[null,null,null,{"$f":"H13-H12","v":17.093114709733523},{"$f":"G12-G13","v":19.750914161499864},{"$f":"E80-D80","v":2.6577994517663406},{"$f":"$G$12-(H12-$H$12)-G12","v":0},{"$f":"M13-M12","v":11.590101465928477},{"$f":"L12-L13","v":18.253727452083233},{"$f":"I80-H80","v":6.6636259861547558},{"$f":"$L$12-(M12-$M$12)-L12","v":0},{"$f":"R13-R12","v":24.299260549948386},{"$f":"Q12-Q13","v":30.733818555385056},{"$f":"M80-L80","v":6.4345580054366707},{"$f":"$Q$12-(R12-$R$12)-Q12","v":0}]
[null,null,null,7.2626840449530796,7.1596201012042116,-0.10306394374886807,2.657799451766337,5.843600354317747,4.2406505289977403,{"$f":"I81-H81","v":-1.6029498253200067},6.6636259861547629,9.5241247035572982,11.10351665175601,{"$f":"M81-L81","v":1.5793919481987118},{"$f":"$Q$12-(R13-$R$12)-Q13","v":6.4345580054366707}]
[null,null,null,4.4854927194624352,4.8424929723074825,0.35700025284504733,2.5547355080174725,3.6171150426329639,4.0231239915681485,0.40600894893518458,5.0606761608347455,5.606379632115555,4.6525528850563589,-0.95382674705919612,8.0139499536353824]
[null,null,null,7.5182093136721022,8.2646083551069935,0.74639904143489133,2.9117357608625198,6.21133705238395,6.6901704429098672,0.47883339052591722,5.4666851097699336,9.1802708441992564,7.3137729185060181,-1.8664979256932384,7.0601232065761863]
[null,null,null,4.3235319121946105,4.5590762110443634,0.23554429884975292,3.6581348022974112,3.6821225540881493,4.571714368995039,0.88959181490688977,5.9455185002958473,4.1360803034042988,4.589593838241985,0.45351353483768619,5.1936252808829479]
[null,null,null,3.0368243323431372,3.5925295018551964,0.55570516951205917,3.8936791011471641,2.3130843771857812,3.1294508503942424,0.81636647320846123,6.8351103152027406,2.6607292741088031,3.178262977002742,0.51753370289393885,5.6471388157206341]
[null,null,null,3.7501927249805647,4.5200403167992178,0.76984759181865314,4.4493842706592233,3.046091370962543,3.3522493190099922,0.30615794804744922,7.6514767884112018,4.1389126447148712,4.3366805670894557,0.19776792237458451,6.164672518614573]
[null,null,null,2.6474415809812371,2.6498326225854285,2.3910416041914573E-3,5.2192318624778764,2.2376438795909479,2.7909827575460895,0.55333887795514158,7.957634736458651,2.849365965891181,2.4422046021203627,-0.40716136377081824,6.3624404409891575]
[null,null,null,2.9933610096814292,4.0631433518265716,1.0697823421451425,5.2216229040820679,3.0225992385803977,4.0974330268299397,1.074833788249542,8.5109736144137926,3.4533626755659768,3.1104851098381801,-0.34287756572779671,5.9552790772183393]
[null,null,null,2.1897649551054954,2.7219444934793344,0.53217953837383902,6.2914052462272103,1.7625708149657839,2.3867428027816651,0.62417198781588112,9.5858074026633346,1.4924883112386595,2.1355628028275406,0.64307449158888108,5.6124015114905426]
[null,null,null,1.4450808312262851,1.9121450894238272,0.46706425819754216,6.8235847846010493,1.1186600881909783,2.1458546974542578,1.0271946092632795,10.209979390479216,1.3229632457705378,1.4204256440438821,9.7462398273344242E-2,6.2554760030794236]
[null,null,null,1.4861059827080894,1.7253150488308933,0.2392090661228039,7.2906490427985915,1.0520216256347723,1.5161415585123734,0.46411993287760112,11.237173999742495,0.58822211639255784,0.9117101023983043,0.32348798600574646,6.3529384013527679]
[null,null,null,0.65770452703017668,1.0843295123087238,0.42662498527854709,7.5298581089213954,0.72882816764947478,1.7724292100577159,1.0436010424082411,11.701293932620096,0.74783973309261853,0.71450451632815071,-3.3335216764467823E-2,6.6764263873585143]
[null,null,null,0.65393196632869177,1.061380047080597,0.4074480807519052,7.9564830941999425,0.59684152231120891,1.604081862984696,1.0072403406734871,12.744894975028338,0.4895255884937626,0.78355951001323998,0.29403392151947738,6.6430911705940465]
[null,null,null,null,null,null,8.3639311749518477,null,null,null,13.752135315701825,null,null,null,6.9371250921135239]
[]
[null,null,null,"Experiment 26",null,null,null,"Experiment X",null,null,null,"Experiment X"]
[null,null,null,"[P]n - [P]n-1","[SM]n-1 - [SM]n","subtraction","[SM]0 - [P]n - [SM]n","[P]n - [P]n-1","[SM]n-1 - [SM]n","subtraction","[SM]0 - [P]n - [SM]n","[P]n - [P]n-1","[SM]n-1 - [SM]n","subtraction","[SM]0 - [P]n - [SM]n"]
[null,null,null,{"$f":"H39-H38","v":36.271605782244599},{"$f":"G38-G39","v":45.784409650223168},{"$f":"E98-D98","v":9.5128038679785689},{"$f":"$G$38-(H38-$H$38)-G38","v":0}]
[null,null,null,{"$f":"H40-H39","v":14.964870577116976},{"$f":"G39-G40","v":13.522932184531747},{"$f":"E99-D99","v":-1.4419383925852287},{"$f":"$G$38-(H39-$H$38)-G39","v":9.5128038679785689}]
[null,null,null,7.7512805439745023,7.3045420916794246,-0.44673845229507769,8.0708654753933402]
[null,null,null,9.7863264356420387,7.3660842646057443,-2.4202421710362945,7.6241270230982625]
[null,null,null,3.1731827434804245,2.6298189303983577,-0.54336381308206683,5.203884852061968]
[null,null,null,1.7172619410889212,1.5727088501495599,-0.14455309093936131,4.6605210389799012]
[null,null,null,0.94695809751475224,1.181885147899183,0.23492705038443074,4.5159679480405401]
[null,null,null,0.48536557791716461,0.44254705870005806,-4.2818519217106554E-2,4.7508949984249709]
[null,null,null,0.9031483010206216,0.29168275796591259,-0.61146554305470902,4.7080764792078638]
[null,null,null,0,0,0,4.0966109361531551]
[null,null,null,0,0,0,4.0966109361531551]
[null,null,null,0,0,0,4.0966109361531551]
[null,null,null,0,0,0,4.0966109361531551]
[null,null,null,0,0,0,4.0966109361531551]
[null,null,null,null,null,null,4.0966109361531551]

{"sheet":"SM order","index":8,"n_rows":68,"n_cols":15,"rows_kept":68,"cut":false,"hidden":false,"merged":[[51,4,51,7],[51,8,51,11],[0,4,0,8],[0,9,0,14],[9,4,9,8],[9,9,9,14]]}
[null,null,null,null,"BL-074, BL-076 + BL-091 + BL-103",null,null,null,null,"BL-092, BL-122"]
[null,null,null,null,"  [SM]0","80 mM",null,null,null,"  [SM]0","40 mM"]
[null,null,null,null,"  [PhCO2H]0","96 mM",null,null,null,"  [PhCO2H]0","96 mM"]
[null,null,null,null,"  [PhCONHBr]0","96 mM",null,null,null,"  [PhCONHBr]0","96 mM"]
[null,null,null,null,"  [(DHQD)2PHAL]0","8 mM",null,null,null,"  [(DHQD)2PHAL]0","8 mM"]
[null,null,null,null,"  [(4-Tol)2CO]0","40 mM","← internal standard",null,null,"  [(4-Tol)2CO]0","40 mM","← internal standard"]
[null,null,null,null,"  [P]0 (83:17 er)","0 mM",null,null,null,"  [P]0 (83:17 er)","0 mM"]
[null,null,null,null,"  [PhCONH2]0","0 mM",null,null,null,"  [PhCONH2]0","0 mM"]
[]
[null,null,null,null,"Experiment 1",null,null,null,null,"Experiment 11"]
[null,null,null,null,"t (hours)","shifted t, SM","shifted t, P","[SM] (mM)","[P] (mM)","t (hours)","shifted t, SM","shifted t, P","[SM] (mM)","[SM] shifted (mM)","[P] (mM)"]
["order in SM",0.8,null,null,0,0,0,81.078082460677095,0,{"$f":"0/60","v":0},0,0,40.260787945825214,{"$f":"M12+$B$13","v":81.260787945825214},0]
["shifted [SM] (mM)",41,null,null,{"$f":"5/60","v":8.3333333333333329E-2},{"$f":"F12+((H13+H12)/2)^$B$12*(E13-E12)","v":2.528224058400057},{"$f":"G12+((I13+I12)/2)^$B$12*(E13-E12)","v":0.46371561788536497},61.327168299177231,17.093114709733523,{"$f":"5/60","v":8.3333333333333329E-2},{"$f":"K12+((M13+M12)/2)^$B$12*(J13-J12)","v":1.37124105267034},{"$f":"L12+((O13+O12)/2)^$B$12*(J13-J12)","v":0.36209511051716792},26.021701563736872,{"$f":"M13+$B$13","v":67.021701563736869},12.546854993021094]
[null,null,null,null,{"$f":"10/60","v":0.16666666666666666},4.6664049849039637,1.4056166609250045,54.167548197973019,24.355798754686603,{"$f":"10/60","v":0.16666666666666666},{"$f":"K13+((M14+M13)/2)^$B$12*(J14-J13)","v":2.4047216997969265},{"$f":"L13+((O14+O13)/2)^$B$12*(J14-J13)","v":1.0950669773773667},20.524526040674676,61.524526040674672,17.747777291078066]
[null,null,null,null,0.25,6.6248988120290591,2.5556357778937864,49.325055225665537,28.841291474149038,{"$f":"15/60","v":0.25},3.2561667693080536,1.9891260033878615,16.009904877162295,57.009904877162299,21.086416472145142]
[null,null,null,null,0.5,11.897137116179348,6.6155635791956504,41.060446870558543,36.35950078782114,{"$f":"30/60","v":0.5},5.2116716676922241,5.1286967996935884,10.152557693717725,51.152557693717725,26.195256595262293]
[null,null,null,null,0.75,16.561951785473617,11.25537635915021,36.50137065951418,40.683032700015751,{"$f":"45/60","v":0.75},6.5724739057394972,8.6765360475627968,6.4757768485717886,47.47577684857179,28.8931108357562]
[null,null,null,null,1,20.83024953928523,16.246540643541209,32.908841157658983,43.719857032358888,{"$f":"60/60","v":1},7.5632203792655774,12.484996854156243,4.7072187455329004,45.707218745532899,31.299315236010145]
[null,null,null,null,1.5,28.558852954093112,26.866024895876027,28.388800840859766,47.470049757339453,{"$f":"90/60","v":1.5},8.9981727145319095,20.462951888188407,2.763533507426676,43.763533507426679,32.48031109114325]
[null,null,null,null,2,35.555373435302087,38.077467760093342,25.738968218274337,50.11749133832069,{"$f":"120/60","v":2},9.9189939094622428,28.625689735403618,1.5272502118488576,42.527250211848859,33.151184585448206]
[null,null,null,null,3,48.141934616925653,61.531373247293139,21.675824866447766,53.110852348002119,{"$f":"180/60","v":3},10.935233296094447,45.331702732326377,0.51343033428299656,41.513430334282994,34.398140528890636]
[null,null,null,null,4,59.265677470363158,85.922742953090392,18.953880372968431,55.300617303107614,{"$f":"240/60","v":4},11.391474078562085,62.358270529639334,0.23650294241256378,41.236502942412564,34.775221742384346]
[null,null,null,null,5,69.362289960049921,110.96618775565319,17.041735283544604,56.7456981343339,{"$f":"300/60","v":5},11.600723133206209,79.489047804966006,4.6544592160149431E-2,41.046544592160153,34.927755960407296]
[null,null,null,null,6,78.634067647164926,136.53239466490459,15.316420234713711,58.231804117041989,{"$f":"360/60","v":6},11.650094072157785,96.638129974859226,0,41,34.868334565805625]
[null,null,null,null,7,87.255997471228753,162.47925109087797,14.232090722404987,58.889508644072166,{"$f":"420/60","v":7},11.650094072157785,113.81172470362041,0,0,35.052484673221997]
[null,null,null,null,8,95.373304518321589,188.6583105168225,13.17071067532439,59.543440610400857,{"$f":"480/60","v":8},11.650094072157785,131.01109743856748,0,0,34.999550350649791]
[]
[]
[]
[]
[]
[]
[]
[]
[]
[]
[]
[]
[]
[]
[]
[]
[]
[]
[]
[]
[]
[]
[]
[]
[]
[null,null,null,null,"Experiment 1",null,null,null,"Experiment 11"]
[null,null,null,null,"[P]n - [P]n-1","[SM]n-1 - [SM]n","subtraction","[SM]0 - [P]n - [SM]n","[P]n - [P]n-1","[SM]n-1 - [SM]n","subtraction","[SM]0 - [P]n - [SM]n"]
[null,null,null,null,{"$f":"I13-I12","v":17.093114709733523},{"$f":"H12-H13","v":19.750914161499864},{"$f":"F54-E54","v":2.6577994517663406},{"$f":"$H$12-(I12-$I$12)-H12","v":0},{"$f":"O13-O12","v":12.546854993021094},{"$f":"N12-N13","v":14.239086382088345},{"$f":"J54-I54","v":1.6922313890672509},{"$f":"$N$12-(O12-$O$12)-N12","v":0}]
[null,null,null,null,7.2626840449530796,7.1596201012042116,-0.10306394374886807,2.657799451766337,5.2009222980569714,5.4971755230621966,0.29625322500522522,{"$f":"$N$12-(O13-$O$12)-N13","v":1.6922313890672456}]
[null,null,null,null,4.4854927194624352,4.8424929723074825,0.35700025284504733,2.5547355080174725,3.3386391810670766,4.5146211635123734,1.1759819824452968,1.9884846140724761]
[null,null,null,null,7.5182093136721022,8.2646083551069935,0.74639904143489133,2.9117357608625198,5.108840123117151,5.8573471834445741,0.74850706032742309,3.1644665965177694]
[null,null,null,null,4.3235319121946105,4.5590762110443634,0.23554429884975292,3.6581348022974112,2.697854240493907,3.6767808451459345,0.97892660465202752,3.912973656845196]
[null,null,null,null,3.0368243323431372,3.5925295018551964,0.55570516951205917,3.8936791011471641,2.4062044002539444,1.7685581030388917,-0.63764629721505273,4.89190026149722]
[null,null,null,null,3.7501927249805647,4.5200403167992178,0.76984759181865314,4.4493842706592233,1.180995855133105,1.9436852381062195,0.7626893829731145,4.2542539642821708]
[null,null,null,null,2.6474415809812371,2.6498326225854285,2.3910416041914573E-3,5.2192318624778764,0.67087349430495635,1.2362832955778202,0.56540980127286389,5.0169433472552853]
[null,null,null,null,2.9933610096814292,4.0631433518265716,1.0697823421451425,5.2216229040820679,1.2469559434424298,1.0138198775658651,-0.23313606587656466,5.5823531485281492]
[null,null,null,null,2.1897649551054954,2.7219444934793344,0.53217953837383902,6.2914052462272103,0.37708121349371027,0.27692739187043003,-0.10015382162328024,5.3492170826515846]
[null,null,null,null,1.4450808312262851,1.9121450894238272,0.46706425819754216,6.8235847846010493,0.15253421802295009,0.18995835025241092,3.7424132229460838E-2,5.2490632610283043]
[null,null,null,null,1.4861059827080894,1.7253150488308933,0.2392090661228039,7.2906490427985915,-5.9421394601670841E-2,4.6544592160152831E-2,0.10596598676182367,5.2864873932577652]
[null,null,null,null,0.65770452703017668,1.0843295123087238,0.42662498527854709,7.5298581089213954,0.18415010741637161,41,40.815849892583628,5.3924533800195888]
[null,null,null,null,0.65393196632869177,1.061380047080597,0.4074480807519052,7.9564830941999425,-5.2934322572205872E-2,0,5.2934322572205872E-2,46.208303272603217]
[null,null,null,null,null,null,null,8.3639311749518477,null,null,null,46.261237595175423]

{"sheet":"SM order (fake SM)","index":9,"n_rows":68,"n_cols":15,"rows_kept":68,"cut":false,"hidden":false,"merged":[[51,4,51,7],[51,8,51,11],[0,4,0,8],[0,9,0,14],[9,4,9,8],[9,9,9,14]]}
[null,null,null,null,"BL-074, BL-076 + BL-091 + BL-103",null,null,null,null,"BL-092, BL-122"]
[null,null,null,null,"  [SM]0","80 mM",null,null,null,"  [SM]0","40 mM"]
[null,null,null,null,"  [PhCO2H]0","96 mM",null,null,null,"  [PhCO2H]0","96 mM"]
[null,null,null,null,"  [PhCONHBr]0","96 mM",null,null,null,"  [PhCONHBr]0","96 mM"]
[null,null,null,null,"  [(DHQD)2PHAL]0","8 mM",null,null,null,"  [(DHQD)2PHAL]0","8 mM"]
[null,null,null,null,"  [(4-Tol)2CO]0","40 mM","← internal standard",null,null,"  [(4-Tol)2CO]0","40 mM","← internal standard"]
[null,null,null,null,"  [P]0 (83:17 er)","0 mM",null,null,null,"  [P]0 (83:17 er)","0 mM"]
[null,null,null,null,"  [PhCONH2]0","0 mM",null,null,null,"  [PhCONH2]0","0 mM"]
[]
[null,null,null,null,"Experiment 1",null,null,null,null,"Experiment 11"]
[null,null,null,null,"t (hours)","shifted t, SM","shifted t, P","[SM] (mM)","[P] (mM)","t (hours)","shifted t, SM","shifted t, P","[SM] (mM)","[SM] shifted (mM)","[P] (mM)"]
["order in SM",1,null,null,0,0,0,81.078082460677095,0,{"$f":"0/60","v":0},0,0,40.260787945825214,{"$f":"M12+$B$13","v":81.260787945825214},0]
["shifted [SM] (mM)",41,null,null,{"$f":"5/60","v":8.3333333333333329E-2},{"$f":"F12+((H13+H12)/2)^$B$12*(E13-E12)","v":6.0442937588175276},{"$f":"G12+((I13+I12)/2)^$B$12*(E13-E12)","v":0.71221311290556344},{"$f":"$H$12-I13","v":63.984967750943568},17.093114709733523,{"$f":"5/60","v":8.3333333333333329E-2},{"$f":"K12+((M13+M12)/2)^$B$12*(J13-J12)","v":2.8322800374428887},{"$f":"L12+((O13+O12)/2)^$B$12*(J13-J12)","v":0.52278562470921219},{"$f":"$M$12-O13","v":27.713932952804122},{"$f":"M13+$B$13","v":68.713932952804129},12.546854993021094]
[null,null,null,null,{"$f":"10/60","v":0.16666666666666666},11.073762569523113,2.4392511739230689,{"$f":"$H$12-I14","v":56.722283705990492},24.355798754686603,{"$f":"10/60","v":0.16666666666666666},{"$f":"K13+((M14+M13)/2)^$B$12*(J14-J13)","v":4.9250693544241919},{"$f":"L13+((O14+O13)/2)^$B$12*(J14-J13)","v":1.7850619698800103},{"$f":"$M$12-O14","v":22.513010654747148},63.513010654747148,17.747777291078066]
[null,null,null,null,0.25,15.613724015044721,4.6557966001245541,52.236790986528057,28.841291474149038,{"$f":"15/60","v":0.25},6.6620436097753259,3.4031533766809776,19.174371473680072,60.174371473680068,21.086416472145142]
[null,null,null,null,0.5,27.733145597467722,12.805895632870826,44.718581672855954,36.35950078782114,{"$f":"30/60","v":0.5},10.8170314628057,9.3133625101069075,14.065531350562921,55.065531350562921,26.195256595262293]
[null,null,null,null,0.75,38.372349526657388,22.436212318850437,40.395049760661344,40.683032700015751,{"$f":"45/60","v":0.75},13.996182520384691,16.199408438984221,11.367677110069014,52.36767711006901,28.8931108357562]
[null,null,null,null,1,48.091508925279832,32.98657353539727,37.358225428318207,43.719857032358888,{"$f":"60/60","v":1},16.537326247870201,23.723461697955017,8.9614727098150695,49.961472709815069,31.299315236010145]
[null,null,null,null,1.5,65.833073458193795,55.784050232821855,33.608032703337642,47.470049757339453,{"$f":"90/60","v":1.5},20.722813638994459,39.668368279743362,7.7804768546819645,48.780476854681964,32.48031109114325]
[null,null,null,null,2,81.975229414617303,80.180935506736887,30.960591122356405,50.11749133832069,{"$f":"120/60","v":2},24.445333692759203,56.076242198891222,7.1096033603770081,48.109603360377008,33.151184585448206]
[null,null,null,null,3,111.439140032133,131.79510734989827,27.967230112674976,53.110852348002119,{"$f":"180/60","v":3},30.931459081414996,89.850904756060643,5.8626474169345784,46.862647416934578,34.398140528890636]
[null,null,null,null,4,138.31148766725522,186.00084217545316,25.77746515756948,55.300617303107614,{"$f":"240/60","v":4},36.605565891602723,124.43758589169813,5.4855662034408681,46.485566203440868,34.775221742384346]
[null,null,null,null,5,163.36641240921156,242.02399989417393,24.332384326343195,56.7456981343339,{"$f":"300/60","v":5},42.014864986032116,159.28907474309395,5.333031985417918,46.333031985417918,34.927755960407296]
[null,null,null,null,6,186.9557437442007,299.51275101986187,22.846278343635106,58.231804117041989,{"$f":"360/60","v":6},47.377607668750869,194.18712000620042,5.3924533800195888,46.392453380019589,34.868334565805625]
[null,null,null,null,7,209.47316982432073,358.07340740041894,22.188573816604929,58.889508644072166,{"$f":"420/60","v":7},52.677985995062272,229.14752962571424,5.2083032726032172,0,35.052484673221997]
[null,null,null,null,8,231.33477765776132,417.28988202765544,21.534641850276238,59.543440610400857,{"$f":"480/60","v":8},57.912756428951596,264.17354713765013,5.2612375951754231,0,34.999550350649791]
[]
[]
[]
[]
[]
[]
[]
[]
[]
[]
[]
[]
[]
[]
[]
[]
[]
[]
[]
[]
[]
[]
[]
[]
[]
[null,null,null,null,"Experiment 1",null,null,null,"Experiment 11"]
[null,null,null,null,"[P]n - [P]n-1","[SM]n-1 - [SM]n","subtraction","[SM]0 - [P]n - [SM]n","[P]n - [P]n-1","[SM]n-1 - [SM]n","subtraction","[SM]0 - [P]n - [SM]n"]
[null,null,null,null,{"$f":"I13-I12","v":17.093114709733523},{"$f":"H12-H13","v":17.093114709733527},{"$f":"F54-E54","v":0},{"$f":"$H$12-(I12-$I$12)-H12","v":0},{"$f":"O13-O12","v":12.546854993021094},{"$f":"N12-N13","v":12.546854993021086},{"$f":"J54-I54","v":0},{"$f":"$N$12-(O12-$O$12)-N12","v":0}]
[null,null,null,null,7.2626840449530796,7.2626840449530761,0,0,5.2009222980569714,5.2009222980569803,8.8817841970012523E-15,{"$f":"$N$12-(O13-$O$12)-N13","v":0}]
[null,null,null,null,4.4854927194624352,4.4854927194624352,0,0,3.3386391810670766,3.3386391810670801,3.5527136788005009E-15,0]
[null,null,null,null,7.5182093136721022,7.5182093136721022,0,0,5.108840123117151,5.1088401231171474,0,0]
[null,null,null,null,4.3235319121946105,4.3235319121946105,0,0,2.697854240493907,2.6978542404939105,3.5527136788005009E-15,0]
[null,null,null,null,3.0368243323431372,3.0368243323431372,0,0,2.4062044002539444,2.4062044002539409,-3.5527136788005009E-15,0]
[null,null,null,null,3.7501927249805647,3.7501927249805647,0,0,1.180995855133105,1.180995855133105,0,0]
[null,null,null,null,2.6474415809812371,2.6474415809812371,0,0,0.67087349430495635,0.67087349430495635,0,0]
[null,null,null,null,2.9933610096814292,2.9933610096814292,0,0,1.2469559434424298,1.2469559434424298,0,0]
[null,null,null,null,2.1897649551054954,2.1897649551054954,0,0,0.37708121349371027,0.37708121349371027,0,0]
[null,null,null,null,1.4450808312262851,1.4450808312262851,0,0,0.15253421802295009,0.15253421802295009,0,0]
[null,null,null,null,1.4861059827080894,1.4861059827080894,0,0,-5.9421394601670841E-2,-5.9421394601670841E-2,0,0]
[null,null,null,null,0.65770452703017668,0.65770452703017668,0,0,0.18415010741637161,46.392453380019589,46.208303272603217,0]
[null,null,null,null,0.65393196632869177,0.65393196632869177,0,0,-5.2934322572205872E-2,0,5.2934322572205872E-2,46.208303272603217]
[null,null,null,null,null,null,null,0,null,null,null,46.261237595175423]

{"sheet":"5 equiv. BzOH same excess","index":10,"n_rows":70,"n_cols":18,"rows_kept":70,"cut":false,"hidden":false,"merged":[[52,3,52,6],[52,7,52,10],[52,11,52,14],[70,3,70,14],[0,3,0,7],[0,8,0,12],[0,13,0,17],[9,3,9,7],[9,8,9,12],[9,13,9,17],[2,16,2,17],[3,16,3,17],[2,11,2,12],[3,11,3,12],[2,6,2,7],[3,6,3,7]]}
[null,null,null,"BL-176, BL-177",null,null,null,null,"BL-183, BL-185",null,null,null,null,"BL-182, BL-186"]
[null,null,null,"  [SM]0","80 mM",null,null,null,"  [SM]0","40 mM",null,null,null,"  [SM]0","40 mM"]
[null,null,null,"  [PhCO2H]0","400 mM","← 5.0 equiv.","initial rate (mM hour-1)",null,"  [PhCO2H]0","360 mM",null,"initial rate (mM hour-1)",null,"  [PhCO2H]0","360 mM",null,"initial rate (mM hour-1)"]
[null,null,null,"  [PhCONHBr]0","96 mM",null,{"$f":"SLOPE(H12:H14,D12:D14)","v":309.56380957817089},null,"  [PhCONHBr]0","56 mM",null,{"$f":"SLOPE(M12:M14,I12:I14)","v":129.26041242535319},null,"  [PhCONHBr]0","56 mM",null,{"$f":"SLOPE(R12:R14,N12:N14)","v":193.85586489695379}]
[null,null,null,"  [(DHQD)2PHAL]0","8 mM",null,null,null,"  [(DHQD)2PHAL]0","8 mM",null,null,null,"  [(DHQD)2PHAL]0","8 mM"]
[null,null,null,"  [(4-Tol)2CO]0","40 mM","← internal standard",null,null,"  [(4-Tol)2CO]0","40 mM","← internal standard",null,null,"  [(4-Tol)2CO]0","40 mM","← internal standard"]
[null,null,null,"  [P]0 (83:17 er)","0 mM",null,null,null,"  [P]0 (83:17 er)","0 mM",null,null,null,"  [P]0 (83:17 er)","0 mM"]
[null,null,null,"  [PhCONH2]0","0 mM",null,null,null,"  [PhCONH2]0","40 mM",null,null,null,"  [PhCONH2]0","0 mM"]
[]
[null,null,null,"Experiment 26",null,null,null,null,"Experiment 28",null,null,null,null,"Experiment 29"]
[null,null,null,"t (hours)","shifted t, SM","shifted t, P","[SM] (mM)","[P] (mM)","t (hours)","shifted t, SM","shifted t, P","[SM] (mM)","[P] (mM)","t (hours)","shifted t, SM","shifted t, P","[SM] (mM)","[P] (mM)"]
["shifted t, SM",{"$f":"6/60","v":0.1},null,{"$f":"0/60","v":0},"−","−",80.096610936153155,0,{"$f":"0/60","v":0},{"$f":"I12+$B$12","v":0.1},{"$f":"I12+$B$13","v":0.1},40.414818952590181,{"$f":"0+$B$14","v":40},{"$f":"0/60","v":0},{"$f":"N12+$B$12","v":0.1},{"$f":"N12+$B$13","v":0.1},39.891195240547361,{"$f":"0+$B$14","v":40}]
["shifted t, P",{"$f":"6/60","v":0.1},null,{"$f":"5/60","v":8.3333333333333329E-2},"−","−",34.312201285929987,36.844174885095654,{"$f":"5/60","v":8.3333333333333329E-2},{"$f":"I13+$B$12","v":0.18333333333333335},{"$f":"I13+$B$13","v":0.18333333333333335},17.091058507255891,{"$f":"14.5872955292582+$B$14","v":54.587295529258199},{"$f":"2.5/60","v":4.1666666666666664E-2},{"$f":"N13+$B$12","v":0.14166666666666666},{"$f":"N13+$B$13","v":0.14166666666666666},15.893687765684069,{"$f":"13.5343355195556+$B$14","v":53.534335519555597}]
["shifted [P] (mM)",40,null,{"$f":"10/60","v":0.16666666666666666},"−","−",20.78926910139824,51.593968263028479,{"$f":"10/60","v":0.16666666666666666},0.26666666666666666,0.26666666666666666,12.790268692693981,{"$f":"21.5434020708922+$B$14","v":61.543402070892199},{"$f":"7.5/60","v":0.125},0.22500000000000001,0.22500000000000001,11.174221502363986,{"$f":"25.3233846752224+$B$14","v":65.3233846752224}]
[null,null,null,{"$f":"15/60","v":0.25},"−","−",13.484727009718815,59.101694213585247,{"$f":"15/60","v":0.25},0.35,0.35,9.1054563199165202,{"$f":"25.7651858378447+$B$14","v":65.765185837844697},{"$f":"12.5/60","v":0.20833333333333334},0.30833333333333335,0.30833333333333335,7.1527805600780878,{"$f":"30.62801091352+$B$14","v":70.628010913520001}]
[null,null,null,{"$f":"30/60","v":0.5},"−","−",6.1186427451130712,69.751832197055194,{"$f":"30/60","v":0.5},0.6,0.6,4.7250222746838126,{"$f":"31.9491026894875+$B$14","v":71.949102689487503},{"$f":"22.5/60","v":0.375},0.47499999999999998,0.47499999999999998,2.0979490692092386,{"$f":"34.594249208177+$B$14","v":74.59424920817699}]
[null,null,null,{"$f":"45/60","v":0.75},"−","−",3.4888238147147135,72.928750545632425,{"$f":"45/60","v":0.75},0.85,0.85,2.7873436891539809,{"$f":"34.596866636518+$B$14","v":74.596866636518001},{"$f":"37.5/60","v":0.625},0.72499999999999998,0.72499999999999998,0.82165579285897206,{"$f":"36.9662463601285+$B$14","v":76.966246360128508}]
[null,null,null,{"$f":"60/60","v":1},"−","−",1.9161149645651536,74.598200195850083,{"$f":"60/60","v":1},1.1000000000000001,1.1000000000000001,1.7172254399879183,{"$f":"35.8249752593411+$B$14","v":75.824975259341102},{"$f":"52.5/60","v":0.875},0.97499999999999998,0.97499999999999998,0.27428703853218195,{"$f":"37.6063987097133+$B$14","v":77.606398709713289}]
[null,null,null,{"$f":"90/60","v":1.5},"−","−",0.73422981666597065,75.800788418397119,{"$f":"90/60","v":1.5},1.6,1.6,0.66273628153877073,{"$f":"36.0814783711295+$B$14","v":76.081478371129492},{"$f":"75/60","v":1.25},1.35,1.35,0,{"$f":"38+$B$14","v":78}]
[null,null,null,{"$f":"120/60","v":2},"−","−",0.29168275796591259,76.088404887712514,{"$f":"120/60","v":2},2.1,2.1,0.33730286151260486,{"$f":"36.5215386061787+$B$14","v":76.521538606178694},{"$f":"105/60","v":1.75},1.85,1.85,0,78]
[null,null,null,{"$f":"180/60","v":3},"−","−",0,76.124522816057393,{"$f":"180/60","v":3},3.1,3.1,0,{"$f":"36.6302267828237+$B$14","v":76.630226782823698},{"$f":"150/60","v":2.5},2.6,2.6,0,78]
[null,null,null,{"$f":"240/60","v":4},"−","−",0,76.683555236074724,{"$f":"240/60","v":4},4.0999999999999996,4.0999999999999996,0,{"$f":"37+$B$14","v":77},{"$f":"210/60","v":3.5},3.6,3.6,0,78]
[null,null,null,{"$f":"300/60","v":5},"−","−",0,77,{"$f":"300/60","v":5},5.0999999999999996,5.0999999999999996,0,{"$f":"37+$B$14","v":77},{"$f":"270/60","v":4.5},4.5999999999999996,4.5999999999999996,0,78]
[null,null,null,{"$f":"360/60","v":6},"−","−",0,77,{"$f":"360/60","v":6},6.1,6.1,0,{"$f":"37+$B$14","v":77},{"$f":"330/60","v":5.5},5.6,5.6,0,78]
[null,null,null,{"$f":"420/60","v":7},"−","−",0,77,{"$f":"420/60","v":7},7.1,7.1,0,{"$f":"37+$B$14","v":77},{"$f":"390/60","v":6.5},6.6,6.6,0,78]
[null,null,null,{"$f":"480/60","v":8},"−","−",0,77,{"$f":"480/60","v":8},8.1,8.1,0,{"$f":"37+$B$14","v":77},{"$f":"450/60","v":7.5},7.6,7.6,0,78]
[null,null,null,null,null,null,null,null,null,null,null,null,null,{"$f":"510/60","v":8.5},8.6,8.6,0,78]
[]
[]
[]
[]
[]
[]
[]
[]
[]
[]
[]
[]
[]
[]
[]
[]
[]
[]
[]
[]
[]
[]
[]
[]
[]
[null,null,null,"Experiment 26",null,null,null,"Experiment 28",null,null,null,"Experiment 29"]
[null,null,null,"[P]n - [P]n-1","[SM]n-1 - [SM]n","subtraction","[SM]0 - [P]n - [SM]n","[P]n - [P]n-1","[SM]n-1 - [SM]n","subtraction","[SM]0 - [P]n - [SM]n","[P]n - [P]n-1","[SM]n-1 - [SM]n","subtraction","[SM]0 - [P]n - [SM]n"]
[null,null,null,{"$f":"H13-H12","v":36.844174885095654},{"$f":"G12-G13","v":45.784409650223168},{"$f":"E55-D55","v":8.9402347651275136},{"$f":"$G$12-(H12-$H$12)-G12","v":0},{"$f":"M13-M12","v":14.587295529258199},{"$f":"L12-L13","v":23.32376044533429},{"$f":"I55-H55","v":8.7364649160760912},{"$f":"$L$12-M12-L12+$M$12","v":0},{"$f":"R13-R12","v":13.534335519555597},{"$f":"Q12-Q13","v":23.997507474863291},{"$f":"M55-L55","v":10.463171955307693},{"$f":"$Q$12-R12-Q12+$R$12","v":0}]
[null,null,null,14.749793377932825,13.522932184531747,-1.2268611934010778,8.9402347651275136,6.956106541634,4.3007898145619095,{"$f":"I56-H56","v":-2.6553167270720905},8.7364649160760912,11.789049155666802,4.7194662633200828,{"$f":"M56-L56","v":-7.0695828923467197},{"$f":"$Q$12-R13-Q13+$R$12","v":10.463171955307693}]
[null,null,null,7.5077259505567682,7.3045420916794246,-0.20318385887734358,7.7133735717264358,4.2217837669524982,3.6848123727774613,-0.53697139417503692,6.0811481890039971,5.304626238297601,4.0214409422858983,-1.2831852960117027,3.3935890629609773]
[null,null,null,10.650137983469946,7.3660842646057443,-3.2840537188642021,7.5101897128490922,6.183916851642806,4.3804340452327075,-1.8034828064100985,5.5441767948289638,3.9662382946569892,5.0548314908688496,1.0885931962118605,2.1104037669492755]
[null,null,null,3.1769183485772317,2.6298189303983577,-0.54709941817887398,4.2261359939848901,2.6477639470304979,1.9376785855298317,-0.71008536150066615,3.7406939884188688,2.3719971519515184,1.2762932763502666,-1.0957038756012518,3.1989969631611359]
[null,null,null,1.6694496502176577,1.5727088501495599,-9.6740800068097821E-2,3.6790365758060162,1.2281086228231004,1.0701182491660626,-0.15799037365703783,3.0306086269182018,0.64015234958478118,0.54736875432679011,-9.2783595257991069E-2,2.1032930875598836]
[null,null,null,1.2025882225470355,1.181885147899183,-2.0703074647852482E-2,3.5822957757379186,0.25650311178839047,1.0544891584491476,0.79798604666075712,2.8726182532611588,0.39360129028671054,0.27428703853218195,-0.11931425175452859,2.0105094923018925]
[null,null,null,0.28761646931539531,0.44254705870005806,0.15493058938466275,3.5615927010900661,0.44006023504920222,0.32543342002616588,-0.11462681502303634,3.6706042999219193,0,0,0,1.8911952405473613]
[null,null,null,3.6117928344879147E-2,0.29168275796591259,0.25556482962103344,3.7165232904747287,0.10868817664500341,0.33730286151260486,0.22861468486760145,3.5559774848988823,0,0,0,1.8911952405473613]
[null,null,null,null,null,null,3.9720881200957621,0.36977321717630218,0,-0.36977321717630218,3.7845921697664835,0,0,0,1.8911952405473613]
[null,null,null,null,null,null,null,0,0,0,3.4148189525901813,0,0,0,1.8911952405473613]
[null,null,null,null,null,null,null,0,0,0,3.4148189525901813,0,0,0,1.8911952405473613]
[null,null,null,null,null,null,null,0,0,0,3.4148189525901813,0,0,0,1.8911952405473613]
[null,null,null,null,null,null,null,0,0,0,3.4148189525901813,0,0,0,1.8911952405473613]
[null,null,null,null,null,null,null,null,null,null,3.4148189525901813,0,0,0,1.8911952405473613]
[null,null,null,null,null,null,null,null,null,null,null,null,null,null,1.8911952405473613]

{"sheet":"5 equiv. BzOH cat order","index":11,"n_rows":1977,"n_cols":23,"rows_kept":1977,"cut":false,"hidden":false,"merged":[[77,3,77,8],[77,9,77,14],[77,15,77,20],[37,9,37,14],[37,15,37,20],[68,3,68,8],[68,9,68,14],[68,15,68,20],[139,3,139,6],[139,7,139,10],[139,11,139,14],[0,15,0,20],[9,3,9,8],[9,9,9,14],[9,15,9,20],[120,3,120,6],[120,7,120,10],[120,11,120,14],[0,3,0,8],[0,9,0,14],[28,3,28,8],[28,9,28,14],[28,15,28,20],[37,3,37,8]]}
[null,null,null,"BL-176, BL-177",null,null,null,null,null,"BL-178, BL-179",null,null,null,null,null,"BL-188, BL-189, BL-190"]
[null,null,null,"  [SM]0","80 mM",null,null,null,null,"  [SM]0","80 mM",null,null,null,null,"  [SM]0","80 mM"]
[null,null,null,"  [PhCO2H]0","400 mM",null,null,null,null,"  [PhCO2H]0","400 mM",null,null,null,null,"  [PhCO2H]0","400 mM"]
[null,null,null,"  [PhCONHBr]0","96 mM",null,null,null,null,"  [PhCONHBr]0","96 mM",null,null,null,null,"  [PhCONHBr]0","96 mM"]
[null,null,null,"  [(DHQD)2PHAL]0","8 mM",null,null,null,null,"  [(DHQD)2PHAL]0","2 mM",null,null,null,null,"  [(DHQD)2PHAL]0","0.8 mM"]
[null,null,null,"  [(4-Tol)2CO]0","40 mM","← internal standard",null,null,null,"  [(4-Tol)2CO]0","40 mM","← internal standard",null,null,null,"  [(4-Tol)2CO]0","40 mM","← internal standard"]
[null,null,null,"  [P]0 (83:17 er)","0 mM",null,null,null,null,"  [P]0 (83:17 er)","0 mM",null,null,null,null,"  [P]0 (83:17 er)","0 mM"]
[null,null,null,"  [PhCONH2]0","0 mM",null,null,null,null,"  [PhCONH2]0","0 mM",null,null,null,null,"  [PhCONH2]0","0 mM"]
[]
[null,null,null,"Experiment 26",null,null,null,null,null,"Experiment 27",null,null,null,null,null,"Experiment 30"]
[null,null,null,"t (hours)","tcat (SM)","tcat (P)","[SM] (mM)","[P] (mM)","[cat] (mM)","t (hours)","tcat (SM)","tcat (P)","[SM] (mM)","[P] (mM)","[cat] (mM)","t (hours)","tcat (SM)","tcat (P)","[SM] (mM)","[P] (mM)","[cat] (mM)",null,"t (minutes)"]
["order in cat (SM)",0,null,0,0,0,80.096610936153198,0,8,{"$f":"0/60","v":0},0,0,80.267301636070357,0,2,{"$f":"0/60","v":0},0,0,null,0,0.8,null,{"$f":"0","v":0}]
["order in cat (P)",0,null,{"$f":"5/60","v":8.3333333333333329E-2},{"$f":"E12+(($I12+$I13)/2)^$B$12*($D13-$D12)","v":8.3333333333333329E-2},{"$f":"F12+(($I12+$I13)/2)^$B$13*($D13-$D12)","v":8.3333333333333329E-2},34.312201285929987,36.271605782244599,8,{"$f":"5/60","v":8.3333333333333329E-2},{"$f":"K12+(($O12+$O13)/2)^$B$12*($J13-$J12)","v":8.3333333333333329E-2},{"$f":"L12+(($O12+$O13)/2)^$B$13*($J13-$J12)","v":8.3333333333333329E-2},43.189828690323992,13.362616792246071,2,{"$f":"5/60","v":8.3333333333333329E-2},{"$f":"Q12+(($U12+$U13)/2)^$B$12*($P13-$P12)","v":8.3333333333333329E-2},{"$f":"R12+(($U12+$U13)/2)^$B$13*($P13-$P12)","v":8.3333333333333329E-2},null,5.1167223644902071,0.8,null,{"$f":"5","v":5}]
[null,null,null,{"$f":"10/60","v":0.16666666666666666},{"$f":"E13+(($I13+$I14)/2)^$B$12*($D14-$D13)","v":0.16666666666666666},{"$f":"F13+(($I13+$I14)/2)^$B$13*($D14-$D13)","v":0.16666666666666666},20.78926910139824,51.236476359361575,8,{"$f":"10/60","v":0.16666666666666666},{"$f":"K13+(($O13+$O14)/2)^$B$12*($J14-$J13)","v":0.16666666666666666},{"$f":"L13+(($O13+$O14)/2)^$B$13*($J14-$J13)","v":0.16666666666666666},26.734485060199368,22.364302045337674,2,{"$f":"10/60","v":0.16666666666666666},{"$f":"Q13+(($U13+$U14)/2)^$B$12*($P14-$P13)","v":0.16666666666666666},{"$f":"R13+(($U13+$U14)/2)^$B$13*($P14-$P13)","v":0.16666666666666666},null,9.4175087249196761,0.8,null,{"$f":"10","v":10}]
[null,null,null,0.25,{"$f":"E14+(($I14+$I15)/2)^$B$12*($D15-$D14)","v":0.25},{"$f":"F14+(($I14+$I15)/2)^$B$13*($D15-$D14)","v":0.25},13.484727009718815,58.987756903336077,8,{"$f":"15/60","v":0.25},{"$f":"K14+(($O14+$O15)/2)^$B$12*($J15-$J14)","v":0.25},{"$f":"L14+(($O14+$O15)/2)^$B$13*($J15-$J14)","v":0.25},21.598843451769163,29.955507878625468,2,{"$f":"15/60","v":0.25},{"$f":"Q14+(($U14+$U15)/2)^$B$12*($P15-$P14)","v":0.25},{"$f":"R14+(($U14+$U15)/2)^$B$13*($P15-$P14)","v":0.25},null,13.264016057130348,0.8,null,{"$f":"15","v":15}]
[null,null,null,0.5,{"$f":"E15+(($I15+$I16)/2)^$B$12*($D16-$D15)","v":0.5},{"$f":"F15+(($I15+$I16)/2)^$B$13*($D16-$D15)","v":0.5},6.1186427451130712,68.774083338978116,8,{"$f":"30/60","v":0.5},{"$f":"K15+(($O15+$O16)/2)^$B$12*($J16-$J15)","v":0.5},{"$f":"L15+(($O15+$O16)/2)^$B$13*($J16-$J15)","v":0.5},14.754444527595664,45.191754849579766,2,{"$f":"30/60","v":0.5},0.5,0.5,null,23.320554215878776,0.8,null,{"$f":"30","v":30}]
[null,null,null,0.75,0.75,{"$f":"F16+(($I16+$I17)/2)^$B$13*($D17-$D16)","v":0.75},3.4888238147147135,71.94726608245854,8,{"$f":"45/60","v":0.75},{"$f":"K16+(($O16+$O17)/2)^$B$12*($J17-$J16)","v":0.75},0.75,10.881036474274916,54.894401327823523,2,{"$f":"45/60","v":0.75},0.75,0.75,null,31.127480760488933,0.8,null,{"$f":"45","v":45}]
[null,null,null,1,1,1,1.9161149645651536,73.664528023547462,8,{"$f":"60/60","v":1},1,1,8.8133202618493467,60.050187331372655,2,{"$f":"60/60","v":1},1,1,null,37.448655760587634,0.8,null,{"$f":"60","v":60}]
[null,null,null,1.5,1.5,1.5,0.73422981666597065,74.611486121062214,8,{"$f":"90/60","v":1.5},1.5,1.5,null,66.439075581116896,2,{"$f":"90/60","v":1.5},{"$f":"Q18+(($U18+$U19)/2)^$B$12*($P19-$P18)","v":1.5},{"$f":"R18+(($U18+$U19)/2)^$B$13*($P19-$P18)","v":1.5},null,47.269171248361758,0.8,null,{"$f":"90","v":90}]
[null,null,null,2,2,2,0.29168275796591259,75.096851698979378,8,{"$f":"120/60","v":2},2,2,2.2155872109452446,69.748982019036248,2,{"$f":"120/60","v":2},2,2,null,51.912458078017551,0.8,null,{"$f":"120","v":120}]
[null,null,null,3,3,3,0,76,8,{"$f":"180/60","v":3},3,3,1.0058176419371487,72.951135926609211,2,{"$f":"180/60","v":3},3,3,null,60.31043158308281,0.8,null,{"$f":"180","v":180}]
[null,null,null,4,4,4,0,76,8,{"$f":"240/60","v":4},4,4,0.14055815406573272,74.222653541072333,2,{"$f":"240/60","v":4},4,4,null,64.50397486375175,0.8,null,{"$f":"240","v":240}]
[null,null,null,5,5,5,0,76,8,{"$f":"300/60","v":5},5,5,4.4842758619422926E-2,74.721499023358589,2,{"$f":"300/60","v":5},5,5,null,67.057519605318134,0.8,null,{"$f":"300","v":300}]
[null,null,null,6,6,6,0,76,8,{"$f":"360/60","v":6},6,6,0,74.935297167094546,2,{"$f":"360/60","v":6},6,6,null,68.631525444516114,0.8,null,{"$f":"360","v":360}]
[null,null,null,7,7,7,0,76,8,{"$f":"420/60","v":7},7,7,0,75.144783519215309,2,{"$f":"420/60","v":7},7,7,null,69.485780002194971,0.8,null,{"$f":"420","v":420}]
[null,null,null,8,8,8,0,76,8,{"$f":"480/60","v":8},8,8,0,75.415520388866781,2,{"$f":"480/60","v":8},8,8,null,70.431849025980142,0.8,null,{"$f":"480","v":480}]
[null,null,null,null,null,null,null,null,null,null,null,null,null,null,null,9,9,9,null,70.762480435212183,0.8,null,540]
[]
[null,null,null,"BL-191, BL-193, BL-197, BL-198",null,null,null,null,null,"BL-201, BL-207",null,null,null,null,null,"BL-212, BL-213"]
[null,null,null,"  [SM]0","80 mM",null,null,null,null,"  [SM]0","80 mM",null,null,null,null,"  [SM]0","80 mM"]
[null,null,null,"  [PhCO2H]0","400 mM",null,null,null,null,"  [PhCO2H]0","400 mM",null,null,null,null,"  [PhCO2H]0","400 mM"]
[null,null,null,"  [PhCONHBr]0","96 mM",null,null,null,null,"  [PhCONHBr]0","96 mM",null,null,null,null,"  [PhCONHBr]0","96 mM"]
[null,null,null,"  [(DHQD)2PHAL]0","0.08 mM",null,null,null,null,"  [(DHQD)2PHAL]0","0.8 mM",null,null,null,null,"  [(DHQ)2PHAL]0","0.8 mM"]
[null,null,null,"  [(4-Tol)2CO]0","40 mM","← internal standard",null,null,null,"  [(4-Tol)2CO]0","40 mM","← internal standard",null,null,null,"  [(4-Tol)2CO]0","40 mM","← internal standard"]
[null,null,null,"  [P]0 (83:17 er)","0 mM",null,null,null,null,"  [P]0 (83:17 er)","0 mM",null,null,null,null,"  [P]0 (83:17 er)","0 mM"]
[null,null,null,"  [PhCONH2]0","0 mM",null,null,null,null,"  [PhCONH2]0","0 mM",null,null,null,null,"  [PhCONH2]0","0 mM"]
[null,null,null,null,null,null,null,null,null,"  [Ad=Ad]0","4 mM"]
[null,null,null,"Experiment 31",null,null,null,null,null,"Experiment 32",null,null,null,null,null,"Experiment 33"]
[null,null,null,"t (hours)","tcat (SM)","tcat (P)","[SM] (mM)","[P] (mM)","[cat] (mM)","t (hours)","tcat (SM)","tcat (P)","[SM] (mM)","[P] (mM)","[cat] (mM)","t (hours)","tcat (SM)","tcat (P)","[SM] (mM)","[P] (mM)","[cat] (mM)"]
[null,null,null,{"$f":"0/60","v":0},0,0,null,0,0.08,{"$f":"0/60","v":0},"−","−",null,0,"−",{"$f":"0/60","v":0},"−","−",null,0,"−"]
[null,null,null,{"$f":"15/60","v":0.25},{"$f":"E40+(($I40+$I41)/2)^$B$12*($D41-$D40)","v":0.25},{"$f":"F40+(($I40+$I41)/2)^$B$13*($D41-$D40)","v":0.25},null,1.5272971212134676,0.08,{"$f":"2.5/60","v":4.1666666666666664E-2},"−","−",null,3.0377074729476519,"−",{"$f":"5/60","v":8.3333333333333329E-2},"−","−",null,6.8148580083022106,"−"]
[null,null,null,{"$f":"30/60","v":0.5},{"$f":"E41+(($I41+$I42)/2)^$B$12*($D42-$D41)","v":0.5},{"$f":"F41+(($I41+$I42)/2)^$B$13*($D42-$D41)","v":0.5},null,2.6081320473408036,0.08,{"$f":"7.5/60","v":0.125},"−","−",null,7.1581975295653191,"−",{"$f":"10/60","v":0.16666666666666666},"−","−",null,12.26613132098896,"−"]
[null,null,null,{"$f":"45/60","v":0.75},{"$f":"E42+(($I42+$I43)/2)^$B$12*($D43-$D42)","v":0.75},{"$f":"F42+(($I42+$I43)/2)^$B$13*($D43-$D42)","v":0.75},null,3.5615484140860572,0.08,{"$f":"12.5/60","v":0.20833333333333334},"−","−",null,10.971169895686693,"−",{"$f":"15/60","v":0.25},"−","−",null,16.709096479729872,"−"]
[null,null,null,{"$f":"60/60","v":1},{"$f":"E43+(($I43+$I44)/2)^$B$12*($D44-$D43)","v":1},{"$f":"F43+(($I43+$I44)/2)^$B$13*($D44-$D43)","v":1},null,4.7059599232688107,0.08,{"$f":"22.5/60","v":0.375},"−","−",null,17.734353962264549,"−",{"$f":"30/60","v":0.5},"−","−",null,27.168191461588545,"−"]
[null,null,null,{"$f":"90/60","v":1.5},1.5,{"$f":"F44+(($I44+$I45)/2)^$B$13*($D45-$D44)","v":1.5},null,6.7584143524401998,0.08,{"$f":"37.5/60","v":0.625},"−","−",null,26.292973198647942,"−",{"$f":"45/60","v":0.75},"−","−",null,34.488034809463173,"−"]
[null,null,null,{"$f":"120/60","v":2},2,2,null,8.6899710922270206,0.08,{"$f":"52.5/60","v":0.875},"−","−",null,32.660502748731851,"−",{"$f":"66.5/60","v":1.1083333333333334},"−","−",null,40.888966291204198,"−"]
[null,null,null,{"$f":"180/60","v":3},3,3,null,12.466392609647311,0.08,{"$f":"75/60","v":1.25},"−","−",null,40.916087703289847,"−",{"$f":"90/60","v":1.5},"−","−",null,47.092946569842411,"−"]
[null,null,null,{"$f":"240/60","v":4},4,4,null,15.86516177728938,0.08,{"$f":"105/60","v":1.75},"−","−",null,47.410045674521037,"−",{"$f":"120/60","v":2},"−","−",null,51.635451194615072,"−"]
[null,null,null,{"$f":"300/60","v":5},5,5,null,18.887149217899537,0.08,{"$f":"150/60","v":2.5},"−","−",null,54.522423427760017,"−",{"$f":"189/60","v":3.15},"−","−",null,57.682616889420004,"−"]
[null,null,null,{"$f":"360/60","v":6},6,6,null,21.653296523239042,0.08,{"$f":"210/60","v":3.5},"−","−",null,59.210231557639375,"−",{"$f":"240/60","v":4},"−","−",null,61.25752500155712,"−"]
[null,null,null,{"$f":"420/60","v":7},7,7,null,23.898870687874698,0.08,{"$f":"270/60","v":4.5},"−","−",null,61.698020152384998,"−",{"$f":"300/60","v":5},"−","−",null,63.39493317553088,"−"]
[null,null,null,{"$f":"480/60","v":8},8,8,null,26.113190977108594,0.08,{"$f":"330/60","v":5.5},"−","−",null,63.265263980742226,"−",{"$f":"360/60","v":6},"−","−",null,64.643716156471896,"−"]
[null,null,null,{"$f":"540/60","v":9},9,9,null,27.887618404940479,0.08,{"$f":"390/60","v":6.5},"−","−",null,64.20963719127559,"−",{"$f":"420/60","v":7},"−","−",null,65.781560957196291,"−"]
[null,null,null,{"$f":"600/60","v":10},10,10,null,29.641652139919287,0.08,{"$f":"450/60","v":7.5},"−","−",null,64.804898812258074,"−",{"$f":"480/60","v":8},"−","−",null,66.672581798593171,"−"]
[null,null,null,{"$f":"660/60","v":11},11,11,null,31.227589025839293,0.08,{"$f":"510/60","v":8.5},"−","−",null,65.108120064139527,"−"]
[null,null,null,12,12,12,null,32.36110211166806,0.08]
[null,null,null,13,13,13,null,33.593306968284153,0.08]
[null,null,null,14,14,14,null,34.657543975731535,0.08]
[null,null,null,15,15,15,null,35.343872108854633,0.08]
[null,null,null,16,16,16,null,36.300931904779091,0.08]
[null,null,null,17.041599999999999,17.041599999999999,17.041599999999999,null,37.069797069141273,0.08]
[null,null,null,18,18,18,null,37.864511715213574,0.08]
[null,null,null,19,19,19,null,38.332367687666249,0.08]
[null,null,null,20,20,20,null,39.000220291930191,0.08]
[null,null,null,21,21,21,null,39.640719341550607,0.08]
[null,null,null,22,22,22,null,40.379755411074534,0.08]
[null,null,null,23,23,23,null,40.701432332705949,0.08]
[null,null,null,24,24,24,null,41.518328095708853,0.08]
[null,null,null,"BL-366, BL-368"]
[null,null,null,"  [SM]0","80 mM",null,null,null,null,"  [SM]0",null,null,null,null,null,"  [SM]0"]
[null,null,null,"  [PhCO2H]0","400 mM",null,null,null,null,"  [PhCO2H]0",null,null,null,null,null,"  [PhCO2H]0"]
[null,null,null,"  [PhCONHBr]0","96 mM",null,null,null,null,"  [PhCONHBr]0",null,null,null,null,null,"  [PhCONHBr]0"]
[null,null,null,"  [(DHQD)2PHAL]0","0.8 mM",null,null,null,null,"  [(DHQD)2PHAL]0",null,null,null,null,null,"  [(DHQD)2PHAL]0"]
[null,null,null,"  [(4-Tol)2CO]0","40 mM","← internal standard",null,null,null,"  [(4-Tol)2CO]0",null,"← internal standard",null,null,null,"  [(4-Tol)2CO]0",null,"← internal standard"]
[null,null,null,"  [P]0 (83:17 er)","0 mM",null,null,null,null,"  [P]0 (83:17 er)",null,null,null,null,null,"  [P]0 (83:17 er)"]
[null,null,null,"  [PhCONH2]0","0 mM",null,null,null,null,"  [PhCONH2]0",null,null,null,null,null,"  [PhCONH2]0"]
[null,null,null,"  [Ad=Ad]0","8 mM"]
[null,null,null,"Experiment 44",null,null,null,null,null,"Experiment X",null,null,null,null,null,"Experiment X"]
[null,null,null,"t (hours)","tcat (SM)","tcat (P)","[SM] (mM)","[P] (mM)","[cat] (mM)","t (hours)","tcat (SM)","tcat (P)","[SM] (mM)","[P] (mM)","[cat] (mM)","t (hours)","tcat (SM)","tcat (P)","[SM] (mM)","[P] (mM)","[cat] (mM)"]
[null,null,null,0,"−","−",80.05393826117384,0,"−"]
[null,null,null,{"$f":"5/60","v":8.3333333333333329E-2},"−","−",59.794934528224694,5.0134626327916738,"−"]
[null,null,null,{"$f":"10/60","v":0.16666666666666666},"−","−",54.886034511890422,10.276206576403014,"−"]
[null,null,null,0.25,"−","−",51.960950508951079,12.691227763146292,"−"]
[null,null,null,0.5,"−","−",39.419047570283809,22.106233637811759,"−"]
[null,null,null,0.75,"−","−",34.021939900608764,28.629580041425061,"−"]
[null,null,null,1,"−","−",23.187450965016755,34.172730204272042,"−"]
[null,null,null,1.5,"−","−",19.837610721250847,42.413345079440134,"−"]
[null,null,null,2,"−","−",13.862315740640156,46.62876547611129,"−"]
[null,null,null,3,"−","−",8.8339885318544624,50.818317614649303,"−"]
[null,null,null,4,"−","−",4.3981710274646435,54.780546835344296,"−"]
[null,null,null,5,"−","−",2.0267938467477089,56.392674264065434,"−"]
[null,null,null,6,"−","−",1.8018706634860286,57.779146012562407,"−"]
[null,null,null,7,"−","−",1.0670483361479262,58.541083956299801,"−"]
[null,null,null,8,"−","−",1.2182326393743932,59.35749774186683,"−"]
[]
[]
[]
[]
[]
[]
[]
[]
[]
[]
[]
[]
[]
[]
[]
[]
[]
[]
[]
[]
[]
[]
[]
[]
[]
[]
[null,null,null,"Experiment 26",null,null,null,"Experiment 27",null,null,null,"Experiment 30"]
[null,null,null,"[P]n - [P]n-1","[SM]n-1 - [SM]n","subtraction","[SM]0 - [P]n - [SM]n","[P]n - [P]n-1","[SM]n-1 - [SM]n","subtraction","[SM]0 - [P]n - [SM]n","[P]n - [P]n-1","[SM]n-1 - [SM]n","subtraction","[SM]0 - [P]n - [SM]n"]
[null,null,null,{"$f":"H13-H12","v":36.271605782244599},{"$f":"G12-G13","v":45.784409650223211},{"$f":"E123-D123","v":9.5128038679786115},{"$f":"$G$12-H12-G12","v":0},{"$f":"N13-N12","v":13.362616792246071},{"$f":"M12-M13","v":37.077472945746365},{"$f":"I123-H123","v":23.714856153500293},{"$f":"$M$12-N12-M12","v":0},{"$f":"T13-T12","v":5.1167223644902071},{"$f":"S12-S13","v":0},{"$f":"M123-L123","v":-5.1167223644902071},{"$f":"$S$12-T12-S12","v":0}]
[null,null,null,14.964870577116976,13.522932184531747,{"$f":"E124-D124","v":-1.4419383925852287},9.5128038679786115,9.0016852530916029,16.455343630124624,{"$f":"I124-H124","v":7.4536583770330207},23.714856153500293,{"$f":"T14-T13","v":4.3007863604294689},{"$f":"S13-S14","v":0},{"$f":"M124-L124","v":-4.3007863604294689},{"$f":"$S$12-T13-S13","v":-5.1167223644902071}]
[null,null,null,7.7512805439745023,7.3045420916794246,-0.44673845229507769,8.0708654753933828,7.5912058332877947,5.1356416084302055,-2.4555642248575893,31.168514530533315,{"$f":"T16-T14","v":13.9030454909591},{"$f":"S14-S16","v":0},-13.9030454909591,{"$f":"$S$12-T14-S14","v":-9.4175087249196761}]
[null,null,null,9.7863264356420387,7.3660842646057443,-2.4202421710362945,7.6241270230983051,15.236246970954298,6.8443989241734986,-8.3918480467807992,28.712950305675726,{"$f":"T17-T16","v":7.8069265446101568},{"$f":"S16-S17","v":0},-7.8069265446101568,{"$f":"$S$12-T16-S16","v":-23.320554215878776}]
[null,null,null,3.1731827434804245,2.6298189303983577,-0.54336381308206683,5.2038848520620107,9.7026464782437571,3.8734080533207482,-5.8292384249230089,20.321102258894925,6.3211750000987017,0,-6.3211750000987017,-31.127480760488933]
[null,null,null,1.7172619410889212,1.5727088501495599,-0.14455309093936131,4.6605210389799439,5.1557860035491316,2.0677162124255695,-3.0880697911235622,14.491863833971918,9.8205154877741236,0,-9.8205154877741236,-37.448655760587634]
[null,null,null,0.94695809751475224,1.181885147899183,0.23492705038443074,4.5159679480405828,6.388888249744241,8.8133202618493467,2.4244320121051057,11.403794042848356,4.6432868296557928,0,-4.6432868296557928,-47.269171248361758]
[null,null,null,0.48536557791716461,0.44254705870005806,-4.2818519217106554E-2,4.7508949984250135,3.3099064379193521,-2.2155872109452446,-5.5254936488645967,13.828226054953461,8.3979735050652593,0,-8.3979735050652593,-51.912458078017551]
[null,null,null,0.9031483010206216,0.29168275796591259,-0.61146554305470902,4.7080764792079064,3.2021539075729635,1.2097695690080958,-1.9923843385648676,8.3027324060888645,4.1935432806689406,0,-4.1935432806689406,-60.31043158308281]
[null,null,null,0,0,0,4.0966109361531977,1.2715176144631215,0.86525948787141604,-0.40625812659170546,6.3103480675239965,2.5535447415663839,0,-2.5535447415663839,-64.50397486375175]
[null,null,null,0,0,0,4.0966109361531977,0.49884548228625647,9.5715395446309789E-2,-0.40313008683994667,5.9040899409322911,1.5740058391979801,0,-1.5740058391979801,-67.057519605318134]
[null,null,null,0,0,0,4.0966109361531977,0.21379814373595707,4.4842758619422926E-2,-0.16895538511653413,5.5009598540923443,0.85425455767885694,0,-0.85425455767885694,-68.631525444516114]
[null,null,null,0,0,0,4.0966109361531977,0.20948635212076283,0,-0.20948635212076283,5.3320044689758106,0.94606902378517077,0,-0.94606902378517077,-69.485780002194971]
[null,null,null,0,0,0,4.0966109361531977,0.27073686965147203,0,-0.27073686965147203,5.1225181168550478,0.3306314092320406,0,-0.3306314092320406,-70.431849025980142]
[null,null,null,null,null,null,4.0966109361531977,null,null,null,4.8517812472035757,{"$f":"T50-T27","v":-9.5049554336550628},{"$f":"S27-S50","v":0},9.5049554336550628,-70.762480435212183]
[null,null,null,null,null,null,null,null,null,null,null,null,null,null,{"$f":"$S$12-T50-S50","v":-61.25752500155712}]
[]
[null,null,null,"Experiment 31",null,null,null,"Experiment X",null,null,null,"Experiment X"]
[null,null,null,"[P]n - [P]n-1","[SM]n-1 - [SM]n","subtraction","[SM]0 - [P]n - [SM]n","[P]n - [P]n-1","[SM]n-1 - [SM]n","subtraction","[SM]0 - [P]n - [SM]n","[P]n - [P]n-1","[SM]n-1 - [SM]n","subtraction","[SM]0 - [P]n - [SM]n"]
[]
[]
[]
[]
[]
[]
[]
[]
[]
[]
[]
[]
[]
[]
[]
[]
[]
[]
[]
[]
[]
[]
[]
[]
[]
[]
[]
[]
[]
[]
[]
[]
[]
[]
[]
[]
[]
[]
[null,null,null,"tcat (hours)","[P]calc (mM)","t (hours) 0.1 mol%","tcat (hours, sanity check)"]
[null,null,null,0,0,0,0]
[null,null,null,0.01,{"$f":"75.6823584712771*(1-EXP((-0.899212139239885)*(D182^0.711351170572747)))","v":2.5281205655484711},{"$f":"F181+(LOG(D182-D181)/LOG(0.08))","v":1.8233036222501058},{"$f":"G181+((0.08+0.08)/2)^$B$13*($F182-$F181)","v":1.8233036222501058}]
[null,null,null,0.05,{"$f":"75.6823584712771*(1-EXP((-0.899212139239885)*(D183^0.711351170572747)))","v":7.6628983505431947},{"$f":"F182+(LOG(D183-D182)/LOG(0.08))","v":3.097738163000141},{"$f":"G182+((0.08+0.08)/2)^$B$13*($F183-$F182)","v":3.097738163000141}]
[null,null,null,0.09,11.329682852136274,4.3721727037501763,4.3721727037501763]
[null,null,null,0.13,14.37539060801851,5.6466072445002116,5.6466072445002116]
[null,null,null,0.17,17.031438720689899,6.9210417852502468,{"$f":"G185+((0.08+0.08)/2)^$B$13*($F186-$F185)","v":6.9210417852502468}]
[null,null,null,0.21,19.407288529472627,8.1954763260002821,8.1954763260002821]
[null,null,null,0.25,21.566498297996272,9.4699108667503165,9.4699108667503165]
[null,null,null,0.28999999999999998,23.550443908401647,10.744345407500353,10.744345407500353]
[null,null,null,0.33,25.388126554671349,12.018779948250387,12.018779948250387]
[null,null,null,0.37,27.100956625226747,13.293214489000423,13.293214489000423]
[null,null,null,0.41,28.70536105470195,14.567649029750459,14.567649029750459]
[null,null,null,0.45,30.214323398574347,15.842083570500494,15.842083570500494]
[null,null,null,0.49,31.638350929072423,17.116518111250528,17.116518111250528]
[null,null,null,0.53,32.986111966750705,18.390952652000564,18.390952652000564]
[null,null,null,0.56999999999999995,34.264872645098365,19.6653871927506,19.6653871927506]
[null,null,null,0.61,35.480806069845265,20.939821733500636,20.939821733500636]
[null,null,null,0.65,36.639217194907395,22.214256274250673,22.214256274250673]
[null,null,null,0.69,37.744710238229793,23.488690815000709,23.488690815000709]
[null,null,null,0.73,38.80131584657434,24.763125355750745,24.763125355750745]
[null,null,null,0.77,39.812589392976903,26.037559896500781,26.037559896500781]
[null,null,null,0.81,40.781688140163745,27.311994437250817,27.311994437250817]
[null,null,null,0.85,41.711432647523274,28.586428978000853,28.586428978000853]
[null,null,null,0.89,42.604356239255161,{"$f":"F203+(LOG(D204-D203)/LOG(0.08))","v":29.86086351875089},29.86086351875089]
[null,null,null,0.93,43.462745294316711,31.135298059500926,31.135298059500926]
[null,null,null,0.97,44.288672387755234,32.409732600250962,32.409732600250962]
[null,null,null,1.01,45.084023798024077,33.684167141000998,33.684167141000998]
[null,null,null,1.05,45.850522525985305,34.958601681751034,34.958601681751034]
[null,null,null,1.0900000000000001,46.589747703026127,36.23303622250107,36.23303622250107]
[null,null,null,1.1299999999999999,47.303151067898732,37.507470763251106,37.507470763251106]
[null,null,null,1.17,47.992071044168746,38.781905304001143,38.781905304001143]
[null,null,null,1.21,48.6577448385476,40.056339844751179,40.056339844751179]
[null,null,null,1.25,49.301318895148995,41.330774385501215,41.330774385501215]
[null,null,null,1.29,49.923857974961507,42.605208926251251,42.605208926251251]
[null,null,null,1.33,50.526353078645542,43.879643467001287,43.879643467001287]
[null,null,null,1.37,51.109728390568755,45.154078007751323,45.154078007751323]
[null,null,null,1.41,51.67484739017727,46.428512548501359,46.428512548501359]
[null,null,null,1.45,52.222518251423836,47.702947089251396,47.702947089251396]
[null,null,null,1.49,52.753498630590542,48.977381630001432,48.977381630001432]
[null,null,null,1.53,53.268499926363283,50.251816170751468,50.251816170751468]
[null,null,null,1.57,53.768191082605227,51.526250711501504,51.526250711501504]
[null,null,null,1.61,54.253201993302071,52.80068525225154,52.80068525225154]
[null,null,null,1.65,54.724126560120062,54.075119793001576,54.075119793001576]
[null,null,null,1.69,55.181525445544445,55.349554333751612,55.349554333751612]
[null,null,null,1.73,55.625928558353792,56.623988874501649,56.623988874501649]
[null,null,null,1.77,56.057837302994578,57.898423415251685,57.898423415251685]
[null,null,null,1.81,56.477726620064736,59.172857956001721,59.172857956001721]
[null,null,null,1.85,56.886046841444596,60.447292496751757,60.447292496751757]
[null,null,null,1.89,57.283225380506785,61.721727037501793,61.721727037501793]
[null,null,null,1.93,57.669668275198511,62.996161578251829,62.996161578251829]
[null,null,null,1.97,58.045761599539759,64.270596119001866,64.270596119001866]
[null,null,null,2.0099999999999998,58.4118727571554,65.545030659751902,65.545030659751902]
[null,null,null,2.0499999999999998,58.768351668807369,66.819465200501938,66.819465200501938]
[null,null,null,2.09,59.115531864468203,68.093899741251974,68.093899741251974]
[null,null,null,2.13,59.453731489248355,69.36833428200201,69.36833428200201]
[null,null,null,2.17,59.78325423142288,70.642768822752046,70.642768822752046]
[null,null,null,2.21,60.104390179877157,71.917203363502082,71.917203363502082]
[null,null,null,2.25,60.41741661748361,73.191637904252119,73.191637904252119]
[null,null,null,2.29,60.722598756216229,74.466072445002155,74.466072445002155]
[null,null,null,2.33,61.020190419191451,75.740506985752191,75.740506985752191]
[null,null,null,2.37,61.310434674281453,77.014941526502227,77.014941526502227]
[null,null,null,2.41,61.593564423468059,78.289376067252263,78.289376067252263]
[null,null,null,2.4500000000000002,61.869802951684143,79.563810608002299,79.563810608002299]
[null,null,null,2.4900000000000002,62.139364438516751,80.838245148752335,80.838245148752335]
[null,null,null,2.5299999999999998,62.402454435815955,82.112679689502372,82.112679689502372]
[null,null,null,2.57,62.65927031396037,83.387114230252408,83.387114230252408]
[null,null,null,2.61,{"$f":"75.6823584712771*(1-EXP((-0.899212139239885)*(D247^0.711351170572747)))","v":62.910001679269506},{"$f":"F246+(LOG(D247-D246)/LOG(0.08))","v":84.661548771002444},{"$f":"G246+((0.08+0.08)/2)^$B$13*($F247-$F246)","v":84.661548771002444}]
[null,null,null,2.65,63.154830764820474,85.93598331175248,85.93598331175248]
[null,null,null,2.69,63.393932796719547,87.210417852502516,87.210417852502516]
[null,null,null,2.73,63.627476337692556,88.484852393252552,88.484852393252552]
[null,null,null,2.77,63.855623609692536,89.759286934002589,89.759286934002589]
[null,null,null,2.81,64.078530797073199,91.033721474752625,91.033721474752625]
[null,null,null,2.85,64.296348331742678,92.308156015502661,92.308156015502661]
[null,null,null,2.89,64.509221161590943,93.582590556252697,93.582590556252697]
[null,null,null,2.93,64.717289003375427,94.857025097002733,94.857025097002733]
[null,null,null,2.97,64.920686581150719,96.131459637752769,96.131459637752769]
[null,null,null,3.01,65.119543851239101,97.405894178502805,97.405894178502805]
[null,null,null,3.05,65.313986214658073,98.680328719252842,98.680328719252842]
[null,null,null,3.09,65.50413471784772,99.954763260002878,99.954763260002878]
[null,null,null,3.13,65.690106242474144,101.22919780075291,101.22919780075291]
[null,null,null,3.17,65.872013685025053,102.50363234150295,102.50363234150295]
[null,null,null,3.21,66.049966126858308,103.77806688225299,103.77806688225299]
[null,null,null,3.25,66.224068995313843,105.05250142300302,105.05250142300302]
[null,null,null,3.29,66.394424216453913,106.32693596375306,106.32693596375306]
[null,null,null,3.33,66.561130359954589,107.60137050450309,107.60137050450309]
[null,null,null,3.37,66.724282776632947,108.87580504525313,108.87580504525313]
[null,null,null,3.41,66.883973729059605,110.15023958600317,110.15023958600317]
[null,null,null,3.45,67.040292515673798,111.4246741267532,111.4246741267532]
[null,null,null,3.49,67.193325588788881,112.69910866750324,112.69910866750324]
[null,null,null,3.53,67.343156666848898,113.97354320825328,113.97354320825328]
[null,null,null,3.57,67.489866841271791,115.24797774900331,115.24797774900331]
[null,null,null,3.61,67.633534678192262,116.52241228975335,116.52241228975335]
[null,null,null,3.65,67.774236315395498,117.79684683050338,117.79684683050338]
[null,null,null,3.69,67.912045554714169,119.07128137125342,119.07128137125342]
[null,null,null,3.73,68.047033950142421,120.34571591200346,120.34571591200346]
[null,null,null,3.77,68.179270891904366,121.62015045275349,121.62015045275349]
[null,null,null,3.81,68.308823686699071,122.89458499350353,122.89458499350353]
[null,null,null,3.85,68.435757634329647,124.16901953425356,124.16901953425356]
[null,null,null,3.89,68.560136100911095,125.4434540750036,125.4434540750036]
[null,null,null,3.93,68.682020588838952,126.71788861575364,126.71788861575364]
[null,null,null,3.97,68.801470803690052,127.99232315650367,127.99232315650367]
[null,null,null,4.01,68.918544718215244,129.26675769725372,129.26675769725372]
[null,null,null,4.05,69.033298633575114,130.54119223800376,130.54119223800376]
[null,null,null,4.09,69.145787237959851,131.8156267787538,131.8156267787538]
[null,null,null,4.13,69.256063662726532,133.09006131950383,133.09006131950383]
[null,null,null,4.17,69.364179536178511,134.36449586025387,134.36449586025387]
[null,null,null,4.21,69.470185035105047,135.6389304010039,135.6389304010039]
[null,null,null,4.25,69.574128934191776,136.91336494175394,136.91336494175394]
[null,null,null,4.29,69.67605865340667,138.18779948250398,138.18779948250398]
[null,null,null,4.33,69.77602030345966,139.46223402325401,139.46223402325401]
[null,null,null,4.37,69.874058729429223,140.73666856400405,140.73666856400405]
[null,null,null,4.41,69.970217552643305,142.01110310475408,142.01110310475408]
[null,null,null,4.45,70.064539210897394,143.28553764550412,143.28553764550412]
[null,null,null,4.49,70.15706499708817,144.55997218625416,144.55997218625416]
[null,null,null,4.53,70.247835096336289,145.83440672700419,145.83440672700419]
[null,null,null,4.57,70.336888621668535,147.10884126775423,147.10884126775423]
[null,null,null,4.6100000000000003,70.424263648325351,148.38327580850427,148.38327580850427]
[null,null,null,4.6500000000000004,70.509997246756171,149.6577103492543,149.6577103492543]
[null,null,null,4.6900000000000004,70.594125514362304,150.93214489000434,150.93214489000434]
[null,null,null,4.7300000000000004,70.676683606042971,152.20657943075437,152.20657943075437]
[null,null,null,4.7699999999999996,70.757705763598153,153.48101397150441,153.48101397150441]
[null,null,null,4.8099999999999996,70.837225344038558,154.75544851225445,154.75544851225445]
[null,null,null,4.8499999999999996,70.91527484685065,156.02988305300448,156.02988305300448]
[null,null,null,4.8899999999999997,70.991885940262151,157.30431759375452,157.30431759375452]
[null,null,null,4.93,71.067089486551197,158.57875213450455,158.57875213450455]
[null,null,null,4.97,71.140915566440171,159.85318667525459,159.85318667525459]
[null,null,null,5.01,71.21339350261313,161.12762121600463,161.12762121600463]
[null,null,null,5.05,71.284551882393927,162.40205575675466,162.40205575675466]
[null,null,null,5.09,71.354418579620003,163.6764902975047,163.6764902975047]
[null,null,null,5.13,71.423020775745769,164.95092483825474,164.95092483825474]
[null,null,null,5.17,{"$f":"75.6823584712771*(1-EXP((-0.899212139239885)*(D311^0.711351170572747)))","v":71.490384980207011},{"$f":"F310+(LOG(D311-D310)/LOG(0.08))","v":166.22535937900477},{"$f":"G310+((0.08+0.08)/2)^$B$13*($F311-$F310)","v":166.22535937900477}]
[null,null,null,5.21,71.556537050077068,167.49979391975481,167.49979391975481]
[null,null,null,5.25,71.621502209043328,168.77422846050484,168.77422846050484]
[null,null,null,5.29,71.685305065731868,170.04866300125488,170.04866300125488]
[null,null,null,5.33,71.747969631406377,171.32309754200492,171.32309754200492]
[null,null,null,5.37,71.809519337066376,172.59753208275495,172.59753208275495]
[null,null,null,5.41,71.86997704996854,173.87196662350499,173.87196662350499]
[null,null,null,5.45,71.929365089594143,175.14640116425502,175.14640116425502]
[null,null,null,5.49,71.987705243084008,176.42083570500506,176.42083570500506]
[null,null,null,5.53,72.045018780161982,177.6952702457551,177.6952702457551]
[null,null,null,5.57,72.101326467566622,178.96970478650513,178.96970478650513]
[null,null,null,5.61,72.156648583010039,180.24413932725517,180.24413932725517]
[null,null,null,5.65,72.21100492868193,181.51857386800521,181.51857386800521]
[null,null,null,5.69,72.26441484431632,182.79300840875524,182.79300840875524]
[null,null,null,5.73,72.316897219837102,184.06744294950528,184.06744294950528]
[null,null,null,5.77,72.36847050759863,185.34187749025531,185.34187749025531]
[null,null,null,5.81,72.419152734236235,186.61631203100535,186.61631203100535]
[null,null,null,5.85,72.468961512141149,187.89074657175539,187.89074657175539]
[null,null,null,5.89,72.517914050573793,189.16518111250542,189.16518111250542]
[null,null,null,5.93,72.566027166428597,190.43961565325546,190.43961565325546]
[null,null,null,5.97,72.613317294663076,191.71405019400549,191.71405019400549]
[null,null,null,6.01,72.659800498403428,192.98848473475553,192.98848473475553]
[null,null,null,6.05,72.70549247873808,194.26291927550557,194.26291927550557]
[null,null,null,6.09,72.750408584210646,195.5373538162556,195.5373538162556]
[null,null,null,6.13,72.794563820022788,196.81178835700564,196.81178835700564]
[null,null,null,6.17,72.837972856957421,198.08622289775568,198.08622289775568]
[null,null,null,6.21,72.880650040031966,199.36065743850571,199.36065743850571]
[null,null,null,6.25,72.922609396891232,200.63509197925575,200.63509197925575]
[null,null,null,6.29,72.963864645948959,201.90952652000578,201.90952652000578]
[null,null,null,6.33,73.004429204286794,203.18396106075582,203.18396106075582]
[null,null,null,6.37,73.044316195318856,204.45839560150586,204.45839560150586]
[null,null,null,6.41,73.083538456230258,205.73283014225589,205.73283014225589]
[null,null,null,6.45,73.122108545197037,207.00726468300593,207.00726468300593]
[null,null,null,6.49,73.160038748395039,208.28169922375596,208.28169922375596]
[null,null,null,6.53,73.197341086804812,209.556133764506,209.556133764506]
[null,null,null,6.57,73.234027322819472,210.83056830525604,210.83056830525604]
[null,null,null,6.61,73.270108966661979,212.10500284600607,212.10500284600607]
[null,null,null,6.65,73.305597282618308,213.37943738675611,213.37943738675611]
[null,null,null,6.69,73.340503295092518,214.65387192750615,214.65387192750615]
[null,null,null,6.73,73.374837794489565,215.92830646825618,215.92830646825618]
[null,null,null,6.77,73.408611342931607,217.20274100900622,217.20274100900622]
[null,null,null,6.81,73.441834279813179,218.47717554975625,218.47717554975625]
[null,null,null,6.85,73.474516727200395,219.75161009050629,219.75161009050629]
[null,null,null,6.89,73.506668595079276,221.02604463125633,221.02604463125633]
[null,null,null,6.93,73.538299586458166,222.30047917200636,222.30047917200636]
[null,null,null,6.97,73.569419202328632,223.5749137127564,223.5749137127564]
[null,null,null,7.01,73.600036746489621,224.84934825350643,224.84934825350643]
[null,null,null,7.05,73.630161330239119,226.12378279425647,226.12378279425647]
[null,null,null,7.09,73.659801876937266,227.39821733500651,227.39821733500651]
[null,null,null,7.13,73.68896712644549,228.67265187575654,228.67265187575654]
[null,null,null,7.17,73.717665639444959,229.94708641650658,229.94708641650658]
[null,null,null,7.21,73.745905801638401,231.22152095725662,231.22152095725662]
[null,null,null,7.25,73.773695827838935,232.49595549800665,232.49595549800665]
[null,null,null,7.29,73.801043765949359,233.77039003875669,233.77039003875669]
[null,null,null,7.33,73.827957500834984,235.04482457950672,235.04482457950672]
[null,null,null,7.37,73.854444758093791,236.31925912025676,236.31925912025676]
[null,null,null,7.41,73.880513107726557,237.5936936610068,237.5936936610068]
[null,null,null,7.45,73.906169967710284,238.86812820175683,238.86812820175683]
[null,null,null,7.49,73.931422607477643,240.14256274250687,240.14256274250687]
[null,null,null,7.53,73.956278151305398,241.4169972832569,241.4169972832569]
[null,null,null,7.57,73.98074358161449,242.69143182400694,242.69143182400694]
[null,null,null,7.61,74.004825742184352,243.96586636475698,243.96586636475698]
[null,null,null,7.65,74.028531341284122,245.24030090550701,245.24030090550701]
[null,null,null,7.69,74.051866954723039,246.51473544625705,246.51473544625705]
[null,null,null,7.73,{"$f":"75.6823584712771*(1-EXP((-0.899212139239885)*(D375^0.711351170572747)))","v":74.074839028822581},{"$f":"F374+(LOG(D375-D374)/LOG(0.08))","v":247.78916998700709},{"$f":"G374+((0.08+0.08)/2)^$B$13*($F375-$F374)","v":247.78916998700709}]
[null,null,null,7.77,74.097453883312568,249.06360452775712,249.06360452775712]
[null,null,null,7.81,74.119717714153239,250.33803906850716,250.33803906850716]
[null,null,null,7.85,74.141636596285949,251.61247360925719,251.61247360925719]
[null,null,null,7.89,74.163216486313942,252.88690815000723,252.88690815000723]
[null,null,null,7.93,74.184463225115763,254.16134269075727,254.16134269075727]
[null,null,null,7.97,74.205382540392847,255.4357772315073,255.4357772315073]
[null,null,null,8.01,74.22598004915335,256.71021177225731,256.71021177225731]
[null,null,null,8.0500000000000007,74.246261260134077,257.98464631300732,257.98464631300732]
[null,null,null,8.09,74.26623157616207,259.25908085375738,259.25908085375738]
[null,null,null,8.1300000000000008,74.285896296457807,260.53351539450739,260.53351539450739]
[null,null,null,8.17,74.305260618881448,261.80794993525745,261.80794993525745]
[null,null,null,8.2100000000000009,74.324329642123828,263.08238447600746,263.08238447600746]
[null,null,null,8.25,74.34310836784374,264.35681901675753,264.35681901675753]
[null,null,null,8.2899999999999991,74.361601702752935,265.63125355750759,265.63125355750759]
[null,null,null,8.33,74.379814460650422,266.9056880982576,266.9056880982576]
[null,null,null,8.3699999999999992,74.397751364407284,268.18012263900766,268.18012263900766]
[null,null,null,8.41,74.415417047903574,269.45455717975767,269.45455717975767]
[null,null,null,8.4499999999999993,74.432816057918345,270.72899172050774,270.72899172050774]
[null,null,null,8.49,74.449952855974431,272.00342626125774,272.00342626125774]
[null,null,null,8.5299999999999994,74.466831820138921,273.27786080200781,273.27786080200781]
[null,null,null,8.57,74.483457246780659,274.55229534275782,274.55229534275782]
[null,null,null,8.61,74.499833352285904,275.82672988350788,275.82672988350788]
[null,null,null,8.65,74.515964274733278,277.10116442425789,277.10116442425789]
[null,null,null,8.69,74.531854075529139,278.37559896500795,278.37559896500795]
[null,null,null,8.73,74.547506741004341,279.65003350575796,279.65003350575796]
[null,null,null,8.77,74.562926183973445,280.92446804650803,280.92446804650803]
[null,null,null,8.81,74.578116245257519,282.19890258725803,282.19890258725803]
[null,null,null,8.85,74.593080695171182,283.4733371280081,283.4733371280081]
[null,null,null,8.89,74.607823234975243,284.74777166875811,284.74777166875811]
[null,null,null,8.93,74.622347498295355,286.02220620950817,286.02220620950817]
[null,null,null,8.9700000000000006,74.636657052508085,287.29664075025818,287.29664075025818]
[null,null,null,9.01,74.650755400094837,288.57107529100824,288.57107529100824]
[null,null,null,9.0500000000000007,74.664645979964718,289.84550983175825,289.84550983175825]
[null,null,null,9.09,74.678332168746977,291.11994437250831,291.11994437250831]
[null,null,null,9.1300000000000008,74.691817282053961,292.39437891325832,292.39437891325832]
[null,null,null,9.17,74.705104575715254,293.66881345400839,293.66881345400839]
[null,null,null,9.2100000000000009,74.718197246983749,294.94324799475839,294.94324799475839]
[null,null,null,9.25,74.731098435714429,296.21768253550846,296.21768253550846]
[null,null,null,9.2899999999999991,74.743811225516339,297.49211707625852,297.49211707625852]
[null,null,null,9.33,74.756338644878852,298.76655161700853,298.76655161700853]
[null,null,null,9.3699999999999992,74.768683668272459,300.0409861577586,300.0409861577586]
[null,null,null,9.41,74.780849217224826,301.3154206985086,301.3154206985086]
[null,null,null,9.4499999999999993,74.792838161373098,302.58985523925867,302.58985523925867]
[null,null,null,9.49,74.804653319492346,303.86428978000868,303.86428978000868]
[null,null,null,9.5299999999999994,74.816297460501545,305.13872432075874,305.13872432075874]
[null,null,null,9.57,74.827773304447035,306.41315886150875,306.41315886150875]
[null,null,null,9.61,74.839083523464296,307.68759340225881,307.68759340225881]
[null,null,null,9.65,74.850230742718566,308.96202794300882,308.96202794300882]
[null,null,null,9.69,74.861217541324791,310.23646248375888,310.23646248375888]
[null,null,null,9.73,74.872046453247336,311.51089702450889,311.51089702450889]
[null,null,null,9.77,74.882719968180126,312.78533156525896,312.78533156525896]
[null,null,null,9.81,74.89324053240756,314.05976610600896,314.05976610600896]
[null,null,null,9.85,74.903610549646743,315.33420064675903,315.33420064675903]
[null,null,null,9.89,74.91383238187133,316.60863518750904,316.60863518750904]
[null,null,null,9.93,74.923908350117756,317.8830697282591,317.8830697282591]
[null,null,null,9.9700000000000006,74.933840735273932,319.15750426900911,319.15750426900911]
[null,null,null,10.01,74.943631778851028,320.43193880975917,320.43193880975917]
[null,null,null,10.050000000000001,74.953283683738661,321.70637335050918,321.70637335050918]
[null,null,null,10.09,74.962798614943978,322.98080789125925,322.98080789125925]
[null,null,null,10.130000000000001,74.972178700314942,324.25524243200925,324.25524243200925]
[null,null,null,10.17,74.981426031248176,325.52967697275932,325.52967697275932]
[null,null,null,10.210000000000001,74.990542663381873,326.80411151350933,326.80411151350933]
[null,null,null,10.25,74.999530617273919,328.07854605425939,328.07854605425939]
[null,null,null,10.29,{"$f":"75.6823584712771*(1-EXP((-0.899212139239885)*(D439^0.711351170572747)))","v":75.008391879065755},{"$f":"F438+(LOG(D439-D438)/LOG(0.08))","v":329.35298059500946},{"$f":"G438+((0.08+0.08)/2)^$B$13*($F439-$F438)","v":329.35298059500946}]
[null,null,null,10.33,75.017128401132211,330.62741513575946,330.62741513575946]
[null,null,null,10.37,75.025742102717786,331.90184967650953,331.90184967650953]
[null,null,null,10.41,75.034234870559416,333.17628421725954,333.17628421725954]
[null,null,null,10.45,75.042608559496301,334.4507187580096,334.4507187580096]
[null,null,null,10.49,75.050864993067066,335.72515329875961,335.72515329875961]
[null,null,null,10.53,75.059005964094368,336.99958783950967,336.99958783950967]
[null,null,null,10.57,75.067033235257469,338.27402238025968,338.27402238025968]
[null,null,null,10.61,75.074948539652894,339.54845692100974,339.54845692100974]
[null,null,null,10.65,75.082753581343482,340.82289146175975,340.82289146175975]
[null,null,null,10.69,75.090450035896211,342.09732600250982,342.09732600250982]
[null,null,null,10.73,75.098039550908851,343.37176054325982,343.37176054325982]
[null,null,null,10.77,75.105523746525876,344.64619508400989,344.64619508400989]
[null,null,null,10.81,75.112904215943814,345.9206296247599,345.9206296247599]
[null,null,null,10.85,75.12018252590623,347.19506416550996,347.19506416550996]
[null,null,null,10.89,75.127360217188709,348.46949870625997,348.46949870625997]
[null,null,null,10.93,75.134438805073856,349.74393324701003,349.74393324701003]
[null,null,null,10.97,75.1414197798168,351.01836778776004,351.01836778776004]
[null,null,null,11.01,75.148304607101181,352.29280232851011,352.29280232851011]
[null,null,null,11.05,75.15509472848602,353.56723686926011,353.56723686926011]
[null,null,null,11.09,75.161791561843415,354.84167141001018,354.84167141001018]
[null,null,null,11.13,75.168396501787711,356.11610595076019,356.11610595076019]
[null,null,null,11.17,75.174910920095783,357.39054049151025,357.39054049151025]
[null,null,null,11.21,75.181336166119138,358.66497503226026,358.66497503226026]
[null,null,null,11.25,75.187673567187659,359.93940957301032,359.93940957301032]
[null,null,null,11.29,75.193924429005307,361.21384411376039,361.21384411376039]
[null,null,null,11.33,75.200090036038077,362.4882786545104,362.4882786545104]
[null,null,null,11.37,75.206171651894124,363.76271319526046,363.76271319526046]
[null,null,null,11.41,75.212170519696443,365.03714773601047,365.03714773601047]
[null,null,null,11.45,75.218087862448172,366.31158227676053,366.31158227676053]
[null,null,null,11.49,75.223924883390694,367.58601681751054,367.58601681751054]
[null,null,null,11.53,75.229682766354728,368.8604513582606,368.8604513582606]
[null,null,null,11.57,75.235362676104486,370.13488589901061,370.13488589901061]
[null,null,null,11.61,75.240965758675145,371.40932043976068,371.40932043976068]
[null,null,null,11.65,75.246493141703667,372.68375498051068,372.68375498051068]
[null,null,null,11.69,75.251945934753266,373.95818952126075,373.95818952126075]
[null,null,null,11.73,75.257325229631448,375.23262406201076,375.23262406201076]
[null,null,null,11.77,75.26263210070195,376.50705860276082,376.50705860276082]
[null,null,null,11.81,75.267867605190659,377.78149314351083,377.78149314351083]
[null,null,null,11.85,75.273032783485519,379.05592768426089,379.05592768426089]
[null,null,null,11.89,75.278128659430791,380.3303622250109,380.3303622250109]
[null,null,null,11.93,75.283156240615497,381.60479676576097,381.60479676576097]
[null,null,null,11.97,75.288116518656508,382.87923130651097,382.87923130651097]
[null,null,null,12.01,75.293010469475959,384.15366584726104,384.15366584726104]
[null,null,null,12.05,75.297839053573639,385.42810038801105,385.42810038801105]
[null,null,null,12.09,75.302603216293932,386.70253492876111,386.70253492876111]
[null,null,null,12.13,75.307303888087858,387.97696946951112,387.97696946951112]
[null,null,null,12.17,75.311941984769987,389.25140401026118,389.25140401026118]
[null,null,null,12.21,75.316518407770587,390.52583855101119,390.52583855101119]
[null,null,null,12.25,75.321034044382955,391.80027309176126,391.80027309176126]
[null,null,null,12.29,75.325489768006022,393.07470763251132,393.07470763251132]
[null,null,null,12.33,75.329886438382502,394.34914217326133,394.34914217326133]
[null,null,null,12.37,75.334224901832428,395.62357671401139,395.62357671401139]
[null,null,null,12.41,75.338505991482378,396.8980112547614,396.8980112547614]
[null,null,null,12.45,75.342730527490389,398.17244579551146,398.17244579551146]
[null,null,null,12.49,75.346899317266633,399.44688033626147,399.44688033626147]
[null,null,null,12.53,75.351013155689998,400.72131487701154,400.72131487701154]
[null,null,null,12.57,75.355072825320647,401.99574941776154,401.99574941776154]
[null,null,null,12.61,75.359079096608582,403.27018395851161,403.27018395851161]
[null,null,null,12.65,75.363032728098318,404.54461849926162,404.54461849926162]
[null,null,null,12.69,75.366934466629829,405.81905304001168,405.81905304001168]
[null,null,null,12.73,75.370785047535762,407.09348758076169,407.09348758076169]
[null,null,null,12.77,75.374585194834907,408.36792212151175,408.36792212151175]
[null,null,null,12.81,75.378335621422266,409.64235666226176,409.64235666226176]
[null,null,null,12.85,{"$f":"75.6823584712771*(1-EXP((-0.899212139239885)*(D503^0.711351170572747)))","v":75.382037029255486},{"$f":"F502+(LOG(D503-D502)/LOG(0.08))","v":410.91679120301183},{"$f":"G502+((0.08+0.08)/2)^$B$13*($F503-$F502)","v":410.91679120301183}]
[null,null,null,12.89,75.385690109537904,412.19122574376183,412.19122574376183]
[null,null,null,12.93,75.389295542898367,413.4656602845119,413.4656602845119]
[null,null,null,12.97,75.39285399956745,414.74009482526191,414.74009482526191]
[null,null,null,13.01,75.396366139550864,416.01452936601197,416.01452936601197]
[null,null,null,13.05,75.399832612799287,417.28896390676198,417.28896390676198]
[null,null,null,13.09,75.403254059375499,418.56339844751204,418.56339844751204]
[null,null,null,13.13,75.406631109618118,419.83783298826205,419.83783298826205]
[null,null,null,13.17,75.409964384302668,421.11226752901212,421.11226752901212]
[null,null,null,13.21,75.413254494799503,422.38670206976212,422.38670206976212]
[null,null,null,13.25,75.416502043229045,423.66113661051219,423.66113661051219]
[null,null,null,13.29,75.419707622614112,424.93557115126225,424.93557115126225]
[null,null,null,13.33,75.422871817029545,426.21000569201226,426.21000569201226]
[null,null,null,13.37,75.425995201749146,427.48444023276232,427.48444023276232]
[null,null,null,13.41,75.429078343390003,428.75887477351233,428.75887477351233]
[null,null,null,13.45,75.432121800054162,430.0333093142624,430.0333093142624]
[null,null,null,13.49,75.435126121467817,431.3077438550124,431.3077438550124]
[null,null,null,13.53,75.438091849118024,432.58217839576247,432.58217839576247]
[null,null,null,13.57,75.441019516386945,433.85661293651248,433.85661293651248]
[null,null,null,13.61,75.443909648683714,435.13104747726254,435.13104747726254]
[null,null,null,13.65,75.446762763574014,436.40548201801255,436.40548201801255]
[null,null,null,13.69,75.449579370907244,437.67991655876261,437.67991655876261]
[null,null,null,13.73,75.452359972941537,438.95435109951262,438.95435109951262]
[null,null,null,13.77,75.455105064466508,440.22878564026269,440.22878564026269]
[null,null,null,13.81,75.457815132923926,441.50322018101269,441.50322018101269]
[null,null,null,13.85,75.460490658526126,442.77765472176276,442.77765472176276]
[null,null,null,13.89,75.463132114372442,444.05208926251277,444.05208926251277]
[null,null,null,13.93,75.465739966563575,445.32652380326283,445.32652380326283]
[null,null,null,13.97,75.468314674313945,446.60095834401284,446.60095834401284]
[null,null,null,14.01,75.47085669006205,447.8753928847629,447.8753928847629]
[null,null,null,14.05,75.473366459578983,449.14982742551291,449.14982742551291]
[null,null,null,14.09,75.475844422074999,450.42426196626297,450.42426196626297]
[null,null,null,14.13,75.478291010304133,451.69869650701298,451.69869650701298]
[null,null,null,14.17,75.480706650667258,452.97313104776305,452.97313104776305]
[null,null,null,14.21,75.483091763313084,454.24756558851305,454.24756558851305]
[null,null,null,14.25,75.48544676223753,455.52200012926312,455.52200012926312]
[null,null,null,14.29,75.487772055381427,456.79643467001318,456.79643467001318]
[null,null,null,14.33,75.490068044726442,458.07086921076319,458.07086921076319]
[null,null,null,14.37,75.492335126389321,459.34530375151326,459.34530375151326]
[null,null,null,14.41,75.494573690714674,460.61973829226326,460.61973829226326]
[null,null,null,14.45,75.496784122366023,461.89417283301333,461.89417283301333]
[null,null,null,14.49,75.498966800415275,463.16860737376334,463.16860737376334]
[null,null,null,14.53,75.501122098430812,464.4430419145134,464.4430419145134]
[null,null,null,14.57,75.50325038456387,465.71747645526341,465.71747645526341]
[null,null,null,14.61,75.505352021633669,466.99191099601347,466.99191099601347]
[null,null,null,14.65,75.507427367210838,468.26634553676348,468.26634553676348]
[null,null,null,14.69,75.509476773699703,469.54078007751355,469.54078007751355]
[null,null,null,14.73,75.511500588418897,470.81521461826355,470.81521461826355]
[null,null,null,14.77,75.513499153680812,472.08964915901362,472.08964915901362]
[null,null,null,14.81,75.51547280686961,473.36408369976363,473.36408369976363]
[null,null,null,14.85,75.517421880517901,474.63851824051369,474.63851824051369]
[null,null,null,14.89,75.519346702382208,475.9129527812637,475.9129527812637]
[null,null,null,14.93,75.521247595517096,477.18738732201376,477.18738732201376]
[null,null,null,14.97,75.523124878347971,478.46182186276377,478.46182186276377]
[null,null,null,15.01,75.524978864742906,479.73625640351383,479.73625640351383]
[null,null,null,15.05,75.526809864082992,481.01069094426384,481.01069094426384]
[null,null,null,15.09,75.528618181331638,482.28512548501391,482.28512548501391]
[null,null,null,15.13,75.530404117102705,483.55956002576391,483.55956002576391]
[null,null,null,15.17,75.532167967727503,484.83399456651398,484.83399456651398]
[null,null,null,15.21,75.533910025320637,486.10842910726399,486.10842910726399]
[null,null,null,15.25,75.535630577844785,487.38286364801405,487.38286364801405]
[null,null,null,15.29,75.537329909174332,488.65729818876412,488.65729818876412]
[null,null,null,15.33,75.539008299158141,489.93173272951412,489.93173272951412]
[null,null,null,15.37,75.54066602368097,491.20616727026419,491.20616727026419]
[null,null,null,15.41,{"$f":"75.6823584712771*(1-EXP((-0.899212139239885)*(D567^0.711351170572747)))","v":75.542303354724183},{"$f":"F566+(LOG(D567-D566)/LOG(0.08))","v":492.4806018110142},{"$f":"G566+((0.08+0.08)/2)^$B$13*($F567-$F566)","v":492.4806018110142}]
[null,null,null,15.45,75.543920560425235,493.75503635176426,493.75503635176426]
[null,null,null,15.49,75.545517905136322,495.02947089251427,495.02947089251427]
[null,null,null,15.53,75.547095649481918,496.30390543326433,496.30390543326433]
[null,null,null,15.57,75.54865405041555,497.57833997401434,497.57833997401434]
[null,null,null,15.61,75.550193361275419,498.85277451476441,498.85277451476441]
[null,null,null,15.65,75.551713831839351,500.12720905551441,500.12720905551441]
[null,null,null,15.69,75.553215708378588,501.40164359626448,501.40164359626448]
[null,null,null,15.73,75.55469923371092,502.67607813701449,502.67607813701449]
[null,null,null,15.77,75.556164647252828,503.95051267776455,503.95051267776455]
[null,null,null,15.81,75.557612185070795,505.22494721851456,505.22494721851456]
[null,null,null,15.85,75.559042079931814,506.49938175926462,506.49938175926462]
[null,null,null,15.89,75.560454561352998,507.77381630001463,507.77381630001463]
[null,null,null,15.93,75.561849855650507,509.04825084076469,509.04825084076469]
[null,null,null,15.97,75.563228185987526,510.3226853815147,510.3226853815147]
[null,null,null,16.010000000000002,75.564589772421627,511.59711992226471,511.59711992226471]
[null,null,null,16.05,75.565934831951225,512.87155446301472,512.87155446301472]
[null,null,null,16.09,75.567263578561338,514.14598900376473,514.14598900376473]
[null,null,null,16.13,75.568576223268636,515.42042354451473,515.42042354451473]
[null,null,null,16.170000000000002,75.569872974165747,516.69485808526474,516.69485808526474]
[null,null,null,16.21,75.571154036464776,517.96929262601475,517.96929262601475]
[null,null,null,16.25,75.572419612540315,519.24372716676476,519.24372716676476]
[null,null,null,16.29,75.573669901971428,520.51816170751476,520.51816170751476]
[null,null,null,16.329999999999998,75.574905101583411,521.79259624826477,521.79259624826477]
[null,null,null,16.37,75.576125405488426,523.06703078901478,523.06703078901478]
[null,null,null,16.41,75.577331005125842,524.34146532976479,524.34146532976479]
[null,null,null,16.45,75.578522089301714,525.6158998705148,525.6158998705148]
[null,null,null,16.489999999999998,75.579698844227735,526.8903344112648,526.8903344112648]
[null,null,null,16.53,75.580861453559564,528.16476895201481,528.16476895201481]
[null,null,null,16.57,75.582010098434409,529.43920349276482,529.43920349276482]
[null,null,null,16.61,75.583144957508267,530.71363803351483,530.71363803351483]
[null,null,null,16.649999999999999,75.584266206992325,531.98807257426483,531.98807257426483]
[null,null,null,16.690000000000001,75.585374020688946,533.26250711501484,533.26250711501484]
[null,null,null,16.73,75.58646857002698,534.53694165576485,534.53694165576485]
[null,null,null,16.77,75.587550024096572,535.81137619651486,535.81137619651486]
[null,null,null,16.809999999999999,75.588618549683432,537.08581073726486,537.08581073726486]
[null,null,null,16.850000000000001,75.589674311302545,538.36024527801487,538.36024527801487]
[null,null,null,16.89,75.590717471231301,539.63467981876488,539.63467981876488]
[null,null,null,16.93,75.591748189542201,540.90911435951489,540.90911435951489]
[null,null,null,16.97,75.592766624134981,542.1835489002649,542.1835489002649]
[null,null,null,17.010000000000002,75.59377293076821,543.4579834410149,543.4579834410149]
[null,null,null,17.05,75.594767263090546,544.73241798176491,544.73241798176491]
[null,null,null,17.09,75.595749772671226,546.00685252251492,546.00685252251492]
[null,null,null,17.13,75.59672060903037,547.28128706326493,547.28128706326493]
[null,null,null,17.170000000000002,75.59767991966865,548.55572160401493,548.55572160401493]
[null,null,null,17.21,75.59862785009652,549.83015614476494,549.83015614476494]
[null,null,null,17.25,75.599564543862968,551.10459068551495,551.10459068551495]
[null,null,null,17.29,75.600490142583922,552.37902522626496,552.37902522626496]
[null,null,null,17.329999999999998,75.601404785970104,553.65345976701497,553.65345976701497]
[null,null,null,17.37,75.602308611854511,554.92789430776497,554.92789430776497]
[null,null,null,17.41,75.603201756219434,556.20232884851498,556.20232884851498]
[null,null,null,17.45,75.604084353223072,557.47676338926499,557.47676338926499]
[null,null,null,17.489999999999998,75.60495653522581,558.751197930015,558.751197930015]
[null,null,null,17.53,75.605818432815937,560.025632470765,560.025632470765]
[null,null,null,17.57,75.60667017483506,561.30006701151501,561.30006701151501]
[null,null,null,17.61,75.607511888403195,562.57450155226502,562.57450155226502]
[null,null,null,17.649999999999999,75.608343698943315,563.84893609301503,563.84893609301503]
[null,null,null,17.690000000000001,75.609165730205632,565.12337063376503,565.12337063376503]
[null,null,null,17.73,75.609978104291471,566.39780517451504,566.39780517451504]
[null,null,null,17.77,75.610780941676822,567.67223971526505,567.67223971526505]
[null,null,null,17.809999999999999,75.611574361235398,568.94667425601506,568.94667425601506]
[null,null,null,17.850000000000001,75.612358480261548,570.22110879676507,570.22110879676507]
[null,null,null,17.89,75.613133414492623,571.49554333751507,571.49554333751507]
[null,null,null,17.93,75.6138992781311,572.76997787826508,572.76997787826508]
[null,null,null,17.97,{"$f":"75.6823584712771*(1-EXP((-0.899212139239885)*(D631^0.711351170572747)))","v":75.614656183866416},{"$f":"F630+(LOG(D631-D630)/LOG(0.08))","v":574.04441241901509},{"$f":"G630+((0.08+0.08)/2)^$B$13*($F631-$F630)","v":574.04441241901509}]
[null,null,null,18.010000000000002,75.615404242896304,575.3188469597651,575.3188469597651]
[null,null,null,18.05,75.61614356494799,576.5932815005151,576.5932815005151]
[null,null,null,18.09,75.616874258298935,577.86771604126511,577.86771604126511]
[null,null,null,18.13,75.617596429797388,579.14215058201512,579.14215058201512]
[null,null,null,18.170000000000002,75.618310184882418,580.41658512276513,580.41658512276513]
[null,null,null,18.21,75.619015627603929,581.69101966351514,581.69101966351514]
[null,null,null,18.25,75.61971286064211,582.96545420426514,582.96545420426514]
[null,null,null,18.29,75.620401985326751,584.23988874501515,584.23988874501515]
[null,null,null,18.329999999999998,75.621083101656225,585.51432328576516,585.51432328576516]
[null,null,null,18.37,75.621756308316137,586.78875782651517,586.78875782651517]
[null,null,null,18.41,75.622421702697807,588.06319236726517,588.06319236726517]
[null,null,null,18.45,75.623079380916295,589.33762690801518,589.33762690801518]
[null,null,null,18.489999999999998,75.623729437828374,590.61206144876519,590.61206144876519]
[null,null,null,18.53,75.624371967050038,591.8864959895152,591.8864959895152]
[null,null,null,18.57,75.625007060973886,593.1609305302652,593.1609305302652]
[null,null,null,18.61,75.625634810786138,594.43536507101521,594.43536507101521]
[null,null,null,18.649999999999999,75.626255306483543,595.70979961176522,595.70979961176522]
[null,null,null,18.690000000000001,75.62686863688981,596.98423415251523,596.98423415251523]
[null,null,null,18.73,75.62747488967203,598.25866869326524,598.25866869326524]
[null,null,null,18.77,75.628074151356699,599.53310323401524,599.53310323401524]
[null,null,null,18.809999999999999,75.628666507345613,600.80753777476525,600.80753777476525]
[null,null,null,18.850000000000001,75.629252041931366,602.08197231551526,602.08197231551526]
[null,null,null,18.89,75.629830838312799,603.35640685626527,603.35640685626527]
[null,null,null,18.93,75.630402978610135,604.63084139701527,604.63084139701527]
[null,null,null,18.97,75.630968543879831,605.90527593776528,605.90527593776528]
[null,null,null,19.010000000000002,75.631527614129354,607.17971047851529,607.17971047851529]
[null,null,null,19.05,75.63208026833162,608.4541450192653,608.4541450192653]
[null,null,null,19.09,75.632626584439237,609.72857956001531,609.72857956001531]
[null,null,null,19.13,75.633166639398596,611.00301410076531,611.00301410076531]
[null,null,null,19.170000000000002,75.633700509163702,612.27744864151532,612.27744864151532]
[null,null,null,19.21,75.634228268709833,613.55188318226533,613.55188318226533]
[null,null,null,19.25,75.634749992046935,614.82631772301534,614.82631772301534]
[null,null,null,19.29,75.635265752232911,616.10075226376534,616.10075226376534]
[null,null,null,19.329999999999998,75.635775621386685,617.37518680451535,617.37518680451535]
[null,null,null,19.37,75.636279670701001,618.64962134526536,618.64962134526536]
[null,null,null,19.41,75.636777970455157,619.92405588601537,619.92405588601537]
[null,null,null,19.45,75.637270590027441,621.19849042676537,621.19849042676537]
[null,null,null,19.489999999999998,75.637757597907481,622.47292496751538,622.47292496751538]
[null,null,null,19.53,75.638239061708333,623.74735950826539,623.74735950826539]
[null,null,null,19.57,75.638715048178426,625.0217940490154,625.0217940490154]
[null,null,null,19.61,75.639185623213365,626.29622858976541,626.29622858976541]
[null,null,null,19.649999999999999,75.639650851867529,627.57066313051541,627.57066313051541]
[null,null,null,19.690000000000001,75.640110798365498,628.84509767126542,628.84509767126542]
[null,null,null,19.73,75.640565526113278,630.11953221201543,630.11953221201543]
[null,null,null,19.77,75.641015097709484,631.39396675276544,631.39396675276544]
[null,null,null,19.809999999999999,75.641459574956215,632.66840129351544,632.66840129351544]
[null,null,null,19.850000000000001,75.641899018869893,633.94283583426545,633.94283583426545]
[null,null,null,19.89,75.64233348969185,635.21727037501546,635.21727037501546]
[null,null,null,19.93,75.642763046898835,636.49170491576547,636.49170491576547]
[null,null,null,19.97,75.643187749213297,637.76613945651548,637.76613945651548]
[null,null,null,20.010000000000002,75.643607654613632,639.04057399726548,639.04057399726548]
[null,null,null,20.05,75.644022820344148,640.31500853801549,640.31500853801549]
[null,null,null,20.09,75.644433302924938,641.5894430787655,641.5894430787655]
[null,null,null,20.13,75.644839158161702,642.86387761951551,642.86387761951551]
[null,null,null,20.170000000000002,75.645240441155309,644.13831216026551,644.13831216026551]
[null,null,null,20.21,75.645637206311221,645.41274670101552,645.41274670101552]
[null,null,null,20.25,75.646029507348885,646.68718124176553,646.68718124176553]
[null,null,null,20.29,75.646417397310913,647.96161578251554,647.96161578251554]
[null,null,null,20.329999999999998,75.646800928572105,649.23605032326554,649.23605032326554]
[null,null,null,20.37,75.647180152848463,650.51048486401555,650.51048486401555]
[null,null,null,20.41,75.647555121205926,651.78491940476556,651.78491940476556]
[null,null,null,20.45,75.647925884069096,653.05935394551557,653.05935394551557]
[null,null,null,20.49,75.648292491229782,654.33378848626558,654.33378848626558]
[null,null,null,20.53,{"$f":"75.6823584712771*(1-EXP((-0.899212139239885)*(D695^0.711351170572747)))","v":75.648654991855437},{"$f":"F694+(LOG(D695-D694)/LOG(0.08))","v":655.60822302701558},{"$f":"G694+((0.08+0.08)/2)^$B$13*($F695-$F694)","v":655.60822302701558}]
[null,null,null,20.57,75.649013434497476,656.88265756776559,656.88265756776559]
[null,null,null,20.61,75.649367867099485,658.1570921085156,658.1570921085156]
[null,null,null,20.65,75.649718337005282,659.43152664926561,659.43152664926561]
[null,null,null,20.69,75.650064890966931,660.70596119001561,660.70596119001561]
[null,null,null,20.73,75.650407575152542,661.98039573076562,661.98039573076562]
[null,null,null,20.77,75.650746435154048,663.25483027151563,663.25483027151563]
[null,null,null,20.81,75.651081515994818,664.52926481226564,664.52926481226564]
[null,null,null,20.85,75.651412862137235,665.80369935301565,665.80369935301565]
[null,null,null,20.89,75.65174051749004,667.07813389376565,667.07813389376565]
[null,null,null,20.93,75.652064525415753,668.35256843451566,668.35256843451566]
[null,null,null,20.97,75.65238492873776,669.62700297526567,669.62700297526567]
[null,null,null,21.01,75.652701769747523,670.90143751601568,670.90143751601568]
[null,null,null,21.05,75.653015090211596,672.17587205676568,672.17587205676568]
[null,null,null,21.09,75.653324931378421,673.45030659751569,673.45030659751569]
[null,null,null,21.13,75.653631333985302,674.7247411382657,674.7247411382657]
[null,null,null,21.17,75.65393433826506,675.99917567901571,675.99917567901571]
[null,null,null,21.21,75.654233983952579,677.27361021976571,677.27361021976571]
[null,null,null,21.25,75.654530310291506,678.54804476051572,678.54804476051572]
[null,null,null,21.29,75.654823356040538,679.82247930126573,679.82247930126573]
[null,null,null,21.33,75.65511315947991,681.09691384201574,681.09691384201574]
[null,null,null,21.37,75.655399758417545,682.37134838276575,682.37134838276575]
[null,null,null,21.41,75.655683190195319,683.64578292351575,683.64578292351575]
[null,null,null,21.45,75.655963491695076,684.92021746426576,684.92021746426576]
[null,null,null,21.49,75.656240699344721,686.19465200501577,686.19465200501577]
[null,null,null,21.53,75.656514849124065,687.46908654576578,687.46908654576578]
[null,null,null,21.57,75.656785976570745,688.74352108651578,688.74352108651578]
[null,null,null,21.61,75.657054116785915,690.01795562726579,690.01795562726579]
[null,null,null,21.65,75.657319304439952,691.2923901680158,691.2923901680158]
[null,null,null,21.69,75.657581573778089,692.56682470876581,692.56682470876581]
[null,null,null,21.73,75.657840958625883,693.84125924951582,693.84125924951582]
[null,null,null,21.77,75.658097492394717,695.11569379026582,695.11569379026582]
[null,null,null,21.81,75.65835120808714,696.39012833101583,696.39012833101583]
[null,null,null,21.85,75.658602138302186,697.66456287176584,697.66456287176584]
[null,null,null,21.89,75.658850315240599,698.93899741251585,698.93899741251585]
[null,null,null,21.93,75.659095770709953,700.21343195326585,700.21343195326585]
[null,null,null,21.97,75.659338536129809,701.48786649401586,701.48786649401586]
[null,null,null,22.01,75.659578642536658,702.76230103476587,702.76230103476587]
[null,null,null,22.05,75.6598161205889,704.03673557551588,704.03673557551588]
[null,null,null,22.09,75.660051000571698,705.31117011626588,705.31117011626588]
[null,null,null,22.13,75.660283312401859,706.58560465701589,706.58560465701589]
[null,null,null,22.17,75.660513085632473,707.8600391977659,707.8600391977659]
[null,null,null,22.21,75.660740349457669,709.13447373851591,709.13447373851591]
[null,null,null,22.25,75.66096513271718,710.40890827926592,710.40890827926592]
[null,null,null,22.29,75.661187463901001,711.68334282001592,711.68334282001592]
[null,null,null,22.33,75.661407371153715,712.95777736076593,712.95777736076593]
[null,null,null,22.37,75.661624882279057,714.23221190151594,714.23221190151594]
[null,null,null,22.41,75.661840024744237,715.50664644226595,715.50664644226595]
[null,null,null,22.45,75.662052825684242,716.78108098301595,716.78108098301595]
[null,null,null,22.49,75.662263311906088,718.05551552376596,718.05551552376596]
[null,null,null,22.53,75.662471509893066,719.32995006451597,719.32995006451597]
[null,null,null,22.57,75.662677445808768,720.60438460526598,720.60438460526598]
[null,null,null,22.61,75.662881145501302,721.87881914601599,721.87881914601599]
[null,null,null,22.65,75.663082634507191,723.15325368676599,723.15325368676599]
[null,null,null,22.69,75.663281938055462,724.427688227516,724.427688227516]
[null,null,null,22.73,75.663479081071458,725.70212276826601,725.70212276826601]
[null,null,null,22.77,75.663674088180798,726.97655730901602,726.97655730901602]
[null,null,null,22.81,75.663866983713078,728.25099184976602,728.25099184976602]
[null,null,null,22.85,75.664057791705758,729.52542639051603,729.52542639051603]
[null,null,null,22.89,75.664246535907779,730.79986093126604,730.79986093126604]
[null,null,null,22.93,75.664433239783236,732.07429547201605,732.07429547201605]
[null,null,null,22.97,75.664617926515078,733.34873001276605,733.34873001276605]
[null,null,null,23.01,75.664800619008503,734.62316455351606,734.62316455351606]
[null,null,null,23.05,75.664981339894652,735.89759909426607,735.89759909426607]
[null,null,null,23.09,{"$f":"75.6823584712771*(1-EXP((-0.899212139239885)*(D759^0.711351170572747)))","v":75.66516011153395},{"$f":"F758+(LOG(D759-D758)/LOG(0.08))","v":737.17203363501608},{"$f":"G758+((0.08+0.08)/2)^$B$13*($F759-$F758)","v":737.17203363501608}]
[null,null,null,23.13,75.665336956019587,738.44646817576609,738.44646817576609]
[null,null,null,23.17,75.66551189518087,739.72090271651609,739.72090271651609]
[null,null,null,23.21,75.665684950586581,740.9953372572661,740.9953372572661]
[null,null,null,23.25,75.665856143548211,742.26977179801611,742.26977179801611]
[null,null,null,23.29,75.666025495123264,743.54420633876612,743.54420633876612]
[null,null,null,23.33,75.666193026118407,744.81864087951612,744.81864087951612]
[null,null,null,23.37,75.666358757092652,746.09307542026613,746.09307542026613]
[null,null,null,23.41,75.666522708360461,747.36750996101614,747.36750996101614]
[null,null,null,23.45,75.66668489999482,748.64194450176615,748.64194450176615]
[null,null,null,23.49,75.666845351830247,749.91637904251616,749.91637904251616]
[null,null,null,23.53,75.667004083465855,751.19081358326616,751.19081358326616]
[null,null,null,23.57,75.667161114268225,752.46524812401617,752.46524812401617]
[null,null,null,23.61,75.66731646337432,753.73968266476618,753.73968266476618]
[null,null,null,23.65,75.667470149694452,755.01411720551619,755.01411720551619]
[null,null,null,23.69,75.667622191914987,756.28855174626619,756.28855174626619]
[null,null,null,23.73,75.667772608501252,757.5629862870162,757.5629862870162]
[null,null,null,23.77,75.667921417700228,758.83742082776621,758.83742082776621]
[null,null,null,23.81,75.668068637543328,760.11185536851622,760.11185536851622]
[null,null,null,23.85,75.66821428584899,761.38628990926622,761.38628990926622]
[null,null,null,23.89,75.668358380225499,762.66072445001623,762.66072445001623]
[null,null,null,23.93,75.668500938073407,763.93515899076624,763.93515899076624]
[null,null,null,23.97,75.668641976588248,765.20959353151625,765.20959353151625]
[null,null,null,24.01,75.668781512763076,766.48402807226626,766.48402807226626]
[null,null,null,24.05,75.668919563390929,767.75846261301626,767.75846261301626]
[null,null,null,24.09,75.669056145067344,769.03289715376627,769.03289715376627]
[null,null,null,24.13,75.669191274192812,770.30733169451628,770.30733169451628]
[null,null,null,24.17,75.669324966975168,771.58176623526629,771.58176623526629]
[null,null,null,24.21,75.669457239432006,772.85620077601629,772.85620077601629]
[null,null,null,24.25,75.669588107393068,774.1306353167663,774.1306353167663]
[null,null,null,24.29,75.669717586502443,775.40506985751631,775.40506985751631]
[null,null,null,24.33,75.669845692221017,776.67950439826632,776.67950439826632]
[null,null,null,24.37,75.669972439828641,777.95393893901633,777.95393893901633]
[null,null,null,24.41,75.670097844426365,779.22837347976633,779.22837347976633]
[null,null,null,24.45,75.670221920938701,780.50280802051634,780.50280802051634]
[null,null,null,24.49,75.670344684115733,781.77724256126635,781.77724256126635]
[null,null,null,24.53,75.670466148535354,783.05167710201636,783.05167710201636]
[null,null,null,24.57,75.670586328605268,784.32611164276636,784.32611164276636]
[null,null,null,24.61,75.670705238565162,785.60054618351637,785.60054618351637]
[null,null,null,24.65,75.670822892488786,786.87498072426638,786.87498072426638]
[null,null,null,24.69,75.670939304285938,788.14941526501639,788.14941526501639]
[null,null,null,24.73,75.671054487704495,789.42384980576639,789.42384980576639]
[null,null,null,24.77,75.671168456332396,790.6982843465164,790.6982843465164]
[null,null,null,24.81,75.671281223599621,791.97271888726641,791.97271888726641]
[null,null,null,24.85,75.671392802780133,793.24715342801642,793.24715342801642]
[null,null,null,24.89,75.671503206993719,794.52158796876643,794.52158796876643]
[null,null,null,24.93,75.671612449207998,795.79602250951643,795.79602250951643]
[null,null,null,24.97,75.671720542240138,797.07045705026644,797.07045705026644]
[null,null,null,25.01,75.671827498758802,798.34489159101645,798.34489159101645]
[null,null,null,25.05,75.671933331285913,799.61932613176646,799.61932613176646]
[null,null,null,25.09,75.672038052198474,800.89376067251646,800.89376067251646]
[null,null,null,25.13,75.67214167373028,802.16819521326647,802.16819521326647]
[null,null,null,25.17,75.672244207973748,803.44262975401648,803.44262975401648]
[null,null,null,25.21,75.672345666881526,804.71706429476649,804.71706429476649]
[null,null,null,25.25,75.672446062268293,805.9914988355165,805.9914988355165]
[null,null,null,25.29,75.6725454058124,807.2659333762665,807.2659333762665]
[null,null,null,25.33,75.672643709057539,808.54036791701651,808.54036791701651]
[null,null,null,25.37,75.6727409834143,809.81480245776652,809.81480245776652]
[null,null,null,25.41,75.672837240161911,811.08923699851653,811.08923699851653]
[null,null,null,25.45,75.672932490449767,812.36367153926653,812.36367153926653]
[null,null,null,25.49,75.673026745298955,813.63810608001654,813.63810608001654]
[null,null,null,25.53,75.673120015603914,814.91254062076655,814.91254062076655]
[null,null,null,25.57,75.67321231213387,816.18697516151656,816.18697516151656]
[null,null,null,25.61,75.673303645534418,817.46140970226656,817.46140970226656]
[null,null,null,25.65,{"$f":"75.6823584712771*(1-EXP((-0.899212139239885)*(D823^0.711351170572747)))","v":75.673394026328978},{"$f":"F822+(LOG(D823-D822)/LOG(0.08))","v":818.73584424301657},{"$f":"G822+((0.08+0.08)/2)^$B$13*($F823-$F822)","v":818.73584424301657}]
[null,null,null,25.69,75.673483464920281,820.01027878376658,820.01027878376658]
[null,null,null,25.73,75.673571971591812,821.28471332451659,821.28471332451659]
[null,null,null,25.77,75.673659556509293,822.5591478652666,822.5591478652666]
[null,null,null,25.81,75.673746229722042,823.8335824060166,823.8335824060166]
[null,null,null,25.85,75.673832001164399,825.10801694676661,825.10801694676661]
[null,null,null,25.89,75.67391688065716,826.38245148751662,826.38245148751662]
[null,null,null,25.93,75.674000877908838,827.65688602826663,827.65688602826663]
[null,null,null,25.97,75.674084002517091,828.93132056901663,828.93132056901663]
[null,null,null,26.01,75.674166263970079,830.20575510976664,830.20575510976664]
[null,null,null,26.05,75.674247671647649,831.48018965051665,831.48018965051665]
[null,null,null,26.09,75.674328234822795,832.75462419126666,832.75462419126666]
[null,null,null,26.13,75.674407962662798,834.02905873201667,834.02905873201667]
[null,null,null,26.17,75.674486864230616,835.30349327276667,835.30349327276667]
[null,null,null,26.21,75.674564948486037,836.57792781351668,836.57792781351668]
[null,null,null,26.25,75.674642224286956,837.85236235426669,837.85236235426669]
[null,null,null,26.29,75.674718700390571,839.1267968950167,839.1267968950167]
[null,null,null,26.33,75.674794385454646,840.4012314357667,840.4012314357667]
[null,null,null,26.37,75.674869288038622,841.67566597651671,841.67566597651671]
[null,null,null,26.41,75.674943416604819,842.95010051726672,842.95010051726672]
[null,null,null,26.45,75.675016779519609,844.22453505801673,844.22453505801673]
[null,null,null,26.49,75.675089385054548,845.49896959876673,845.49896959876673]
[null,null,null,26.53,75.675161241387499,846.77340413951674,846.77340413951674]
[null,null,null,26.57,75.675232356603786,848.04783868026675,848.04783868026675]
[null,null,null,26.61,75.675302738697198,849.32227322101676,849.32227322101676]
[null,null,null,26.65,75.675372395571188,850.59670776176677,850.59670776176677]
[null,null,null,26.69,75.675441335039906,851.87114230251677,851.87114230251677]
[null,null,null,26.73,75.675509564829227,853.14557684326678,853.14557684326678]
[null,null,null,26.77,75.675577092577825,854.42001138401679,854.42001138401679]
[null,null,null,26.81,75.675643925838244,855.6944459247668,855.6944459247668]
[null,null,null,26.85,75.675710072077806,856.9688804655168,856.9688804655168]
[null,null,null,26.89,75.675775538679787,858.24331500626681,858.24331500626681]
[null,null,null,26.93,75.675840332944247,859.51774954701682,859.51774954701682]
[null,null,null,26.97,75.675904462089107,860.79218408776683,860.79218408776683]
[null,null,null,27.01,75.67596793325113,862.06661862851684,862.06661862851684]
[null,null,null,27.05,75.676030753486799,863.34105316926684,863.34105316926684]
[null,null,null,27.09,75.676092929773347,864.61548771001685,864.61548771001685]
[null,null,null,27.13,75.676154469009674,865.88992225076686,865.88992225076686]
[null,null,null,27.17,75.67621537801719,867.16435679151687,867.16435679151687]
[null,null,null,27.21,75.676275663540892,868.43879133226687,868.43879133226687]
[null,null,null,27.25,75.676335332250076,869.71322587301688,869.71322587301688]
[null,null,null,27.29,75.676394390739361,870.98766041376689,870.98766041376689]
[null,null,null,27.33,75.676452845529539,872.2620949545169,872.2620949545169]
[null,null,null,27.37,75.676510703068374,873.5365294952669,873.5365294952669]
[null,null,null,27.41,75.676567969731579,874.81096403601691,874.81096403601691]
[null,null,null,27.45,75.676624651823545,876.08539857676692,876.08539857676692]
[null,null,null,27.49,75.676680755578246,877.35983311751693,877.35983311751693]
[null,null,null,27.53,75.676736287160082,878.63426765826694,878.63426765826694]
[null,null,null,27.57,75.676791252664572,879.90870219901694,879.90870219901694]
[null,null,null,27.61,75.676845658119362,881.18313673976695,881.18313673976695]
[null,null,null,27.65,75.676899509484812,882.45757128051696,882.45757128051696]
[null,null,null,27.69,75.676952812654932,883.73200582126697,883.73200582126697]
[null,null,null,27.73,75.677005573458075,885.00644036201697,885.00644036201697]
[null,null,null,27.77,75.677057797657739,886.28087490276698,886.28087490276698]
[null,null,null,27.81,75.677109490953313,887.55530944351699,887.55530944351699]
[null,null,null,27.85,75.677160658980853,888.829743984267,888.829743984267]
[null,null,null,27.89,75.677211307313769,890.10417852501701,890.10417852501701]
[null,null,null,27.93,75.677261441463571,891.37861306576701,891.37861306576701]
[null,null,null,27.97,75.677311066880634,892.65304760651702,892.65304760651702]
[null,null,null,28.01,75.677360188954864,893.92748214726703,893.92748214726703]
[null,null,null,28.05,75.677408813016413,895.20191668801704,895.20191668801704]
[null,null,null,28.09,75.67745694433637,896.47635122876704,896.47635122876704]
[null,null,null,28.13,75.677504588127462,897.75078576951705,897.75078576951705]
[null,null,null,28.17,75.677551749544691,899.02522031026706,899.02522031026706]
[null,null,null,28.21,{"$f":"75.6823584712771*(1-EXP((-0.899212139239885)*(D887^0.711351170572747)))","v":75.677598433686072},{"$f":"F886+(LOG(D887-D886)/LOG(0.08))","v":900.29965485101707},{"$f":"G886+((0.08+0.08)/2)^$B$13*($F887-$F886)","v":900.29965485101707}]
[null,null,null,28.25,75.677644645593261,901.57408939176707,901.57408939176707]
[null,null,null,28.29,75.677690390252167,902.84852393251708,902.84852393251708]
[null,null,null,28.33,75.677735672593641,904.12295847326709,904.12295847326709]
[null,null,null,28.37,75.677780497494126,905.3973930140171,905.3973930140171]
[null,null,null,28.41,75.677824869776273,906.67182755476711,906.67182755476711]
[null,null,null,28.45,75.67786879420953,907.94626209551711,907.94626209551711]
[null,null,null,28.49,75.677912275510792,909.22069663626712,909.22069663626712]
[null,null,null,28.53,75.677955318345013,910.49513117701713,910.49513117701713]
[null,null,null,28.57,75.677997927325791,911.76956571776714,911.76956571776714]
[null,null,null,28.61,75.678040107015946,913.04400025851714,913.04400025851714]
[null,null,null,28.65,75.678081861928135,914.31843479926715,914.31843479926715]
[null,null,null,28.69,75.678123196525405,915.59286934001716,915.59286934001716]
[null,null,null,28.73,75.678164115221804,916.86730388076717,916.86730388076717]
[null,null,null,28.77,75.678204622382864,918.14173842151718,918.14173842151718]
[null,null,null,28.81,75.678244722326269,919.41617296226718,919.41617296226718]
[null,null,null,28.85,75.678284419322324,920.69060750301719,920.69060750301719]
[null,null,null,28.89,75.678323717594509,921.9650420437672,921.9650420437672]
[null,null,null,28.93,75.678362621320048,923.23947658451721,923.23947658451721]
[null,null,null,28.97,75.67840113463042,924.51391112526721,924.51391112526721]
[null,null,null,29.01,75.678439261611885,925.78834566601722,925.78834566601722]
[null,null,null,29.05,75.678477006306011,927.06278020676723,927.06278020676723]
[null,null,null,29.09,75.678514372710154,928.33721474751724,928.33721474751724]
[null,null,null,29.13,75.678551364778031,929.61164928826724,929.61164928826724]
[null,null,null,29.17,75.678587986420141,930.88608382901725,930.88608382901725]
[null,null,null,29.21,75.678624241504309,932.16051836976726,932.16051836976726]
[null,null,null,29.25,75.678660133856155,933.43495291051727,933.43495291051727]
[null,null,null,29.29,75.678695667259603,934.70938745126728,934.70938745126728]
[null,null,null,29.33,75.678730845457295,935.98382199201728,935.98382199201728]
[null,null,null,29.37,75.67876567215113,937.25825653276729,937.25825653276729]
[null,null,null,29.41,75.678800151002719,938.5326910735173,938.5326910735173]
[null,null,null,29.45,75.678834285633798,939.80712561426731,939.80712561426731]
[null,null,null,29.49,75.67886807962671,941.08156015501731,941.08156015501731]
[null,null,null,29.53,75.678901536524862,942.35599469576732,942.35599469576732]
[null,null,null,29.57,75.67893465983316,943.63042923651733,943.63042923651733]
[null,null,null,29.61,75.678967453018458,944.90486377726734,944.90486377726734]
[null,null,null,29.65,75.678999919509963,946.17929831801735,946.17929831801735]
[null,null,null,29.69,75.67903206269969,947.45373285876735,947.45373285876735]
[null,null,null,29.73,75.679063885942867,948.72816739951736,948.72816739951736]
[null,null,null,29.77,75.679095392558352,950.00260194026737,950.00260194026737]
[null,null,null,29.81,75.679126585829081,951.27703648101738,951.27703648101738]
[null,null,null,29.85,75.679157469002405,952.55147102176738,952.55147102176738]
[null,null,null,29.89,75.679188045290587,953.82590556251739,953.82590556251739]
[null,null,null,29.93,75.67921831787109,955.1003401032674,955.1003401032674]
[null,null,null,29.97,75.67924828988707,956.37477464401741,956.37477464401741]
[null,null,null,30.01,75.679277964447706,957.64920918476741,957.64920918476741]
[null,null,null,30.05,75.679307344628583,958.92364372551742,958.92364372551742]
[null,null,null,30.09,75.679336433472116,960.19807826626743,960.19807826626743]
[null,null,null,30.13,75.679365233987909,961.47251280701744,961.47251280701744]
[null,null,null,30.17,75.679393749153064,962.74694734776745,962.74694734776745]
[null,null,null,30.21,75.679421981912625,964.02138188851745,964.02138188851745]
[null,null,null,30.25,75.679449935179917,965.29581642926746,965.29581642926746]
[null,null,null,30.29,75.679477611836873,966.57025097001747,966.57025097001747]
[null,null,null,30.33,75.67950501473446,967.84468551076748,967.84468551076748]
[null,null,null,30.37,75.679532146692907,969.11912005151748,969.11912005151748]
[null,null,null,30.41,75.679559010502189,970.39355459226749,970.39355459226749]
[null,null,null,30.45,75.679585608922281,971.6679891330175,971.6679891330175]
[null,null,null,30.49,75.679611944683487,972.94242367376751,972.94242367376751]
[null,null,null,30.53,75.679638020486848,974.21685821451752,974.21685821451752]
[null,null,null,30.57,75.679663839004363,975.49129275526752,975.49129275526752]
[null,null,null,30.61,75.679689402879447,976.76572729601753,976.76572729601753]
[null,null,null,30.65,75.67971471472714,978.04016183676754,978.04016183676754]
[null,null,null,30.69,75.679739777134444,979.31459637751755,979.31459637751755]
[null,null,null,30.73,75.679764592660717,980.58903091826755,980.58903091826755]
[null,null,null,30.77,{"$f":"75.6823584712771*(1-EXP((-0.899212139239885)*(D951^0.711351170572747)))","v":75.679789163837867},{"$f":"F950+(LOG(D951-D950)/LOG(0.08))","v":981.86346545901756},{"$f":"G950+((0.08+0.08)/2)^$B$13*($F951-$F950)","v":981.86346545901756}]
[null,null,null,30.81,75.679813493170741,983.13789999976757,983.13789999976757]
[null,null,null,30.85,75.679837583137399,984.41233454051758,984.41233454051758]
[null,null,null,30.89,75.679861436189427,985.68676908126758,985.68676908126758]
[null,null,null,30.93,75.679885054752205,986.96120362201759,986.96120362201759]
[null,null,null,30.97,75.679908441225223,988.2356381627676,988.2356381627676]
[null,null,null,31.01,75.679931597982346,989.51007270351761,989.51007270351761]
[null,null,null,31.05,75.679954527372175,990.78450724426762,990.78450724426762]
[null,null,null,31.09,75.679977231718198,992.05894178501762,992.05894178501762]
[null,null,null,31.13,75.679999713319162,993.33337632576763,993.33337632576763]
[null,null,null,31.17,75.680021974449389,994.60781086651764,994.60781086651764]
[null,null,null,31.21,75.680044017358895,995.88224540726765,995.88224540726765]
[null,null,null,31.25,75.680065844273827,997.15667994801765,997.15667994801765]
[null,null,null,31.29,75.680087457396624,998.43111448876766,998.43111448876766]
[null,null,null,31.33,75.68010885890628,999.70554902951767,999.70554902951767]
[null,null,null,31.37,75.680130050958709,1000.9799835702677,1000.9799835702677]
[null,null,null,31.41,75.680151035686876,1002.2544181110177,1002.2544181110177]
[null,null,null,31.45,75.680171815201106,1003.5288526517677,1003.5288526517677]
[null,null,null,31.49,75.68019239158933,1004.8032871925177,1004.8032871925177]
[null,null,null,31.53,75.680212766917364,1006.0777217332677,1006.0777217332677]
[null,null,null,31.57,75.6802329432291,1007.3521562740177,1007.3521562740177]
[null,null,null,31.61,75.680252922546771,1008.6265908147677,1008.6265908147677]
[null,null,null,31.65,75.680272706871207,1009.9010253555177,1009.9010253555177]
[null,null,null,31.69,75.680292298182053,1011.1754598962677,1011.1754598962677]
[null,null,null,31.73,75.680311698438004,1012.4498944370177,1012.4498944370177]
[null,null,null,31.77,75.680330909577052,1013.7243289777678,1013.7243289777678]
[null,null,null,31.81,75.680349933516709,1014.9987635185178,1014.9987635185178]
[null,null,null,31.85,75.680368772154168,1016.2731980592678,1016.2731980592678]
[null,null,null,31.89,75.680387427366682,1017.5476326000178,1017.5476326000178]
[null,null,null,31.93,75.680405901011611,1018.8220671407678,1018.8220671407678]
[null,null,null,31.97,75.680424194926758,1020.0965016815178,1020.0965016815178]
[null,null,null,32.01,75.68044231093053,1021.3709362222678,1021.3709362222678]
[null,null,null,32.049999999999997,75.680460250822165,1022.6453707630178,1022.6453707630178]
[null,null,null,32.090000000000003,75.680478016381954,1023.9198053037678,1023.9198053037678]
[null,null,null,32.130000000000003,75.680495609371434,1025.1942398445178,1025.1942398445178]
[null,null,null,32.17,75.680513031533593,1026.4686743852678,1026.4686743852678]
[null,null,null,32.21,75.680530284593104,1027.7431089260178,1027.7431089260178]
[null,null,null,32.25,75.680547370256477,1029.0175434667678,1029.0175434667678]
[null,null,null,32.29,75.680564290212288,1030.2919780075179,1030.2919780075179]
[null,null,null,32.33,75.680581046131394,1031.5664125482679,1031.5664125482679]
[null,null,null,32.369999999999997,75.680597639667056,1032.8408470890179,1032.8408470890179]
[null,null,null,32.409999999999997,75.680614072455242,1034.1152816297679,1034.1152816297679]
[null,null,null,32.450000000000003,75.680630346114725,1035.3897161705179,1035.3897161705179]
[null,null,null,32.49,75.680646462247282,1036.6641507112679,1036.6641507112679]
[null,null,null,32.53,75.680662422437933,1037.9385852520179,1037.9385852520179]
[null,null,null,32.57,75.680678228255061,1039.2130197927679,1039.2130197927679]
[null,null,null,32.61,75.680693881250676,1040.4874543335179,1040.4874543335179]
[null,null,null,32.65,75.680709382960458,1041.7618888742679,1041.7618888742679]
[null,null,null,32.69,75.680724734904103,1043.0363234150179,1043.0363234150179]
[null,null,null,32.729999999999997,75.680739938585347,1044.3107579557679,1044.3107579557679]
[null,null,null,32.770000000000003,75.680754995492251,1045.5851924965179,1045.5851924965179]
[null,null,null,32.81,75.680769907097314,1046.859627037268,1046.859627037268]
[null,null,null,32.85,75.680784674857634,1048.134061578018,1048.134061578018]
[null,null,null,32.89,75.680799300215142,1049.408496118768,1049.408496118768]
[null,null,null,32.93,75.680813784596666,1050.682930659518,1050.682930659518]
[null,null,null,32.97,75.680828129414195,1051.957365200268,1051.957365200268]
[null,null,null,33.01,75.680842336064998,1053.231799741018,1053.231799741018]
[null,null,null,33.049999999999997,75.680856405931749,1054.506234281768,1054.506234281768]
[null,null,null,33.090000000000003,75.680870340382739,1055.780668822518,1055.780668822518]
[null,null,null,33.130000000000003,75.680884140772037,1057.055103363268,1057.055103363268]
[null,null,null,33.17,75.680897808439582,1058.329537904018,1058.329537904018]
[null,null,null,33.21,75.68091134471139,1059.603972444768,1059.603972444768]
[null,null,null,33.25,75.680924750899706,1060.878406985518,1060.878406985518]
[null,null,null,33.29,75.680938028303103,1062.152841526268,1062.152841526268]
[null,null,null,33.33,{"$f":"75.6823584712771*(1-EXP((-0.899212139239885)*(D1015^0.711351170572747)))","v":75.680951178206683},{"$f":"F1014+(LOG(D1015-D1014)/LOG(0.08))","v":1063.4272760670181},{"$f":"G1014+((0.08+0.08)/2)^$B$13*($F1015-$F1014)","v":1063.4272760670181}]
[null,null,null,33.369999999999997,75.680964201882219,1064.7017106077681,1064.7017106077681]
[null,null,null,33.409999999999997,75.680977100588265,1065.9761451485181,1065.9761451485181]
[null,null,null,33.450000000000003,75.680989875570319,1067.2505796892681,1067.2505796892681]
[null,null,null,33.49,75.681002528060972,1068.5250142300181,1068.5250142300181]
[null,null,null,33.53,75.681015059280014,1069.7994487707681,1069.7994487707681]
[null,null,null,33.57,75.681027470434643,1071.0738833115181,1071.0738833115181]
[null,null,null,33.61,75.681039762719536,1072.3483178522681,1072.3483178522681]
[null,null,null,33.65,75.681051937316965,1073.6227523930181,1073.6227523930181]
[null,null,null,33.69,75.681063995397025,1074.8971869337681,1074.8971869337681]
[null,null,null,33.729999999999997,75.681075938117672,1076.1716214745181,1076.1716214745181]
[null,null,null,33.770000000000003,75.681087766624927,1077.4460560152681,1077.4460560152681]
[null,null,null,33.81,75.681099482052929,1078.7204905560181,1078.7204905560181]
[null,null,null,33.85,75.681111085524122,1079.9949250967682,1079.9949250967682]
[null,null,null,33.89,75.68112257814937,1081.2693596375182,1081.2693596375182]
[null,null,null,33.93,75.681133961028053,1082.5437941782682,1082.5437941782682]
[null,null,null,33.97,75.681145235248238,1083.8182287190182,1083.8182287190182]
[null,null,null,34.01,75.681156401886739,1085.0926632597682,1085.0926632597682]
[null,null,null,34.049999999999997,75.681167462009299,1086.3670978005182,1086.3670978005182]
[null,null,null,34.090000000000003,75.681178416670676,1087.6415323412682,1087.6415323412682]
[null,null,null,34.130000000000003,75.681189266914771,1088.9159668820182,1088.9159668820182]
[null,null,null,34.17,75.681200013774713,1090.1904014227682,1090.1904014227682]
[null,null,null,34.21,75.681210658273031,1091.4648359635182,1091.4648359635182]
[null,null,null,34.25,75.681221201421735,1092.7392705042682,1092.7392705042682]
[null,null,null,34.29,75.681231644222436,1094.0137050450182,1094.0137050450182]
[null,null,null,34.33,75.681241987666425,1095.2881395857682,1095.2881395857682]
[null,null,null,34.369999999999997,75.681252232734835,1096.5625741265183,1096.5625741265183]
[null,null,null,34.409999999999997,75.681262380398721,1097.8370086672683,1097.8370086672683]
[null,null,null,34.450000000000003,75.681272431619206,1099.1114432080183,1099.1114432080183]
[null,null,null,34.49,75.68128238734748,1100.3858777487683,1100.3858777487683]
[null,null,null,34.53,75.681292248525054,1101.6603122895183,1101.6603122895183]
[null,null,null,34.57,75.681302016083748,1102.9347468302683,1102.9347468302683]
[null,null,null,34.61,75.681311690945833,1104.2091813710183,1104.2091813710183]
[null,null,null,34.65,75.681321274024185,1105.4836159117683,1105.4836159117683]
[null,null,null,34.69,75.681330766222288,1106.7580504525183,1106.7580504525183]
[null,null,null,34.729999999999997,75.681340168434375,1108.0324849932683,1108.0324849932683]
[null,null,null,34.770000000000003,75.681349481545581,1109.3069195340183,1109.3069195340183]
[null,null,null,34.81,75.681358706431965,1110.5813540747683,1110.5813540747683]
[null,null,null,34.85,75.681367843960629,1111.8557886155183,1111.8557886155183]
[null,null,null,34.89,75.681376894989839,1113.1302231562684,1113.1302231562684]
[null,null,null,34.93,75.681385860369076,1114.4046576970184,1114.4046576970184]
[null,null,null,34.97,75.681394740939155,1115.6790922377684,1115.6790922377684]
[null,null,null,35.01,75.681403537532333,1116.9535267785184,1116.9535267785184]
[null,null,null,35.049999999999997,75.681412250972357,1118.2279613192684,1118.2279613192684]
[null,null,null,35.090000000000003,75.68142088207459,1119.5023958600184,1119.5023958600184]
[null,null,null,35.130000000000003,75.681429431646109,1120.7768304007684,1120.7768304007684]
[null,null,null,35.17,75.681437900485719,1122.0512649415184,1122.0512649415184]
[null,null,null,35.21,75.681446289384155,1123.3256994822684,1123.3256994822684]
[null,null,null,35.25,75.681454599124052,1124.6001340230184,1124.6001340230184]
[null,null,null,35.29,75.681462830480129,1125.8745685637684,1125.8745685637684]
[null,null,null,35.33,75.681470984219189,1127.1490031045184,1127.1490031045184]
[null,null,null,35.369999999999997,75.681479061100276,1128.4234376452685,1128.4234376452685]
[null,null,null,35.409999999999997,75.681487061874705,1129.6978721860185,1129.6978721860185]
[null,null,null,35.450000000000003,75.681494987286172,1130.9723067267685,1130.9723067267685]
[null,null,null,35.49,75.681502838070799,1132.2467412675185,1132.2467412675185]
[null,null,null,35.53,75.681510614957276,1133.5211758082685,1133.5211758082685]
[null,null,null,35.57,75.681518318666889,1134.7956103490185,1134.7956103490185]
[null,null,null,35.61,75.681525949913606,1136.0700448897685,1136.0700448897685]
[null,null,null,35.65,75.681533509404161,1137.3444794305185,1137.3444794305185]
[null,null,null,35.69,75.681540997838127,1138.6189139712685,1138.6189139712685]
[null,null,null,35.729999999999997,75.681548415908011,1139.8933485120185,1139.8933485120185]
[null,null,null,35.770000000000003,75.68155576429929,1141.1677830527685,1141.1677830527685]
[null,null,null,35.81,75.681563043690531,1142.4422175935185,1142.4422175935185]
[null,null,null,35.85,75.681570254753396,1143.7166521342685,1143.7166521342685]
[null,null,null,35.89,{"$f":"75.6823584712771*(1-EXP((-0.899212139239885)*(D1079^0.711351170572747)))","v":75.681577398152825},{"$f":"F1078+(LOG(D1079-D1078)/LOG(0.08))","v":1144.9910866750186},{"$f":"G1078+((0.08+0.08)/2)^$B$13*($F1079-$F1078)","v":1144.9910866750186}]
[null,null,null,35.93,75.681584474546966,1146.2655212157686,1146.2655212157686]
[null,null,null,35.97,75.681591484587358,1147.5399557565186,1147.5399557565186]
[null,null,null,36.01,75.681598428918974,1148.8143902972686,1148.8143902972686]
[null,null,null,36.049999999999997,75.681605308180266,1150.0888248380186,1150.0888248380186]
[null,null,null,36.090000000000003,75.681612123003219,1151.3632593787686,1151.3632593787686]
[null,null,null,36.130000000000003,75.681618874013481,1152.6376939195186,1152.6376939195186]
[null,null,null,36.17,75.681625561830387,1153.9121284602686,1153.9121284602686]
[null,null,null,36.21,75.681632187067024,1155.1865630010186,1155.1865630010186]
[null,null,null,36.25,75.681638750330279,1156.4609975417686,1156.4609975417686]
[null,null,null,36.29,75.681645252221003,1157.7354320825186,1157.7354320825186]
[null,null,null,36.33,75.681651693333919,1159.0098666232686,1159.0098666232686]
[null,null,null,36.369999999999997,75.681658074257825,1160.2843011640186,1160.2843011640186]
[null,null,null,36.409999999999997,75.681664395575552,1161.5587357047687,1161.5587357047687]
[null,null,null,36.450000000000003,75.681670657864132,1162.8331702455187,1162.8331702455187]
[null,null,null,36.49,75.68167686169474,1164.1076047862687,1164.1076047862687]
[null,null,null,36.53,75.681683007632842,1165.3820393270187,1165.3820393270187]
[null,null,null,36.57,75.68168909623823,1166.6564738677687,1166.6564738677687]
[null,null,null,36.61,75.681695128065073,1167.9309084085187,1167.9309084085187]
[null,null,null,36.65,75.681701103661979,1169.2053429492687,1169.2053429492687]
[null,null,null,36.69,75.681707023572073,1170.4797774900187,1170.4797774900187]
[null,null,null,36.729999999999997,75.681712888332996,1171.7542120307687,1171.7542120307687]
[null,null,null,36.770000000000003,75.681718698477042,1173.0286465715187,1173.0286465715187]
[null,null,null,36.81,75.681724454531178,1174.3030811122687,1174.3030811122687]
[null,null,null,36.85,75.681730157017043,1175.5775156530187,1175.5775156530187]
[null,null,null,36.89,75.681735806451115,1176.8519501937687,1176.8519501937687]
[null,null,null,36.93,75.681741403344674,1178.1263847345188,1178.1263847345188]
[null,null,null,36.97,75.681746948203894,1179.4008192752688,1179.4008192752688]
[null,null,null,37.01,75.681752441529895,1180.6752538160188,1180.6752538160188]
[null,null,null,37.049999999999997,75.681757883818776,1181.9496883567688,1181.9496883567688]
[null,null,null,37.090000000000003,75.681763275561707,1183.2241228975188,1183.2241228975188]
[null,null,null,37.130000000000003,75.681768617244927,1184.4985574382688,1184.4985574382688]
[null,null,null,37.17,75.681773909349829,1185.7729919790188,1185.7729919790188]
[null,null,null,37.21,75.681779152353016,1187.0474265197688,1187.0474265197688]
[null,null,null,37.25,75.681784346726346,1188.3218610605188,1188.3218610605188]
[null,null,null,37.29,75.681789492936943,1189.5962956012688,1189.5962956012688]
[null,null,null,37.33,75.6817945914473,1190.8707301420188,1190.8707301420188]
[null,null,null,37.369999999999997,75.681799642715291,1192.1451646827688,1192.1451646827688]
[null,null,null,37.409999999999997,75.681804647194255,1193.4195992235188,1193.4195992235188]
[null,null,null,37.450000000000003,75.681809605332973,1194.6940337642689,1194.6940337642689]
[null,null,null,37.49,75.681814517575802,1195.9684683050189,1195.9684683050189]
[null,null,null,37.53,75.681819384362669,1197.2429028457689,1197.2429028457689]
[null,null,null,37.57,75.681824206129136,1198.5173373865189,1198.5173373865189]
[null,null,null,37.61,75.681828983306417,1199.7917719272689,1199.7917719272689]
[null,null,null,37.65,75.681833716321464,1201.0662064680189,1201.0662064680189]
[null,null,null,37.69,75.681838405596977,1202.3406410087689,1202.3406410087689]
[null,null,null,37.729999999999997,75.681843051551454,1203.6150755495189,1203.6150755495189]
[null,null,null,37.770000000000003,75.681847654599267,1204.8895100902689,1204.8895100902689]
[null,null,null,37.81,75.681852215150641,1206.1639446310189,1206.1639446310189]
[null,null,null,37.85,75.681856733611767,1207.4383791717689,1207.4383791717689]
[null,null,null,37.89,75.681861210384795,1208.7128137125189,1208.7128137125189]
[null,null,null,37.93,75.681865645867902,1209.9872482532689,1209.9872482532689]
[null,null,null,37.97,75.681870040455308,1211.261682794019,1211.261682794019]
[null,null,null,38.01,75.681874394537346,1212.536117334769,1212.536117334769]
[null,null,null,38.049999999999997,75.681878708500463,1213.810551875519,1213.810551875519]
[null,null,null,38.090000000000003,75.68188298272733,1215.084986416269,1215.084986416269]
[null,null,null,38.130000000000003,75.681887217596767,1216.359420957019,1216.359420957019]
[null,null,null,38.17,75.68189141348391,1217.633855497769,1217.633855497769]
[null,null,null,38.21,75.681895570760162,1218.908290038519,1218.908290038519]
[null,null,null,38.25,75.681899689793255,1220.182724579269,1220.182724579269]
[null,null,null,38.29,75.681903770947301,1221.457159120019,1221.457159120019]
[null,null,null,38.33,75.681907814582829,1222.731593660769,1222.731593660769]
[null,null,null,38.369999999999997,75.681911821056772,1224.006028201519,1224.006028201519]
[null,null,null,38.409999999999997,75.681915790722599,1225.280462742269,1225.280462742269]
[null,null,null,38.450000000000003,{"$f":"75.6823584712771*(1-EXP((-0.899212139239885)*(D1143^0.711351170572747)))","v":75.681919723930235},{"$f":"F1142+(LOG(D1143-D1142)/LOG(0.08))","v":1226.554897283019},{"$f":"G1142+((0.08+0.08)/2)^$B$13*($F1143-$F1142)","v":1226.554897283019}]
[null,null,null,38.49,75.681923621026215,1227.8293318237691,1227.8293318237691]
[null,null,null,38.53,75.681927482353615,1229.1037663645191,1229.1037663645191]
[null,null,null,38.57,75.681931308252146,1230.3782009052691,1230.3782009052691]
[null,null,null,38.61,75.681935099058194,1231.6526354460191,1231.6526354460191]
[null,null,null,38.65,75.681938855104832,1232.9270699867691,1232.9270699867691]
[null,null,null,38.69,75.681942576721823,1234.2015045275191,1234.2015045275191]
[null,null,null,38.729999999999997,75.681946264235734,1235.4759390682691,1235.4759390682691]
[null,null,null,38.770000000000003,75.681949917969874,1236.7503736090191,1236.7503736090191]
[null,null,null,38.81,75.681953538244429,1238.0248081497691,1238.0248081497691]
[null,null,null,38.85,75.6819571253764,1239.2992426905191,1239.2992426905191]
[null,null,null,38.89,75.68196067967969,1240.5736772312691,1240.5736772312691]
[null,null,null,38.93,75.681964201465121,1241.8481117720191,1241.8481117720191]
[null,null,null,38.97,75.681967691040484,1243.1225463127691,1243.1225463127691]
[null,null,null,39.01,75.681971148710531,1244.3969808535192,1244.3969808535192]
[null,null,null,39.049999999999997,75.681974574777016,1245.6714153942692,1245.6714153942692]
[null,null,null,39.090000000000003,75.68197796953875,1246.9458499350192,1246.9458499350192]
[null,null,null,39.130000000000003,75.681981333291645,1248.2202844757692,1248.2202844757692]
[null,null,null,39.17,75.681984666328674,1249.4947190165192,1249.4947190165192]
[null,null,null,39.21,75.681987968939936,1250.7691535572692,1250.7691535572692]
[null,null,null,39.25,75.68199124141276,1252.0435880980192,1252.0435880980192]
[null,null,null,39.29,75.681994484031577,1253.3180226387692,1253.3180226387692]
[null,null,null,39.33,75.681997697078103,1254.5924571795192,1254.5924571795192]
[null,null,null,39.369999999999997,75.682000880831268,1255.8668917202692,1255.8668917202692]
[null,null,null,39.409999999999997,75.682004035567275,1257.1413262610192,1257.1413262610192]
[null,null,null,39.450000000000003,75.682007161559653,1258.4157608017692,1258.4157608017692]
[null,null,null,39.49,75.682010259079263,1259.6901953425192,1259.6901953425192]
[null,null,null,39.53,75.682013328394291,1260.9646298832693,1260.9646298832693]
[null,null,null,39.57,75.682016369770309,1262.2390644240193,1262.2390644240193]
[null,null,null,39.61,75.682019383470333,1263.5134989647693,1263.5134989647693]
[null,null,null,39.65,75.68202236975479,1264.7879335055193,1264.7879335055193]
[null,null,null,39.69,75.682025328881579,1266.0623680462693,1266.0623680462693]
[null,null,null,39.729999999999997,75.682028261106097,1267.3368025870193,1267.3368025870193]
[null,null,null,39.770000000000003,75.682031166681199,1268.6112371277693,1268.6112371277693]
[null,null,null,39.81,75.682034045857364,1269.8856716685193,1269.8856716685193]
[null,null,null,39.85,75.682036898882558,1271.1601062092693,1271.1601062092693]
[null,null,null,39.89,75.682039726002373,1272.4345407500193,1272.4345407500193]
[null,null,null,39.93,75.682042527460027,1273.7089752907693,1273.7089752907693]
[null,null,null,39.97,75.682045303496338,1274.9834098315193,1274.9834098315193]
[null,null,null,40.01,75.682048054349792,1276.2578443722693,1276.2578443722693]
[null,null,null,40.049999999999997,75.682050780256588,1277.5322789130194,1277.5322789130194]
[null,null,null,40.090000000000003,75.682053481450595,1278.8067134537694,1278.8067134537694]
[null,null,null,40.130000000000003,75.682056158163434,1280.0811479945194,1280.0811479945194]
[null,null,null,40.17,75.682058810624454,1281.3555825352694,1281.3555825352694]
[null,null,null,40.21,75.682061439060817,1282.6300170760194,1282.6300170760194]
[null,null,null,40.25,75.68206404369748,1283.9044516167694,1283.9044516167694]
[null,null,null,40.29,75.682066624757155,1285.1788861575194,1285.1788861575194]
[null,null,null,40.33,75.682069182460481,1286.4533206982694,1286.4533206982694]
[null,null,null,40.369999999999997,75.682071717025934,1287.7277552390194,1287.7277552390194]
[null,null,null,40.409999999999997,75.682074228669819,1289.0021897797694,1289.0021897797694]
[null,null,null,40.450000000000003,75.682076717606435,1290.2766243205194,1290.2766243205194]
[null,null,null,40.49,75.682079184047936,1291.5510588612694,1291.5510588612694]
[null,null,null,40.53,75.682081628204472,1292.8254934020194,1292.8254934020194]
[null,null,null,40.57,75.682084050284132,1294.0999279427695,1294.0999279427695]
[null,null,null,40.61,75.682086450493031,1295.3743624835195,1295.3743624835195]
[null,null,null,40.65,75.682088829035237,1296.6487970242695,1296.6487970242695]
[null,null,null,40.69,75.682091186112885,1297.9232315650195,1297.9232315650195]
[null,null,null,40.729999999999997,75.682093521926149,1299.1976661057695,1299.1976661057695]
[null,null,null,40.770000000000003,75.682095836673298,1300.4721006465195,1300.4721006465195]
[null,null,null,40.81,75.682098130550628,1301.7465351872695,1301.7465351872695]
[null,null,null,40.85,75.682100403752585,1303.0209697280195,1303.0209697280195]
[null,null,null,40.89,75.682102656471756,1304.2954042687695,1304.2954042687695]
[null,null,null,40.93,75.682104888898834,1305.5698388095195,1305.5698388095195]
[null,null,null,40.97,75.68210710122267,1306.8442733502695,1306.8442733502695]
[null,null,null,41.01,{"$f":"75.6823584712771*(1-EXP((-0.899212139239885)*(D1207^0.711351170572747)))","v":75.682109293630347},{"$f":"F1206+(LOG(D1207-D1206)/LOG(0.08))","v":1308.1187078910195},{"$f":"G1206+((0.08+0.08)/2)^$B$13*($F1207-$F1206)","v":1308.1187078910195}]
[null,null,null,41.05,75.68211146630712,1309.3931424317695,1309.3931424317695]
[null,null,null,41.09,75.682113619436421,1310.6675769725196,1310.6675769725196]
[null,null,null,41.13,75.68211575319998,1311.9420115132696,1311.9420115132696]
[null,null,null,41.17,75.682117867777748,1313.2164460540196,1313.2164460540196]
[null,null,null,41.21,75.682119963347944,1314.4908805947696,1314.4908805947696]
[null,null,null,41.25,75.682122040087094,1315.7653151355196,1315.7653151355196]
[null,null,null,41.29,75.682124098170007,1317.0397496762696,1317.0397496762696]
[null,null,null,41.33,75.682126137769828,1318.3141842170196,1318.3141842170196]
[null,null,null,41.37,75.682128159058024,1319.5886187577696,1319.5886187577696]
[null,null,null,41.41,75.68213016220443,1320.8630532985196,1320.8630532985196]
[null,null,null,41.45,75.68213214737726,1322.1374878392696,1322.1374878392696]
[null,null,null,41.49,75.682134114743079,1323.4119223800196,1323.4119223800196]
[null,null,null,41.53,75.682136064466903,1324.6863569207696,1324.6863569207696]
[null,null,null,41.57,75.682137996712115,1325.9607914615196,1325.9607914615196]
[null,null,null,41.61,75.68213991164059,1327.2352260022697,1327.2352260022697]
[null,null,null,41.65,75.682141809412613,1328.5096605430197,1328.5096605430197]
[null,null,null,41.69,75.682143690186933,1329.7840950837697,1329.7840950837697]
[null,null,null,41.73,75.682145554120808,1331.0585296245197,1331.0585296245197]
[null,null,null,41.77,75.68214740136996,1332.3329641652697,1332.3329641652697]
[null,null,null,41.81,75.682149232088634,1333.6073987060197,1333.6073987060197]
[null,null,null,41.85,75.682151046429624,1334.8818332467697,1334.8818332467697]
[null,null,null,41.89,75.682152844544206,1336.1562677875197,1336.1562677875197]
[null,null,null,41.93,75.682154626582289,1337.4307023282697,1337.4307023282697]
[null,null,null,41.97,75.682156392692292,1338.7051368690197,1338.7051368690197]
[null,null,null,42.01,75.68215814302124,1339.9795714097697,1339.9795714097697]
[null,null,null,42.05,75.682159877714724,1341.2540059505197,1341.2540059505197]
[null,null,null,42.09,75.682161596916984,1342.5284404912697,1342.5284404912697]
[null,null,null,42.13,75.682163300770895,1343.8028750320198,1343.8028750320198]
[null,null,null,42.17,75.682164989417899,1345.0773095727698,1345.0773095727698]
[null,null,null,42.21,75.682166662998171,1346.3517441135198,1346.3517441135198]
[null,null,null,42.25,75.682168321650508,1347.6261786542698,1347.6261786542698]
[null,null,null,42.29,75.682169965512387,1348.9006131950198,1348.9006131950198]
[null,null,null,42.33,75.682171594719989,1350.1750477357698,1350.1750477357698]
[null,null,null,42.37,75.682173209408177,1351.4494822765198,1351.4494822765198]
[null,null,null,42.41,75.682174809710574,1352.7239168172698,1352.7239168172698]
[null,null,null,42.45,75.682176395759484,1353.9983513580198,1353.9983513580198]
[null,null,null,42.49,75.682177967685959,1355.2727858987698,1355.2727858987698]
[null,null,null,42.53,75.682179525619844,1356.5472204395198,1356.5472204395198]
[null,null,null,42.57,75.682181069689705,1357.8216549802698,1357.8216549802698]
[null,null,null,42.61,75.682182600022927,1359.0960895210198,1359.0960895210198]
[null,null,null,42.65,75.682184116745645,1360.3705240617699,1360.3705240617699]
[null,null,null,42.69,75.682185619982832,1361.6449586025199,1361.6449586025199]
[null,null,null,42.73,75.682187109858248,1362.9193931432699,1362.9193931432699]
[null,null,null,42.77,75.682188586494505,1364.1938276840199,1364.1938276840199]
[null,null,null,42.81,75.682190050013034,1365.4682622247699,1365.4682622247699]
[null,null,null,42.85,75.682191500534103,1366.7426967655199,1366.7426967655199]
[null,null,null,42.89,75.682192938176868,1368.0171313062699,1368.0171313062699]
[null,null,null,42.93,75.682194363059338,1369.2915658470199,1369.2915658470199]
[null,null,null,42.97,75.682195775298425,1370.5660003877699,1370.5660003877699]
[null,null,null,43.01,75.682197175009918,1371.8404349285199,1371.8404349285199]
[null,null,null,43.05,75.6821985623085,1373.1148694692699,1373.1148694692699]
[null,null,null,43.09,75.682199937307786,1374.3893040100199,1374.3893040100199]
[null,null,null,43.13,75.682201300120312,1375.6637385507699,1375.6637385507699]
[null,null,null,43.17,75.682202650857548,1376.93817309152,1376.93817309152]
[null,null,null,43.21,75.682203989629912,1378.21260763227,1378.21260763227]
[null,null,null,43.25,75.682205316546771,1379.48704217302,1379.48704217302]
[null,null,null,43.29,75.682206631716497,1380.76147671377,1380.76147671377]
[null,null,null,43.33,75.682207935246367,1382.03591125452,1382.03591125452]
[null,null,null,43.37,75.682209227242723,1383.31034579527,1383.31034579527]
[null,null,null,43.41,75.682210507810836,1384.58478033602,1384.58478033602]
[null,null,null,43.45,75.682211777055045,1385.85921487677,1385.85921487677]
[null,null,null,43.49,75.682213035078647,1387.13364941752,1387.13364941752]
[null,null,null,43.53,75.682214281984002,1388.40808395827,1388.40808395827]
[null,null,null,43.57,{"$f":"75.6823584712771*(1-EXP((-0.899212139239885)*(D1271^0.711351170572747)))","v":75.682215517872521},{"$f":"F1270+(LOG(D1271-D1270)/LOG(0.08))","v":1389.68251849902},{"$f":"G1270+((0.08+0.08)/2)^$B$13*($F1271-$F1270)","v":1389.68251849902}]
[null,null,null,43.61,75.682216742844602,1390.95695303977,1390.95695303977]
[null,null,null,43.65,75.682217956999736,1392.23138758052,1392.23138758052]
[null,null,null,43.69,75.682219160436503,1393.5058221212701,1393.5058221212701]
[null,null,null,43.73,75.68222035325249,1394.7802566620201,1394.7802566620201]
[null,null,null,43.77,75.682221535544414,1396.0546912027701,1396.0546912027701]
[null,null,null,43.81,75.682222707408073,1397.3291257435201,1397.3291257435201]
[null,null,null,43.85,75.682223868938365,1398.6035602842701,1398.6035602842701]
[null,null,null,43.89,75.682225020229268,1399.8779948250201,1399.8779948250201]
[null,null,null,43.93,75.682226161373919,1401.1524293657701,1401.1524293657701]
[null,null,null,43.97,75.682227292464574,1402.4268639065201,1402.4268639065201]
[null,null,null,44.01,75.682228413592568,1403.7012984472701,1403.7012984472701]
[null,null,null,44.05,75.682229524848452,1404.9757329880201,1404.9757329880201]
[null,null,null,44.09,75.68223062632191,1406.2501675287701,1406.2501675287701]
[null,null,null,44.13,75.682231718101718,1407.5246020695201,1407.5246020695201]
[null,null,null,44.17,75.682232800275926,1408.7990366102702,1408.7990366102702]
[null,null,null,44.21,75.682233872931675,1410.0734711510202,1410.0734711510202]
[null,null,null,44.25,75.682234936155339,1411.3479056917702,1411.3479056917702]
[null,null,null,44.29,75.682235990032439,1412.6223402325202,1412.6223402325202]
[null,null,null,44.33,75.682237034647741,1413.8967747732702,1413.8967747732702]
[null,null,null,44.37,75.682238070085177,1415.1712093140202,1415.1712093140202]
[null,null,null,44.41,75.682239096427921,1416.4456438547702,1416.4456438547702]
[null,null,null,44.45,75.682240113758368,1417.7200783955202,1417.7200783955202]
[null,null,null,44.49,75.682241122158104,1418.9945129362702,1418.9945129362702]
[null,null,null,44.53,75.682242121708015,1420.2689474770202,1420.2689474770202]
[null,null,null,44.57,75.68224311248818,1421.5433820177702,1421.5433820177702]
[null,null,null,44.61,75.682244094577953,1422.8178165585202,1422.8178165585202]
[null,null,null,44.65,75.682245068055948,1424.0922510992702,1424.0922510992702]
[null,null,null,44.69,75.682246033000013,1425.3666856400203,1425.3666856400203]
[null,null,null,44.73,75.682246989487325,1426.6411201807703,1426.6411201807703]
[null,null,null,44.77,75.682247937594283,1427.9155547215203,1427.9155547215203]
[null,null,null,44.81,75.682248877396617,1429.1899892622703,1429.1899892622703]
[null,null,null,44.85,75.682249808969331,1430.4644238030203,1430.4644238030203]
[null,null,null,44.89,75.682250732386734,1431.7388583437703,1431.7388583437703]
[null,null,null,44.93,75.682251647722424,1433.0132928845203,1433.0132928845203]
[null,null,null,44.97,75.682252555049345,1434.2877274252703,1434.2877274252703]
[null,null,null,45.01,75.682253454439746,1435.5621619660203,1435.5621619660203]
[null,null,null,45.05,75.682254345965205,1436.8365965067703,1436.8365965067703]
[null,null,null,45.09,75.682255229696622,1438.1110310475203,1438.1110310475203]
[null,null,null,45.13,75.682256105704255,1439.3854655882703,1439.3854655882703]
[null,null,null,45.17,75.682256974057694,1440.6599001290203,1440.6599001290203]
[null,null,null,45.21,75.682257834825904,1441.9343346697704,1441.9343346697704]
[null,null,null,45.25,75.682258688077169,1443.2087692105204,1443.2087692105204]
[null,null,null,45.29,75.682259533879176,1444.4832037512704,1444.4832037512704]
[null,null,null,45.33,75.68226037229897,1445.7576382920204,1445.7576382920204]
[null,null,null,45.37,75.682261203402987,1447.0320728327704,1447.0320728327704]
[null,null,null,45.41,75.682262027257011,1448.3065073735204,1448.3065073735204]
[null,null,null,45.45,75.682262843926225,1449.5809419142704,1449.5809419142704]
[null,null,null,45.49,75.68226365347526,1450.8553764550204,1450.8553764550204]
[null,null,null,45.53,75.682264455968053,1452.1298109957704,1452.1298109957704]
[null,null,null,45.57,75.682265251468053,1453.4042455365204,1453.4042455365204]
[null,null,null,45.61,75.68226604003803,1454.6786800772704,1454.6786800772704]
[null,null,null,45.65,75.682266821740228,1455.9531146180204,1455.9531146180204]
[null,null,null,45.69,75.682267596636294,1457.2275491587704,1457.2275491587704]
[null,null,null,45.73,75.682268364787305,1458.5019836995205,1458.5019836995205]
[null,null,null,45.77,75.682269126253772,1459.7764182402705,1459.7764182402705]
[null,null,null,45.81,75.68226988109565,1461.0508527810205,1461.0508527810205]
[null,null,null,45.85,75.68227062937234,1462.3252873217705,1462.3252873217705]
[null,null,null,45.89,75.68227137114269,1463.5997218625205,1463.5997218625205]
[null,null,null,45.93,75.682272106464993,1464.8741564032705,1464.8741564032705]
[null,null,null,45.97,75.682272835397029,1466.1485909440205,1466.1485909440205]
[null,null,null,46.01,75.682273557996027,1467.4230254847705,1467.4230254847705]
[null,null,null,46.05,75.682274274318686,1468.6974600255205,1468.6974600255205]
[null,null,null,46.09,75.682274984421184,1469.9718945662705,1469.9718945662705]
[null,null,null,46.13,{"$f":"75.6823584712771*(1-EXP((-0.899212139239885)*(D1335^0.711351170572747)))","v":75.682275688359184},{"$f":"F1334+(LOG(D1335-D1334)/LOG(0.08))","v":1471.2463291070205},{"$f":"G1334+((0.08+0.08)/2)^$B$13*($F1335-$F1334)","v":1471.2463291070205}]
[null,null,null,46.17,75.682276386187837,1472.5207636477705,1472.5207636477705]
[null,null,null,46.21,75.682277077961771,1473.7951981885205,1473.7951981885205]
[null,null,null,46.25,75.682277763735101,1475.0696327292706,1475.0696327292706]
[null,null,null,46.29,75.682278443561501,1476.3440672700206,1476.3440672700206]
[null,null,null,46.33,75.68227911749409,1477.6185018107706,1477.6185018107706]
[null,null,null,46.37,75.682279785585507,1478.8929363515206,1478.8929363515206]
[null,null,null,46.41,75.682280447887933,1480.1673708922706,1480.1673708922706]
[null,null,null,46.45,75.68228110445304,1481.4418054330206,1481.4418054330206]
[null,null,null,46.49,75.682281755332056,1482.7162399737706,1482.7162399737706]
[null,null,null,46.53,75.682282400575687,1483.9906745145206,1483.9906745145206]
[null,null,null,46.57,75.682283040234225,1485.2651090552706,1485.2651090552706]
[null,null,null,46.61,75.682283674357464,1486.5395435960206,1486.5395435960206]
[null,null,null,46.65,75.682284302994759,1487.8139781367706,1487.8139781367706]
[null,null,null,46.69,75.68228492619501,1489.0884126775206,1489.0884126775206]
[null,null,null,46.73,75.68228554400666,1490.3628472182706,1490.3628472182706]
[null,null,null,46.77,75.682286156477701,1491.6372817590207,1491.6372817590207]
[null,null,null,46.81,75.682286763655696,1492.9117162997707,1492.9117162997707]
[null,null,null,46.85,75.682287365587769,1494.1861508405207,1494.1861508405207]
[null,null,null,46.89,75.682287962320615,1495.4605853812707,1495.4605853812707]
[null,null,null,46.93,75.682288553900477,1496.7350199220207,1496.7350199220207]
[null,null,null,46.97,75.682289140373214,1498.0094544627707,1498.0094544627707]
[null,null,null,47.01,75.68228972178423,1499.2838890035207,1499.2838890035207]
[null,null,null,47.05,75.682290298178529,1500.5583235442707,1500.5583235442707]
[null,null,null,47.09,75.682290869600692,1501.8327580850207,1501.8327580850207]
[null,null,null,47.13,75.682291436094914,1503.1071926257707,1503.1071926257707]
[null,null,null,47.17,75.682291997704951,1504.3816271665207,1504.3816271665207]
[null,null,null,47.21,75.682292554474188,1505.6560617072707,1505.6560617072707]
[null,null,null,47.25,75.682293106445584,1506.9304962480207,1506.9304962480207]
[null,null,null,47.29,75.682293653661745,1508.2049307887708,1508.2049307887708]
[null,null,null,47.33,75.682294196164847,1509.4793653295208,1509.4793653295208]
[null,null,null,47.37,75.682294733996699,1510.7537998702708,1510.7537998702708]
[null,null,null,47.41,75.682295267198725,1512.0282344110208,1512.0282344110208]
[null,null,null,47.45,75.682295795811967,1513.3026689517708,1513.3026689517708]
[null,null,null,47.49,75.682296319877125,1514.5771034925208,1514.5771034925208]
[null,null,null,47.53,75.682296839434457,1515.8515380332708,1515.8515380332708]
[null,null,null,47.57,75.682297354523911,1517.1259725740208,1517.1259725740208]
[null,null,null,47.61,75.682297865185063,1518.4004071147708,1518.4004071147708]
[null,null,null,47.65,75.682298371457094,1519.6748416555208,1519.6748416555208]
[null,null,null,47.69,75.682298873378869,1520.9492761962708,1520.9492761962708]
[null,null,null,47.73,75.682299370988886,1522.2237107370208,1522.2237107370208]
[null,null,null,47.77,75.682299864325259,1523.4981452777708,1523.4981452777708]
[null,null,null,47.81,75.682300353425831,1524.7725798185209,1524.7725798185209]
[null,null,null,47.85,75.68230083832799,1526.0470143592709,1526.0470143592709]
[null,null,null,47.89,75.682301319068884,1527.3214489000209,1527.3214489000209]
[null,null,null,47.93,75.682301795685277,1528.5958834407709,1528.5958834407709]
[null,null,null,47.97,75.682302268213576,1529.8703179815209,1529.8703179815209]
[null,null,null,48.01,75.68230273668992,1531.1447525222709,1531.1447525222709]
[null,null,null,48.05,75.682303201150077,1532.4191870630209,1532.4191870630209]
[null,null,null,48.09,75.68230366162949,1533.6936216037709,1533.6936216037709]
[null,null,null,48.13,75.682304118163273,1534.9680561445209,1534.9680561445209]
[null,null,null,48.17,75.682304570786258,1536.2424906852709,1536.2424906852709]
[null,null,null,48.21,75.682305019532919,1537.5169252260209,1537.5169252260209]
[null,null,null,48.25,75.68230546443742,1538.7913597667709,1538.7913597667709]
[null,null,null,48.29,75.682305905533653,1540.0657943075209,1540.0657943075209]
[null,null,null,48.33,75.682306342855171,1541.340228848271,1541.340228848271]
[null,null,null,48.37,75.682306776435226,1542.614663389021,1542.614663389021]
[null,null,null,48.41,75.68230720630676,1543.889097929771,1543.889097929771]
[null,null,null,48.45,75.682307632502443,1545.163532470521,1545.163532470521]
[null,null,null,48.49,75.682308055054619,1546.437967011271,1546.437967011271]
[null,null,null,48.53,75.682308473995363,1547.712401552021,1547.712401552021]
[null,null,null,48.57,75.682308889356435,1548.986836092771,1548.986836092771]
[null,null,null,48.61,75.682309301169312,1550.261270633521,1550.261270633521]
[null,null,null,48.65,75.682309709465216,1551.535705174271,1551.535705174271]
[null,null,null,48.69,{"$f":"75.6823584712771*(1-EXP((-0.899212139239885)*(D1399^0.711351170572747)))","v":75.682310114275055},{"$f":"F1398+(LOG(D1399-D1398)/LOG(0.08))","v":1552.810139715021},{"$f":"G1398+((0.08+0.08)/2)^$B$13*($F1399-$F1398)","v":1552.810139715021}]
[null,null,null,48.73,75.682310515629453,1554.084574255771,1554.084574255771]
[null,null,null,48.77,75.68231091355878,1555.359008796521,1555.359008796521]
[null,null,null,48.81,75.682311308093119,1556.633443337271,1556.633443337271]
[null,null,null,48.85,75.682311699262286,1557.9078778780211,1557.9078778780211]
[null,null,null,48.89,75.682312087095823,1559.1823124187711,1559.1823124187711]
[null,null,null,48.93,75.682312471622993,1560.4567469595211,1560.4567469595211]
[null,null,null,48.97,75.682312852872812,1561.7311815002711,1561.7311815002711]
[null,null,null,49.01,75.682313230874044,1563.0056160410211,1563.0056160410211]
[null,null,null,49.05,75.682313605655153,1564.2800505817711,1564.2800505817711]
[null,null,null,49.09,75.682313977244377,1565.5544851225211,1565.5544851225211]
[null,null,null,49.13,75.682314345669695,1566.8289196632711,1566.8289196632711]
[null,null,null,49.17,75.682314710958835,1568.1033542040211,1568.1033542040211]
[null,null,null,49.21,75.682315073139264,1569.3777887447711,1569.3777887447711]
[null,null,null,49.25,75.682315432238198,1570.6522232855211,1570.6522232855211]
[null,null,null,49.29,75.682315788282637,1571.9266578262711,1571.9266578262711]
[null,null,null,49.33,75.682316141299296,1573.2010923670211,1573.2010923670211]
[null,null,null,49.37,75.682316491314694,1574.4755269077712,1574.4755269077712]
[null,null,null,49.41,75.682316838355078,1575.7499614485212,1575.7499614485212]
[null,null,null,49.45,75.68231718244644,1577.0243959892712,1577.0243959892712]
[null,null,null,49.49,75.6823175236146,1578.2988305300212,1578.2988305300212]
[null,null,null,49.53,75.68231786188511,1579.5732650707712,1579.5732650707712]
[null,null,null,49.57,75.682318197283266,1580.8476996115212,1580.8476996115212]
[null,null,null,49.61,75.682318529834177,1582.1221341522712,1582.1221341522712]
[null,null,null,49.65,75.682318859562727,1583.3965686930212,1583.3965686930212]
[null,null,null,49.69,75.682319186493544,1584.6710032337712,1584.6710032337712]
[null,null,null,49.73,75.682319510651041,1585.9454377745212,1585.9454377745212]
[null,null,null,49.77,75.682319832059463,1587.2198723152712,1587.2198723152712]
[null,null,null,49.81,75.682320150742754,1588.4943068560212,1588.4943068560212]
[null,null,null,49.85,75.682320466724718,1589.7687413967712,1589.7687413967712]
[null,null,null,49.89,75.682320780028874,1591.0431759375213,1591.0431759375213]
[null,null,null,49.93,75.682321090678599,1592.3176104782713,1592.3176104782713]
[null,null,null,49.97,75.682321398697027,1593.5920450190213,1593.5920450190213]
[null,null,null,50.01,75.682321704107082,1594.8664795597713,1594.8664795597713]
[null,null,null,50.05,75.682322006931486,1596.1409141005213,1596.1409141005213]
[null,null,null,50.09,75.682322307192749,1597.4153486412713,1597.4153486412713]
[null,null,null,50.13,75.682322604913196,1598.6897831820213,1598.6897831820213]
[null,null,null,50.17,75.682322900114954,1599.9642177227713,1599.9642177227713]
[null,null,null,50.21,75.682323192819922,1601.2386522635213,1601.2386522635213]
[null,null,null,50.25,75.682323483049842,1602.5130868042713,1602.5130868042713]
[null,null,null,50.29,75.682323770826216,1603.7875213450213,1603.7875213450213]
[null,null,null,50.33,75.682324056170401,1605.0619558857713,1605.0619558857713]
[null,null,null,50.37,75.682324339103545,1606.3363904265213,1606.3363904265213]
[null,null,null,50.41,75.682324619646579,1607.6108249672714,1607.6108249672714]
[null,null,null,50.45,75.682324897820308,1608.8852595080214,1608.8852595080214]
[null,null,null,50.49,75.682325173645268,1610.1596940487714,1610.1596940487714]
[null,null,null,50.53,75.682325447141878,1611.4341285895214,1611.4341285895214]
[null,null,null,50.57,75.682325718330361,1612.7085631302714,1612.7085631302714]
[null,null,null,50.61,75.68232598723074,1613.9829976710214,1613.9829976710214]
[null,null,null,50.65,75.682326253862868,1615.2574322117714,1615.2574322117714]
[null,null,null,50.69,75.682326518246427,1616.5318667525214,1616.5318667525214]
[null,null,null,50.73,75.682326780400928,1617.8063012932714,1617.8063012932714]
[null,null,null,50.77,75.682327040345683,1619.0807358340214,1619.0807358340214]
[null,null,null,50.81,75.682327298099864,1620.3551703747714,1620.3551703747714]
[null,null,null,50.85,75.682327553682441,1621.6296049155214,1621.6296049155214]
[null,null,null,50.89,75.682327807112244,1622.9040394562714,1622.9040394562714]
[null,null,null,50.93,75.68232805840789,1624.1784739970215,1624.1784739970215]
[null,null,null,50.97,75.682328307587895,1625.4529085377715,1625.4529085377715]
[null,null,null,51.01,75.682328554670562,1626.7273430785215,1626.7273430785215]
[null,null,null,51.05,75.682328799674039,1628.0017776192715,1628.0017776192715]
[null,null,null,51.09,75.682329042616317,1629.2762121600215,1629.2762121600215]
[null,null,null,51.13,75.682329283515244,1630.5506467007715,1630.5506467007715]
[null,null,null,51.17,75.682329522388471,1631.8250812415215,1631.8250812415215]
[null,null,null,51.21,75.68232975925352,1633.0995157822715,1633.0995157822715]
[null,null,null,51.25,{"$f":"75.6823584712771*(1-EXP((-0.899212139239885)*(D1463^0.711351170572747)))","v":75.682329994127755},{"$f":"F1462+(LOG(D1463-D1462)/LOG(0.08))","v":1634.3739503230215},{"$f":"G1462+((0.08+0.08)/2)^$B$13*($F1463-$F1462)","v":1634.3739503230215}]
[null,null,null,51.29,75.682330227028388,1635.6483848637715,1635.6483848637715]
[null,null,null,51.33,75.682330457972455,1636.9228194045215,1636.9228194045215]
[null,null,null,51.37,75.68233068697684,1638.1972539452715,1638.1972539452715]
[null,null,null,51.41,75.68233091405834,1639.4716884860215,1639.4716884860215]
[null,null,null,51.45,75.682331139233526,1640.7461230267716,1640.7461230267716]
[null,null,null,51.49,75.682331362518852,1642.0205575675216,1642.0205575675216]
[null,null,null,51.53,75.682331583930633,1643.2949921082716,1643.2949921082716]
[null,null,null,51.57,75.682331803485013,1644.5694266490216,1644.5694266490216]
[null,null,null,51.61,75.682332021198036,1645.8438611897716,1645.8438611897716]
[null,null,null,51.65,75.682332237085575,1647.1182957305216,1647.1182957305216]
[null,null,null,51.69,75.682332451163347,{"$f":"F1473+(LOG(D1474-D1473)/LOG(0.08))","v":1648.3927302712716},1648.3927302712716]
[null,null,null,51.73,75.682332663446957,{"$f":"F1474+(LOG(D1475-D1474)/LOG(0.08))","v":1649.6671648120216},1649.6671648120216]
[null,null,null,51.77,75.682332873951879,1650.9415993527716,1650.9415993527716]
[null,null,null,51.81,75.682333082693418,1652.2160338935216,1652.2160338935216]
[null,null,null,51.85,75.682333289686753,1653.4904684342716,1653.4904684342716]
[null,null,null,51.89,75.682333494946946,1654.7649029750216,1654.7649029750216]
[null,null,null,51.93,75.682333698488932,1656.0393375157716,1656.0393375157716]
[null,null,null,51.97,75.68233390032745,1657.3137720565217,1657.3137720565217]
[null,null,null,52.01,75.682334100477192,1658.5882065972717,1658.5882065972717]
[null,null,null,52.05,75.682334298952668,1659.8626411380217,1659.8626411380217]
[null,null,null,52.09,75.682334495768274,1661.1370756787717,1661.1370756787717]
[null,null,null,52.13,75.682334690938291,1662.4115102195217,1662.4115102195217]
[null,null,null,52.17,75.682334884476859,1663.6859447602717,1663.6859447602717]
[null,null,null,52.21,75.682335076397976,1664.9603793010217,1664.9603793010217]
[null,null,null,52.25,75.682335266715555,1666.2348138417717,1666.2348138417717]
[null,null,null,52.29,75.682335455443351,1667.5092483825217,1667.5092483825217]
[null,null,null,52.33,75.682335642595035,1668.7836829232717,1668.7836829232717]
[null,null,null,52.37,75.682335828184108,1670.0581174640217,1670.0581174640217]
[null,null,null,52.41,75.682336012223999,1671.3325520047717,1671.3325520047717]
[null,null,null,52.45,75.682336194727995,1672.6069865455217,1672.6069865455217]
[null,null,null,52.49,75.682336375709269,1673.8814210862718,1673.8814210862718]
[null,null,null,52.53,75.682336555180882,1675.1558556270218,1675.1558556270218]
[null,null,null,52.57,75.682336733155751,{"$f":"F1495+(LOG(D1496-D1495)/LOG(0.08))","v":1676.4302901677718},1676.4302901677718]
[null,null,null,52.61,75.682336909646736,1677.7047247085218,1677.7047247085218]
[null,null,null,52.65,75.682337084666543,1678.9791592492718,1678.9791592492718]
[null,null,null,52.69,75.682337258227761,1680.2535937900218,1680.2535937900218]
[null,null,null,52.73,75.682337430342912,1681.5280283307718,1681.5280283307718]
[null,null,null,52.77,75.682337601024329,1682.8024628715218,1682.8024628715218]
[null,null,null,52.81,75.682337770284335,1684.0768974122718,1684.0768974122718]
[null,null,null,52.85,75.682337938135063,1685.3513319530218,1685.3513319530218]
[null,null,null,52.89,75.682338104588581,1686.6257664937718,1686.6257664937718]
[null,null,null,52.93,75.682338269656825,1687.9002010345218,1687.9002010345218]
[null,null,null,52.97,75.682338433351674,1689.1746355752719,1689.1746355752719]
[null,null,null,53.01,75.68233859568484,1690.4490701160219,1690.4490701160219]
[null,null,null,53.05,75.682338756667974,1691.7235046567719,1691.7235046567719]
[null,null,null,53.09,75.682338916312602,1692.9979391975219,1692.9979391975219]
[null,null,null,53.13,75.682339074630192,1694.2723737382719,1694.2723737382719]
[null,null,null,53.17,75.682339231632028,1695.5468082790219,1695.5468082790219]
[null,null,null,53.21,75.682339387329378,1696.8212428197719,1696.8212428197719]
[null,null,null,53.25,75.682339541733384,1698.0956773605219,1698.0956773605219]
[null,null,null,53.29,75.68233969485506,1699.3701119012719,1699.3701119012719]
[null,null,null,53.33,75.682339846705361,1700.6445464420219,1700.6445464420219]
[null,null,null,53.37,75.682339997295131,1701.9189809827719,1701.9189809827719]
[null,null,null,53.41,75.682340146635127,1703.1934155235219,1703.1934155235219]
[null,null,null,53.45,75.682340294735994,1704.4678500642719,1704.4678500642719]
[null,null,null,53.49,75.682340441608304,1705.742284605022,1705.742284605022]
[null,null,null,53.53,75.682340587262516,1707.016719145772,1707.016719145772]
[null,null,null,53.57,75.682340731709019,1708.291153686522,1708.291153686522]
[null,null,null,53.61,75.682340874958086,1709.565588227272,1709.565588227272]
[null,null,null,53.65,75.682341017019937,1710.840022768022,1710.840022768022]
[null,null,null,53.69,75.682341157904659,1712.114457308772,1712.114457308772]
[null,null,null,53.73,75.682341297622287,1713.388891849522,1713.388891849522]
[null,null,null,53.77,75.682341436182753,1714.663326390272,1714.663326390272]
[null,null,null,53.81,{"$f":"75.6823584712771*(1-EXP((-0.899212139239885)*(D1527^0.711351170572747)))","v":75.682341573595892},1715.937760931022,{"$f":"G1526+((0.08+0.08)/2)^$B$13*($F1527-$F1526)","v":1715.937760931022}]
[null,null,null,53.85,75.682341709871451,1717.212195471772,1717.212195471772]
[null,null,null,53.89,75.682341845019138,1718.486630012522,1718.486630012522]
[null,null,null,53.93,75.682341979048516,1719.761064553272,1719.761064553272]
[null,null,null,53.97,75.682342111969092,1721.035499094022,1721.035499094022]
[null,null,null,54.01,75.682342243790288,1722.3099336347721,1722.3099336347721]
[null,null,null,54.05,75.682342374521454,1723.5843681755221,1723.5843681755221]
[null,null,null,54.09,75.682342504171842,1724.8588027162721,1724.8588027162721]
[null,null,null,54.13,75.682342632750647,1726.1332372570221,1726.1332372570221]
[null,null,null,54.17,75.682342760266934,1727.4076717977721,1727.4076717977721]
[null,null,null,54.21,75.682342886729728,1728.6821063385221,1728.6821063385221]
[null,null,null,54.25,75.682343012147996,1729.9565408792721,1729.9565408792721]
[null,null,null,54.29,75.682343136530562,{"$f":"F1538+(LOG(D1539-D1538)/LOG(0.08))","v":1731.2309754200221},1731.2309754200221]
[null,null,null,54.33,75.682343259886238,1732.5054099607721,1732.5054099607721]
[null,null,null,54.37,75.682343382223721,1733.7798445015221,1733.7798445015221]
[null,null,null,54.41,75.682343503551635,1735.0542790422721,1735.0542790422721]
[null,null,null,54.45,75.682343623878552,1736.3287135830221,1736.3287135830221]
[null,null,null,54.49,75.68234374321294,1737.6031481237721,1737.6031481237721]
[null,null,null,54.53,75.682343861563211,1738.8775826645222,1738.8775826645222]
[null,null,null,54.57,75.682343978937695,1740.1520172052722,1740.1520172052722]
[null,null,null,54.61,75.682344095344661,1741.4264517460222,1741.4264517460222]
[null,null,null,54.65,75.682344210792309,1742.7008862867722,1742.7008862867722]
[null,null,null,54.69,75.682344325288724,1743.9753208275222,1743.9753208275222]
[null,null,null,54.73,75.682344438841994,1745.2497553682722,1745.2497553682722]
[null,null,null,54.77,75.682344551460076,1746.5241899090222,1746.5241899090222]
[null,null,null,54.81,75.682344663150886,1747.7986244497722,1747.7986244497722]
[null,null,null,54.85,75.682344773922253,1749.0730589905222,1749.0730589905222]
[null,null,null,54.89,75.682344883781965,1750.3474935312722,1750.3474935312722]
[null,null,null,54.93,75.682344992737711,1751.6219280720222,1751.6219280720222]
[null,null,null,54.97,75.682345100797136,1752.8963626127722,1752.8963626127722]
[null,null,null,55.01,75.682345207967813,1754.1707971535222,1754.1707971535222]
[null,null,null,55.05,75.682345314257248,1755.4452316942723,1755.4452316942723]
[null,null,null,55.09,75.68234541967287,1756.7196662350223,1756.7196662350223]
[null,null,null,55.13,75.682345524222058,1757.9941007757723,1757.9941007757723]
[null,null,null,55.17,75.682345627912142,1759.2685353165223,1759.2685353165223]
[null,null,null,55.21,75.682345730750356,1760.5429698572723,1760.5429698572723]
[null,null,null,55.25,75.682345832743891,1761.8174043980223,1761.8174043980223]
[null,null,null,55.29,75.682345933899853,1763.0918389387723,1763.0918389387723]
[null,null,null,55.33,75.682346034225318,1764.3662734795223,1764.3662734795223]
[null,null,null,55.37,75.682346133727293,1765.6407080202723,1765.6407080202723]
[null,null,null,55.41,75.682346232412712,1766.9151425610223,1766.9151425610223]
[null,null,null,55.45,75.682346330288453,1768.1895771017723,1768.1895771017723]
[null,null,null,55.49,75.682346427361324,1769.4640116425223,1769.4640116425223]
[null,null,null,55.53,75.682346523638103,1770.7384461832723,1770.7384461832723]
[null,null,null,55.57,75.682346619125497,1772.0128807240224,1772.0128807240224]
[null,null,null,55.61,75.682346713830128,1773.2873152647724,1773.2873152647724]
[null,null,null,55.65,75.682346807758606,1774.5617498055224,1774.5617498055224]
[null,null,null,55.69,75.682346900917437,1775.8361843462724,1775.8361843462724]
[null,null,null,55.73,75.682346993313118,1777.1106188870224,1777.1106188870224]
[null,null,null,55.77,75.682347084952056,1778.3850534277724,1778.3850534277724]
[null,null,null,55.81,75.682347175840619,1779.6594879685224,1779.6594879685224]
[null,null,null,55.85,75.682347265985101,1780.9339225092724,1780.9339225092724]
[null,null,null,55.89,75.682347355391769,1782.2083570500224,1782.2083570500224]
[null,null,null,55.93,75.682347444066821,1783.4827915907724,1783.4827915907724]
[null,null,null,55.97,75.682347532016394,1784.7572261315224,1784.7572261315224]
[null,null,null,56.01,75.682347619246571,1786.0316606722724,1786.0316606722724]
[null,null,null,56.05,75.682347705763434,1787.3060952130224,1787.3060952130224]
[null,null,null,56.09,75.682347791572909,1788.5805297537725,1788.5805297537725]
[null,null,null,56.13,75.682347876680993,1789.8549642945225,1789.8549642945225]
[null,null,null,56.17,75.682347961093527,1791.1293988352725,1791.1293988352725]
[null,null,null,56.21,75.682348044816365,1792.4038333760225,1792.4038333760225]
[null,null,null,56.25,75.682348127855278,1793.6782679167725,1793.6782679167725]
[null,null,null,56.29,75.68234821021602,1794.9527024575225,1794.9527024575225]
[null,null,null,56.33,75.682348291904276,1796.2271369982725,1796.2271369982725]
[null,null,null,56.37,{"$f":"75.6823584712771*(1-EXP((-0.899212139239885)*(D1591^0.711351170572747)))","v":75.682348372925645},1797.5015715390225,{"$f":"G1590+((0.08+0.08)/2)^$B$13*($F1591-$F1590)","v":1797.5015715390225}]
[null,null,null,56.41,75.682348453285755,1798.7760060797725,1798.7760060797725]
[null,null,null,56.45,75.682348532990119,1800.0504406205225,1800.0504406205225]
[null,null,null,56.49,75.682348612044251,1801.3248751612725,1801.3248751612725]
[null,null,null,56.53,75.682348690453566,1802.5993097020225,1802.5993097020225]
[null,null,null,56.57,75.682348768223491,1803.8737442427725,1803.8737442427725]
[null,null,null,56.61,75.682348845359371,1805.1481787835226,1805.1481787835226]
[null,null,null,56.65,75.682348921866492,1806.4226133242726,1806.4226133242726]
[null,null,null,56.69,75.682348997750125,1807.6970478650226,1807.6970478650226]
[null,null,null,56.73,75.682349073015487,1808.9714824057726,1808.9714824057726]
[null,null,null,56.77,75.68234914766775,1810.2459169465226,1810.2459169465226]
[null,null,null,56.81,75.68234922171203,1811.5203514872726,1811.5203514872726]
[null,null,null,56.85,75.682349295153415,{"$f":"F1602+(LOG(D1603-D1602)/LOG(0.08))","v":1812.7947860280226},1812.7947860280226]
[null,null,null,56.89,75.682349367996935,1814.0692205687726,1814.0692205687726]
[null,null,null,56.93,75.682349440247606,1815.3436551095226,1815.3436551095226]
[null,null,null,56.97,75.682349511910346,1816.6180896502726,1816.6180896502726]
[null,null,null,57.01,75.682349582990085,1817.8925241910226,1817.8925241910226]
[null,null,null,57.05,75.682349653491684,1819.1669587317726,1819.1669587317726]
[null,null,null,57.09,75.682349723419961,1820.4413932725226,1820.4413932725226]
[null,null,null,57.13,75.682349792779718,1821.7158278132727,1821.7158278132727]
[null,null,null,57.17,75.682349861575688,1822.9902623540227,1822.9902623540227]
[null,null,null,57.21,75.682349929812574,1824.2646968947727,1824.2646968947727]
[null,null,null,57.25,75.682349997495024,1825.5391314355227,1825.5391314355227]
[null,null,null,57.29,75.682350064627684,1826.8135659762727,1826.8135659762727]
[null,null,null,57.33,75.682350131215131,1828.0880005170227,1828.0880005170227]
[null,null,null,57.37,75.682350197261883,1829.3624350577727,1829.3624350577727]
[null,null,null,57.41,75.682350262772488,1830.6368695985227,1830.6368695985227]
[null,null,null,57.45,75.682350327751365,1831.9113041392727,1831.9113041392727]
[null,null,null,57.49,75.682350392202977,1833.1857386800227,1833.1857386800227]
[null,null,null,57.53,75.682350456131687,1834.4601732207727,1834.4601732207727]
[null,null,null,57.57,75.682350519541856,1835.7346077615227,1835.7346077615227]
[null,null,null,57.61,75.68235058243782,1837.0090423022727,1837.0090423022727]
[null,null,null,57.65,75.682350644823842,1838.2834768430228,1838.2834768430228]
[null,null,null,57.69,75.682350706704156,1839.5579113837728,1839.5579113837728]
[null,null,null,57.73,75.682350768082955,1840.8323459245228,1840.8323459245228]
[null,null,null,57.77,75.682350828964445,1842.1067804652728,1842.1067804652728]
[null,null,null,57.81,75.682350889352733,1843.3812150060228,1843.3812150060228]
[null,null,null,57.85,75.682350949251941,1844.6556495467728,1844.6556495467728]
[null,null,null,57.89,75.682351008666103,1845.9300840875228,1845.9300840875228]
[null,null,null,57.93,75.682351067599271,1847.2045186282728,1847.2045186282728]
[null,null,null,57.97,75.682351126055423,1848.4789531690228,1848.4789531690228]
[null,null,null,58.01,75.682351184038524,1849.7533877097728,1849.7533877097728]
[null,null,null,58.05,75.68235124155251,1851.0278222505228,1851.0278222505228]
[null,null,null,58.09,75.682351298601276,1852.3022567912728,1852.3022567912728]
[null,null,null,58.13,75.682351355188658,1853.5766913320228,1853.5766913320228]
[null,null,null,58.17,75.682351411318507,1854.8511258727729,1854.8511258727729]
[null,null,null,58.21,75.682351466994618,1856.1255604135229,1856.1255604135229]
[null,null,null,58.25,75.682351522220742,1857.3999949542729,1857.3999949542729]
[null,null,null,58.29,75.682351577000588,1858.6744294950229,1858.6744294950229]
[null,null,null,58.33,75.682351631337909,1859.9488640357729,1859.9488640357729]
[null,null,null,58.37,75.682351685236327,1861.2232985765229,1861.2232985765229]
[null,null,null,58.41,75.682351738699509,1862.4977331172729,1862.4977331172729]
[null,null,null,58.45,75.682351791731023,1863.7721676580229,1863.7721676580229]
[null,null,null,58.49,75.682351844334477,1865.0466021987729,1865.0466021987729]
[null,null,null,58.53,75.682351896513396,1866.3210367395229,1866.3210367395229]
[null,null,null,58.57,75.682351948271318,1867.5954712802729,1867.5954712802729]
[null,null,null,58.61,75.682351999611697,1868.8699058210229,1868.8699058210229]
[null,null,null,58.65,75.682352050538,1870.1443403617729,1870.1443403617729]
[null,null,null,58.69,75.682352101053652,1871.418774902523,1871.418774902523]
[null,null,null,58.73,75.682352151162036,1872.693209443273,1872.693209443273]
[null,null,null,58.77,75.682352200866546,1873.967643984023,1873.967643984023]
[null,null,null,58.81,75.682352250170496,1875.242078524773,1875.242078524773]
[null,null,null,58.85,75.682352299077223,1876.516513065523,1876.516513065523]
[null,null,null,58.89,75.682352347589969,1877.790947606273,1877.790947606273]
[null,null,null,58.93,{"$f":"75.6823584712771*(1-EXP((-0.899212139239885)*(D1655^0.711351170572747)))","v":75.68235239571203},1879.065382147023,{"$f":"G1654+((0.08+0.08)/2)^$B$13*($F1655-$F1654)","v":1879.065382147023}]
[null,null,null,58.97,75.682352443446618,1880.339816687773,1880.339816687773]
[null,null,null,59.01,75.682352490796916,1881.614251228523,1881.614251228523]
[null,null,null,59.05,75.682352537766121,1882.888685769273,1882.888685769273]
[null,null,null,59.09,75.682352584357361,1884.163120310023,1884.163120310023]
[null,null,null,59.13,75.682352630573746,1885.437554850773,1885.437554850773]
[null,null,null,59.17,75.682352676418404,1886.711989391523,1886.711989391523]
[null,null,null,59.21,75.682352721894375,1887.9864239322731,1887.9864239322731]
[null,null,null,59.25,75.682352767004701,1889.2608584730231,1889.2608584730231]
[null,null,null,59.29,75.682352811752395,1890.5352930137731,1890.5352930137731]
[null,null,null,59.33,75.682352856140469,1891.8097275545231,1891.8097275545231]
[null,null,null,59.37,75.68235290017185,1893.0841620952731,1893.0841620952731]
[null,null,null,59.41,75.682352943849494,{"$f":"F1666+(LOG(D1667-D1666)/LOG(0.08))","v":1894.3585966360231},1894.3585966360231]
[null,null,null,59.45,75.682352987176316,1895.6330311767731,1895.6330311767731]
[null,null,null,59.49,75.682353030155213,1896.9074657175231,1896.9074657175231]
[null,null,null,59.53,75.682353072789041,1898.1819002582731,1898.1819002582731]
[null,null,null,59.57,75.682353115080645,1899.4563347990231,1899.4563347990231]
[null,null,null,59.61,75.682353157032836,1900.7307693397731,1900.7307693397731]
[null,null,null,59.65,75.6823531986484,1902.0052038805231,1902.0052038805231]
[null,null,null,59.69,75.682353239930123,1903.2796384212731,1903.2796384212731]
[null,null,null,59.73,75.682353280880733,1904.5540729620232,1904.5540729620232]
[null,null,null,59.77,75.682353321502973,1905.8285075027732,1905.8285075027732]
[null,null,null,59.81,75.682353361799528,1907.1029420435232,1907.1029420435232]
[null,null,null,59.85,75.682353401773071,1908.3773765842732,1908.3773765842732]
[null,null,null,59.89,75.682353441426272,1909.6518111250232,1909.6518111250232]
[null,null,null,59.93,75.682353480761762,1910.9262456657732,1910.9262456657732]
[null,null,null,59.97,75.682353519782126,1912.2006802065232,1912.2006802065232]
[null,null,null,60.01,75.682353558489979,1913.4751147472732,1913.4751147472732]
[null,null,null,60.05,75.682353596887879,1914.7495492880232,1914.7495492880232]
[null,null,null,60.09,75.682353634978369,1916.0239838287732,1916.0239838287732]
[null,null,null,60.13,75.682353672763966,1917.2984183695232,1917.2984183695232]
[null,null,null,60.17,75.682353710247185,1918.5728529102732,1918.5728529102732]
[null,null,null,60.21,75.682353747430497,1919.8472874510232,1919.8472874510232]
[null,null,null,60.25,75.682353784316362,1921.1217219917733,1921.1217219917733]
[null,null,null,60.29,75.682353820907224,1922.3961565325233,1922.3961565325233]
[null,null,null,60.33,75.682353857205484,1923.6705910732733,1923.6705910732733]
[null,null,null,60.37,75.682353893213573,1924.9450256140233,1924.9450256140233]
[null,null,null,60.41,75.682353928933836,1926.2194601547733,1926.2194601547733]
[null,null,null,60.45,75.682353964368659,1927.4938946955233,1927.4938946955233]
[null,null,null,60.49,75.682353999520359,1928.7683292362733,1928.7683292362733]
[null,null,null,60.53,75.682354034391253,1930.0427637770233,1930.0427637770233]
[null,null,null,60.57,75.68235406898367,1931.3171983177733,1931.3171983177733]
[null,null,null,60.61,75.682354103299858,1932.5916328585233,1932.5916328585233]
[null,null,null,60.65,75.682354137342088,1933.8660673992733,1933.8660673992733]
[null,null,null,60.69,75.682354171112607,1935.1405019400233,1935.1405019400233]
[null,null,null,60.73,75.682354204613631,1936.4149364807733,1936.4149364807733]
[null,null,null,60.77,75.682354237847363,1937.6893710215234,1937.6893710215234]
[null,null,null,60.81,75.682354270815992,1938.9638055622734,1938.9638055622734]
[null,null,null,60.85,75.682354303521677,1940.2382401030234,1940.2382401030234]
[null,null,null,60.89,75.682354335966593,1941.5126746437734,1941.5126746437734]
[null,null,null,60.93,75.682354368152843,1942.7871091845234,1942.7871091845234]
[null,null,null,60.97,75.682354400082559,1944.0615437252734,1944.0615437252734]
[null,null,null,61.01,75.68235443175783,1945.3359782660234,1945.3359782660234]
[null,null,null,61.05,75.682354463180715,1946.6104128067734,1946.6104128067734]
[null,null,null,61.09,75.682354494353319,1947.8848473475234,1947.8848473475234]
[null,null,null,61.13,75.682354525277631,1949.1592818882734,1949.1592818882734]
[null,null,null,61.17,75.682354555955726,1950.4337164290234,1950.4337164290234]
[null,null,null,61.21,75.682354586389579,1951.7081509697734,1951.7081509697734]
[null,null,null,61.25,75.682354616581208,1952.9825855105234,1952.9825855105234]
[null,null,null,61.29,75.682354646532573,1954.2570200512735,1954.2570200512735]
[null,null,null,61.33,75.682354676245623,1955.5314545920235,1955.5314545920235]
[null,null,null,61.37,75.682354705722332,1956.8058891327735,1956.8058891327735]
[null,null,null,61.41,75.682354734964605,1958.0803236735235,1958.0803236735235]
[null,null,null,61.45,75.682354763974359,1959.3547582142735,1959.3547582142735]
[null,null,null,61.49,{"$f":"75.6823584712771*(1-EXP((-0.899212139239885)*(D1719^0.711351170572747)))","v":75.682354792753472},1960.6291927550235,{"$f":"G1718+((0.08+0.08)/2)^$B$13*($F1719-$F1718)","v":1960.6291927550235}]
[null,null,null,61.53,75.682354821303846,1961.9036272957735,1961.9036272957735]
[null,null,null,61.57,75.682354849627345,1963.1780618365235,1963.1780618365235]
[null,null,null,61.61,75.6823548777258,1964.4524963772735,1964.4524963772735]
[null,null,null,61.65,75.682354905601045,1965.7269309180235,1965.7269309180235]
[null,null,null,61.69,75.682354933254899,1967.0013654587735,1967.0013654587735]
[null,null,null,61.73,75.682354960689182,1968.2757999995235,1968.2757999995235]
[null,null,null,61.77,75.682354987905654,1969.5502345402736,1969.5502345402736]
[null,null,null,61.81,75.682355014906108,1970.8246690810236,1970.8246690810236]
[null,null,null,61.85,75.682355041692276,1972.0991036217736,1972.0991036217736]
[null,null,null,61.89,75.68235506826592,1973.3735381625236,1973.3735381625236]
[null,null,null,61.93,75.682355094628761,1974.6479727032736,1974.6479727032736]
[null,null,null,61.97,75.682355120782518,{"$f":"F1730+(LOG(D1731-D1730)/LOG(0.08))","v":1975.9224072440236},1975.9224072440236]
[null,null,null,62.01,75.682355146728881,1977.1968417847736,1977.1968417847736]
[null,null,null,62.05,75.682355172469542,1978.4712763255236,1978.4712763255236]
[null,null,null,62.09,75.682355198006164,1979.7457108662736,1979.7457108662736]
[null,null,null,62.13,75.682355223340423,1981.0201454070236,1981.0201454070236]
[null,null,null,62.17,75.682355248473939,1982.2945799477736,1982.2945799477736]
[null,null,null,62.21,75.682355273408348,1983.5690144885236,1983.5690144885236]
[null,null,null,62.25,75.682355298145282,1984.8434490292736,1984.8434490292736]
[null,null,null,62.29,75.68235532268632,1986.1178835700237,1986.1178835700237]
[null,null,null,62.33,75.682355347033067,1987.3923181107737,1987.3923181107737]
[null,null,null,62.37,75.682355371187086,1988.6667526515237,1988.6667526515237]
[null,null,null,62.41,75.682355395149955,1989.9411871922737,1989.9411871922737]
[null,null,null,62.45,75.682355418923208,1991.2156217330237,1991.2156217330237]
[null,null,null,62.49,75.682355442508396,1992.4900562737737,1992.4900562737737]
[null,null,null,62.53,75.682355465907037,1993.7644908145237,1993.7644908145237]
[null,null,null,62.57,75.682355489120638,1995.0389253552737,1995.0389253552737]
[null,null,null,62.61,75.682355512150707,1996.3133598960237,1996.3133598960237]
[null,null,null,62.65,75.682355534998734,1997.5877944367737,1997.5877944367737]
[null,null,null,62.69,75.68235555766617,1998.8622289775237,1998.8622289775237]
[null,null,null,62.73,75.682355580154493,2000.1366635182737,2000.1366635182737]
[null,null,null,62.77,75.682355602465151,2001.4110980590237,2001.4110980590237]
[null,null,null,62.81,75.682355624599595,2002.6855325997738,2002.6855325997738]
[null,null,null,62.85,75.68235564655923,2003.9599671405238,2003.9599671405238]
[null,null,null,62.89,75.68235566834548,2005.2344016812738,2005.2344016812738]
[null,null,null,62.93,75.682355689959749,2006.5088362220238,2006.5088362220238]
[null,null,null,62.97,75.682355711403417,2007.7832707627738,2007.7832707627738]
[null,null,null,63.01,75.682355732677877,2009.0577053035238,2009.0577053035238]
[null,null,null,63.05,75.682355753784492,2010.3321398442738,2010.3321398442738]
[null,null,null,63.09,75.682355774724613,2011.6065743850238,2011.6065743850238]
[null,null,null,63.13,75.682355795499589,2012.8810089257738,2012.8810089257738]
[null,null,null,63.17,75.682355816110743,2014.1554434665238,2014.1554434665238]
[null,null,null,63.21,75.682355836559424,2015.4298780072738,2015.4298780072738]
[null,null,null,63.25,75.682355856846911,2016.7043125480238,2016.7043125480238]
[null,null,null,63.29,75.68235587697454,2017.9787470887738,2017.9787470887738]
[null,null,null,63.33,75.682355896943577,2019.2531816295239,2019.2531816295239]
[null,null,null,63.37,75.682355916755313,2020.5276161702739,2020.5276161702739]
[null,null,null,63.41,75.682355936411,2021.8020507110239,2021.8020507110239]
[null,null,null,63.45,75.682355955911916,2023.0764852517739,2023.0764852517739]
[null,null,null,63.49,75.682355975259313,2024.3509197925239,2024.3509197925239]
[null,null,null,63.53,75.682355994454412,2025.6253543332739,2025.6253543332739]
[null,null,null,63.57,75.682356013498435,2026.8997888740239,2026.8997888740239]
[null,null,null,63.61,75.682356032392633,2028.1742234147739,2028.1742234147739]
[null,null,null,63.65,75.682356051138186,2029.4486579555239,2029.4486579555239]
[null,null,null,63.69,75.682356069736286,2030.7230924962739,2030.7230924962739]
[null,null,null,63.73,75.682356088188143,2031.9975270370239,2031.9975270370239]
[null,null,null,63.77,75.682356106494922,2033.2719615777739,2033.2719615777739]
[null,null,null,63.81,75.682356124657787,2034.5463961185239,2034.5463961185239]
[null,null,null,63.85,75.682356142677904,2035.820830659274,2035.820830659274]
[null,null,null,63.89,75.682356160556424,2037.095265200024,2037.095265200024]
[null,null,null,63.93,75.682356178294469,2038.369699740774,2038.369699740774]
[null,null,null,63.97,75.682356195893206,2039.644134281524,2039.644134281524]
[null,null,null,64.010000000000005,75.682356213353728,2040.918568822274,2040.918568822274]
[null,null,null,64.05,{"$f":"75.6823584712771*(1-EXP((-0.899212139239885)*(D1783^0.711351170572747)))","v":75.682356230677144},2042.193003363024,{"$f":"G1782+((0.08+0.08)/2)^$B$13*($F1783-$F1782)","v":2042.193003363024}]
[null,null,null,64.09,75.682356247864561,2043.467437903774,2043.467437903774]
[null,null,null,64.13,75.682356264917075,2044.741872444524,2044.741872444524]
[null,null,null,64.17,75.682356281835766,2046.016306985274,2046.016306985274]
[null,null,null,64.209999999999994,75.682356298621727,2047.290741526024,2047.290741526024]
[null,null,null,64.25,75.682356315275996,2048.5651760667738,2048.5651760667738]
[null,null,null,64.290000000000006,75.682356331799653,2049.8396106075238,2049.8396106075238]
[null,null,null,64.33,75.682356348193736,2051.1140451482738,2051.1140451482738]
[null,null,null,64.37,75.682356364459295,2052.3884796890238,2052.3884796890238]
[null,null,null,64.41,75.682356380597341,2053.6629142297738,2053.6629142297738]
[null,null,null,64.45,75.682356396608938,2054.9373487705238,2054.9373487705238]
[null,null,null,64.489999999999995,75.682356412495039,2056.2117833112738,2056.2117833112738]
[null,null,null,64.53,75.682356428256711,{"$f":"F1794+(LOG(D1795-D1794)/LOG(0.08))","v":2057.4862178520239},2057.4862178520239]
[null,null,null,64.569999999999993,75.682356443894932,2058.7606523927739,2058.7606523927739]
[null,null,null,64.61,75.68235645941067,2060.0350869335239,2060.0350869335239]
[null,null,null,64.650000000000006,75.682356474804934,2061.3095214742739,2061.3095214742739]
[null,null,null,64.69,75.682356490078675,2062.5839560150239,2062.5839560150239]
[null,null,null,64.73,75.682356505232875,2063.8583905557739,2063.8583905557739]
[null,null,null,64.77,75.682356520268485,2065.1328250965239,2065.1328250965239]
[null,null,null,64.81,75.682356535186472,2066.4072596372739,2066.4072596372739]
[null,null,null,64.849999999999994,75.682356549987759,2067.6816941780239,2067.6816941780239]
[null,null,null,64.89,75.682356564673285,2068.9561287187739,2068.9561287187739]
[null,null,null,64.930000000000007,75.682356579243987,2070.2305632595239,2070.2305632595239]
[null,null,null,64.97,75.68235659370076,2071.5049978002739,2071.5049978002739]
[null,null,null,65.010000000000005,75.682356608044543,2072.7794323410239,2072.7794323410239]
[null,null,null,65.05,75.682356622276217,2074.053866881774,2074.053866881774]
[null,null,null,65.09,75.682356636396705,2075.328301422524,2075.328301422524]
[null,null,null,65.13,75.682356650406874,2076.602735963274,2076.602735963274]
[null,null,null,65.17,75.682356664307619,2077.877170504024,2077.877170504024]
[null,null,null,65.209999999999994,75.682356678099794,2079.151605044774,2079.151605044774]
[null,null,null,65.25,75.682356691784292,2080.426039585524,2080.426039585524]
[null,null,null,65.290000000000006,75.682356705361968,2081.700474126274,2081.700474126274]
[null,null,null,65.33,75.682356718833674,2082.974908667024,2082.974908667024]
[null,null,null,65.37,75.682356732200248,2084.249343207774,2084.249343207774]
[null,null,null,65.41,75.682356745462528,2085.523777748524,2085.523777748524]
[null,null,null,65.45,75.682356758621367,2086.798212289274,2086.798212289274]
[null,null,null,65.489999999999995,75.682356771677576,2088.072646830024,2088.072646830024]
[null,null,null,65.53,75.682356784631978,2089.347081370774,2089.347081370774]
[null,null,null,65.569999999999993,75.682356797485383,2090.6215159115241,2090.6215159115241]
[null,null,null,65.61,75.682356810238602,2091.8959504522741,2091.8959504522741]
[null,null,null,65.650000000000006,75.68235682289243,2093.1703849930241,2093.1703849930241]
[null,null,null,65.69,75.682356835447663,2094.4448195337741,2094.4448195337741]
[null,null,null,65.73,75.682356847905083,2095.7192540745241,2095.7192540745241]
[null,null,null,65.77,75.682356860265472,2096.9936886152741,2096.9936886152741]
[null,null,null,65.81,75.682356872529596,2098.2681231560241,2098.2681231560241]
[null,null,null,65.849999999999994,75.682356884698237,2099.5425576967741,2099.5425576967741]
[null,null,null,65.89,75.682356896772163,2100.8169922375241,2100.8169922375241]
[null,null,null,65.930000000000007,75.682356908752098,2102.0914267782741,2102.0914267782741]
[null,null,null,65.97,75.68235692063881,2103.3658613190241,2103.3658613190241]
[null,null,null,66.010000000000005,75.682356932433038,2104.6402958597741,2104.6402958597741]
[null,null,null,66.05,75.68235694413552,2105.9147304005241,2105.9147304005241]
[null,null,null,66.09,75.682356955746982,2107.1891649412742,2107.1891649412742]
[null,null,null,66.13,75.682356967268163,2108.4635994820242,2108.4635994820242]
[null,null,null,66.17,75.682356978699758,2109.7380340227742,2109.7380340227742]
[null,null,null,66.209999999999994,75.682356990042507,2111.0124685635242,2111.0124685635242]
[null,null,null,66.25,75.682357001297092,2112.2869031042742,2112.2869031042742]
[null,null,null,66.290000000000006,75.682357012464223,2113.5613376450242,2113.5613376450242]
[null,null,null,66.33,75.682357023544597,2114.8357721857742,2114.8357721857742]
[null,null,null,66.37,75.68235703453891,2116.1102067265242,2116.1102067265242]
[null,null,null,66.41,75.682357045447844,2117.3846412672742,2117.3846412672742]
[null,null,null,66.45,75.682357056272068,2118.6590758080242,2118.6590758080242]
[null,null,null,66.489999999999995,75.682357067012262,2119.9335103487742,2119.9335103487742]
[null,null,null,66.53,75.682357077669081,2121.2079448895242,2121.2079448895242]
[null,null,null,66.569999999999993,75.682357088243208,2122.4823794302742,2122.4823794302742]
[null,null,null,66.61,{"$f":"75.6823584712771*(1-EXP((-0.899212139239885)*(D1847^0.711351170572747)))","v":75.682357098735281},2123.7568139710243,{"$f":"G1846+((0.08+0.08)/2)^$B$13*($F1847-$F1846)","v":2123.7568139710243}]
[null,null,null,66.650000000000006,75.682357109145968,2125.0312485117743,2125.0312485117743]
[null,null,null,66.69,75.68235711947591,2126.3056830525243,2126.3056830525243]
[null,null,null,66.73,75.682357129725744,2127.5801175932743,2127.5801175932743]
[null,null,null,66.77,75.682357139896112,2128.8545521340243,2128.8545521340243]
[null,null,null,66.81,75.682357149987624,2130.1289866747743,2130.1289866747743]
[null,null,null,66.849999999999994,75.682357160000933,2131.4034212155243,2131.4034212155243]
[null,null,null,66.89,75.682357169936637,2132.6778557562743,2132.6778557562743]
[null,null,null,66.930000000000007,75.682357179795375,2133.9522902970243,2133.9522902970243]
[null,null,null,66.97,75.682357189577729,2135.2267248377743,2135.2267248377743]
[null,null,null,67.010000000000005,75.682357199284326,2136.5011593785243,2136.5011593785243]
[null,null,null,67.05,75.682357208915761,2137.7755939192743,2137.7755939192743]
[null,null,null,67.09,75.682357218472632,{"$f":"F1858+(LOG(D1859-D1858)/LOG(0.08))","v":2139.0500284600244},2139.0500284600244]
[null,null,null,67.13,75.682357227955521,2140.3244630007744,2140.3244630007744]
[null,null,null,67.17,75.682357237365011,2141.5988975415244,2141.5988975415244]
[null,null,null,67.209999999999994,75.682357246701699,2142.8733320822744,2142.8733320822744]
[null,null,null,67.25,75.682357255966153,2144.1477666230244,2144.1477666230244]
[null,null,null,67.290000000000006,75.682357265158942,2145.4222011637744,2145.4222011637744]
[null,null,null,67.33,75.682357274280633,2146.6966357045244,2146.6966357045244]
[null,null,null,67.37,75.682357283331797,2147.9710702452744,2147.9710702452744]
[null,null,null,67.41,75.682357292312986,2149.2455047860244,2149.2455047860244]
[null,null,null,67.45,75.682357301224755,2150.5199393267744,2150.5199393267744]
[null,null,null,67.489999999999995,75.682357310067644,2151.7943738675244,2151.7943738675244]
[null,null,null,67.53,75.682357318842222,2153.0688084082744,2153.0688084082744]
[null,null,null,67.569999999999993,75.682357327548999,2154.3432429490244,2154.3432429490244]
[null,null,null,67.61,75.682357336188531,2155.6176774897745,2155.6176774897745]
[null,null,null,67.650000000000006,75.682357344761343,2156.8921120305245,2156.8921120305245]
[null,null,null,67.69,75.68235735326796,2158.1665465712745,2158.1665465712745]
[null,null,null,67.73,75.68235736170891,2159.4409811120245,2159.4409811120245]
[null,null,null,67.77,75.682357370084702,2160.7154156527745,2160.7154156527745]
[null,null,null,67.81,75.682357378395849,2161.9898501935245,2161.9898501935245]
[null,null,null,67.849999999999994,75.682357386642892,2163.2642847342745,2163.2642847342745]
[null,null,null,67.89,75.682357394826298,2164.5387192750245,2164.5387192750245]
[null,null,null,67.930000000000007,75.682357402946593,2165.8131538157745,2165.8131538157745]
[null,null,null,67.97,75.682357411004261,2167.0875883565245,2167.0875883565245]
[null,null,null,68.010000000000005,75.6823574189998,2168.3620228972745,2168.3620228972745]
[null,null,null,68.05,75.682357426933706,2169.6364574380245,2169.6364574380245]
[null,null,null,68.09,75.682357434806462,2170.9108919787745,2170.9108919787745]
[null,null,null,68.13,75.682357442618553,2172.1853265195246,2172.1853265195246]
[null,null,null,68.17,75.682357450370461,2173.4597610602746,2173.4597610602746]
[null,null,null,68.209999999999994,75.68235745806264,2174.7341956010246,2174.7341956010246]
[null,null,null,68.25,75.682357465695574,2176.0086301417746,2176.0086301417746]
[null,null,null,68.290000000000006,75.682357473269732,2177.2830646825246,2177.2830646825246]
[null,null,null,68.33,75.682357480785583,2178.5574992232746,2178.5574992232746]
[null,null,null,68.37,75.682357488243568,2179.8319337640246,2179.8319337640246]
[null,null,null,68.41,75.682357495644155,2181.1063683047746,2181.1063683047746]
[null,null,null,68.45,75.682357502987799,2182.3808028455246,2182.3808028455246]
[null,null,null,68.489999999999995,75.682357510274926,2183.6552373862746,2183.6552373862746]
[null,null,null,68.53,75.682357517506006,2184.9296719270246,2184.9296719270246]
[null,null,null,68.569999999999993,75.682357524681478,2186.2041064677746,2186.2041064677746]
[null,null,null,68.61,75.68235753180177,2187.4785410085246,2187.4785410085246]
[null,null,null,68.650000000000006,75.682357538867308,2188.7529755492747,2188.7529755492747]
[null,null,null,68.69,75.682357545878546,2190.0274100900247,2190.0274100900247]
[null,null,null,68.73,75.682357552835896,2191.3018446307747,2191.3018446307747]
[null,null,null,68.77,75.682357559739785,2192.5762791715247,2192.5762791715247]
[null,null,null,68.81,75.682357566590625,2193.8507137122747,2193.8507137122747]
[null,null,null,68.849999999999994,75.682357573388842,2195.1251482530247,2195.1251482530247]
[null,null,null,68.89,75.682357580134848,2196.3995827937747,2196.3995827937747]
[null,null,null,68.930000000000007,75.682357586829042,2197.6740173345247,2197.6740173345247]
[null,null,null,68.97,75.682357593471863,2198.9484518752747,2198.9484518752747]
[null,null,null,69.010000000000005,75.682357600063668,2200.2228864160247,2200.2228864160247]
[null,null,null,69.05,75.682357606604896,2201.4973209567747,2201.4973209567747]
[null,null,null,69.09,75.682357613095931,2202.7717554975247,2202.7717554975247]
[null,null,null,69.13,75.682357619537157,2204.0461900382747,2204.0461900382747]
[null,null,null,69.17,{"$f":"75.6823584712771*(1-EXP((-0.899212139239885)*(D1911^0.711351170572747)))","v":75.682357625928987},2205.3206245790248,{"$f":"G1910+((0.08+0.08)/2)^$B$13*($F1911-$F1910)","v":2205.3206245790248}]
[null,null,null,69.209999999999994,75.682357632271788,2206.5950591197748,2206.5950591197748]
[null,null,null,69.25,75.682357638565946,2207.8694936605248,2207.8694936605248]
[null,null,null,69.290000000000006,75.682357644811859,2209.1439282012748,2209.1439282012748]
[null,null,null,69.33,75.68235765100988,2210.4183627420248,2210.4183627420248]
[null,null,null,69.37,75.682357657160409,2211.6927972827748,2211.6927972827748]
[null,null,null,69.41,75.682357663263801,2212.9672318235248,2212.9672318235248]
[null,null,null,69.45,75.682357669320453,2214.2416663642748,2214.2416663642748]
[null,null,null,69.489999999999995,75.682357675330692,2215.5161009050248,2215.5161009050248]
[null,null,null,69.53,75.682357681294889,2216.7905354457748,2216.7905354457748]
[null,null,null,69.569999999999993,75.68235768721344,2218.0649699865248,2218.0649699865248]
[null,null,null,69.61,75.682357693086672,2219.3394045272748,2219.3394045272748]
[null,null,null,69.650000000000006,75.682357698914942,{"$f":"F1922+(LOG(D1923-D1922)/LOG(0.08))","v":2220.6138390680248},2220.6138390680248]
[null,null,null,69.69,75.682357704698603,2221.8882736087749,2221.8882736087749]
[null,null,null,69.73,75.682357710438012,2223.1627081495249,2223.1627081495249]
[null,null,null,69.77,75.682357716133495,2224.4371426902749,2224.4371426902749]
[null,null,null,69.81,75.682357721785422,2225.7115772310249,2225.7115772310249]
[null,null,null,69.849999999999994,75.682357727394134,2226.9860117717749,2226.9860117717749]
[null,null,null,69.89,75.682357732959943,2228.2604463125249,2228.2604463125249]
[null,null,null,69.930000000000007,75.682357738483205,2229.5348808532749,2229.5348808532749]
[null,null,null,69.97,75.682357743964246,2230.8093153940249,2230.8093153940249]
[null,null,null,70.010000000000005,75.682357749403394,2232.0837499347749,2232.0837499347749]
[null,null,null,70.05,75.682357754800975,2233.3581844755249,2233.3581844755249]
[null,null,null,70.09,75.682357760157331,2234.6326190162749,2234.6326190162749]
[null,null,null,70.13,75.682357765472759,2235.9070535570249,2235.9070535570249]
[null,null,null,70.17,75.682357770747601,2237.1814880977749,2237.1814880977749]
[null,null,null,70.209999999999994,75.682357775982155,2238.455922638525,2238.455922638525]
[null,null,null,70.25,75.682357781176748,2239.730357179275,2239.730357179275]
[null,null,null,70.290000000000006,75.682357786331679,2241.004791720025,2241.004791720025]
[null,null,null,70.33,75.682357791447274,2242.279226260775,2242.279226260775]
[null,null,null,70.37,75.682357796523831,2243.553660801525,2243.553660801525]
[null,null,null,70.41,75.68235780156165,2244.828095342275,2244.828095342275]
[null,null,null,70.45,75.682357806561043,2246.102529883025,2246.102529883025]
[null,null,null,70.489999999999995,75.682357811522309,2247.376964423775,2247.376964423775]
[null,null,null,70.53,75.682357816445744,2248.651398964525,2248.651398964525]
[null,null,null,70.569999999999993,75.682357821331635,2249.925833505275,2249.925833505275]
[null,null,null,70.61,75.682357826180279,2251.200268046025,2251.200268046025]
[null,null,null,70.650000000000006,75.682357830991961,2252.474702586775,2252.474702586775]
[null,null,null,70.69,75.682357835766993,2253.749137127525,2253.749137127525]
[null,null,null,70.73,75.682357840505631,2255.0235716682751,2255.0235716682751]
[null,null,null,70.77,75.682357845208173,2256.2980062090251,2256.2980062090251]
[null,null,null,70.81,75.682357849874904,2257.5724407497751,2257.5724407497751]
[null,null,null,70.849999999999994,75.682357854506094,2258.8468752905251,2258.8468752905251]
[null,null,null,70.89,75.682357859102027,2260.1213098312751,2260.1213098312751]
[null,null,null,70.930000000000007,75.682357863662972,2261.3957443720251,2261.3957443720251]
[null,null,null,70.97,75.6823578681892,2262.6701789127751,2262.6701789127751]
[null,null,null,71.010000000000005,75.682357872680967,2263.9446134535251,2263.9446134535251]
[null,null,null,71.05,75.682357877138585,2265.2190479942751,2265.2190479942751]
[null,null,null,71.09,75.682357881562268,2266.4934825350251,2266.4934825350251]
[null,null,null,71.13,75.682357885952314,2267.7679170757751,2267.7679170757751]
[null,null,null,71.17,75.682357890308978,2269.0423516165251,2269.0423516165251]
[null,null,null,71.209999999999994,75.682357894632517,2270.3167861572751,2270.3167861572751]
[null,null,null,71.25,75.682357898923186,2271.5912206980252,2271.5912206980252]
[null,null,null,71.290000000000006,75.682357903181227,2272.8656552387752,2272.8656552387752]
[null,null,null,71.33,75.682357907406924,2274.1400897795252,2274.1400897795252]
[null,null,null,71.37,75.682357911600505,2275.4145243202752,2275.4145243202752]
[null,null,null,71.41,75.682357915762225,2276.6889588610252,2276.6889588610252]
[null,null,null,71.45,75.68235791989234,2277.9633934017752,2277.9633934017752]
[null,null,null,71.489999999999995,75.682357923991091,2279.2378279425252,2279.2378279425252]
[null,null,null,71.53,75.682357928058721,2280.5122624832752,2280.5122624832752]
[null,null,null,71.569999999999993,75.682357932095456,2281.7866970240252,2281.7866970240252]
[null,null,null,71.61,75.682357936101567,2283.0611315647752,2283.0611315647752]
[null,null,null,71.650000000000006,75.682357940077253,2284.3355661055252,2284.3355661055252]
[null,null,null,71.69,75.682357944022783,2285.6100006462752,2285.6100006462752]
[null,null,null,71.73,{"$f":"75.6823584712771*(1-EXP((-0.899212139239885)*(D1975^0.711351170572747)))","v":75.682357947938385},2286.8844351870252,{"$f":"G1974+((0.08+0.08)/2)^$B$13*($F1975-$F1974)","v":2286.8844351870252}]
[null,null,null,71.77,75.682357951824272,2288.1588697277753,2288.1588697277753]
[null,null,null,71.81,75.6823579556807,2289.4333042685253,2289.4333042685253]

{"sheet":"5. equiv. BzOH SM order","index":12,"n_rows":68,"n_cols":15,"rows_kept":68,"cut":false,"hidden":false,"merged":[[0,4,0,8],[0,9,0,14],[9,4,9,8],[9,9,9,14],[51,4,51,7],[51,8,51,11]]}
[null,null,null,null,"BL-176, BL-177",null,null,null,null,"BL-291, BL-296"]
[null,null,null,null,"  [SM]0","80 mM",null,null,null,"  [SM]0","96 mM"]
[null,null,null,null,"  [PhCO2H]0","400 mM",null,null,null,"  [PhCO2H]0","400 mM"]
[null,null,null,null,"  [PhCONHBr]0","96 mM",null,null,null,"  [PhCONHBr]0","96 mM"]
[null,null,null,null,"  [(DHQD)2PHAL]0","8 mM",null,null,null,"  [(DHQD)2PHAL]0","8 mM"]
[null,null,null,null,"  [(4-Tol)2CO]0","40 mM","← internal standard",null,null,"  [(4-Tol)2CO]0","40 mM","← internal standard"]
[null,null,null,null,"  [P]0 (83:17 er)","0 mM",null,null,null,"  [P]0 (83:17 er)","0 mM"]
[null,null,null,null,"  [PhCONH2]0","0 mM",null,null,null,"  [PhCONH2]0","0 mM"]
[]
[null,null,null,null,"Experiment 26",null,null,null,null,"Experiment 40"]
[null,null,null,null,"t (hours)","shifted t, SM","shifted t, P","[SM] (mM)","[P] (mM)","t (hours)","shifted t, SM","shifted t, P","[SM] (mM)","[SM] shifted (mM)","[P] (mM)"]
["order in SM",0,null,null,0,0,0,80.096610936153198,{"$f":"0+B14","v":0},{"$f":"0/60","v":0},0,0,96.397572778247195,{"$f":"M12+$B$13","v":96.397572778247195},0]
["shifted [SM] (mM)",0,null,null,{"$f":"5/60","v":8.3333333333333329E-2},{"$f":"F12+((H13+H12)/2)^$B$12*(E13-E12)","v":8.3333333333333329E-2},{"$f":"G12+((I13+I12)/2)^$B$12*(E13-E12)","v":8.3333333333333329E-2},34.312201285929987,{"$f":"36.8441748850957+B14","v":36.844174885095697},{"$f":"5/60","v":8.3333333333333329E-2},{"$f":"K12+((M13+M12)/2)^$B$12*(J13-J12)","v":8.3333333333333329E-2},{"$f":"L12+((O13+O12)/2)^$B$12*(J13-J12)","v":8.3333333333333329E-2},45.578671854287379,{"$f":"M13+$B$13","v":45.578671854287379},37.436662361508702]
["shifted [P] (mM)",0,null,null,{"$f":"10/60","v":0.16666666666666666},0.16666666666666666,0.16666666666666666,20.78926910139824,{"$f":"51.5939682630285+B14","v":51.593968263028501},{"$f":"10/60","v":0.16666666666666666},{"$f":"K13+((M14+M13)/2)^$B$12*(J14-J13)","v":0.16666666666666666},{"$f":"L13+((O14+O13)/2)^$B$12*(J14-J13)","v":0.16666666666666666},31.437427577037823,31.437427577037823,52.175054742923479]
[null,null,null,null,0.25,0.25,0.25,13.484727009718815,{"$f":"59.1016942135852+B14","v":59.101694213585198},{"$f":"15/60","v":0.25},0.25,0.25,25.7515336743934,25.7515336743934,61.350553327404661]
[null,null,null,null,0.5,0.5,0.5,6.1186427451130712,{"$f":"69.7518321970552+B14","v":69.751832197055194},{"$f":"30/60","v":0.5},0.5,0.5,15.633036761748755,15.633036761748755,71.660069664068359]
[null,null,null,null,0.75,0.75,0.75,3.4888238147147135,{"$f":"72.9287505456324+B14","v":72.928750545632397},{"$f":"45/60","v":0.75},0.75,0.75,11.208979762106161,11.208979762106161,75.652064533702955]
[null,null,null,null,1,1,1,1.9161149645651536,{"$f":"74.5982001958501+B14","v":74.598200195850097},{"$f":"60/60","v":1},1,1,8.9915526921909859,8.9915526921909859,78.971337007015492]
[null,null,null,null,1.5,1.5,1.5,0.73422981666597065,{"$f":"75.8007884183971+B14","v":75.800788418397104},{"$f":"90/60","v":1.5},1.5,1.5,6.2385143250262907,6.2385143250262907,80.825004601762402]
[null,null,null,null,2,2,2,0.29168275796591259,{"$f":"76.0884048877125+B14","v":76.0884048877125},{"$f":"120/60","v":2},2,2,4.8331948331619863,4.8331948331619863,82.426485876118022]
[null,null,null,null,3,3,3,1E-4,{"$f":"76.1245228160574+B14","v":76.124522816057393},3,3,3,3.4432942205071617,3.4432942205071617,83.701686666572485]
[null,null,null,null,4,4,4,1E-4,{"$f":"76.6835552360747+B14","v":76.683555236074696},{"$f":"240/60","v":4},4,4,2.6769170998822696,2.6769170998822696]
[null,null,null,null,5,5,5,1E-4,{"$f":"77+B14","v":77},{"$f":"300/60","v":5},5,{"$error":"#NUM!"},2.2816279670228354,2.2816279670228354]
[null,null,null,null,6,6,6,1E-4,{"$f":"77+B14","v":77},{"$f":"360/60","v":6},6,{"$error":"#NUM!"},1.8169009021878793,1.8169009021878793]
[null,null,null,null,7,7,7,1E-4,{"$f":"77+B14","v":77},{"$f":"420/60","v":7},7,{"$error":"#NUM!"},1.6187219695126811,1.6187219695126811]
[null,null,null,null,8,8,8,1E-4,{"$f":"77+B14","v":77},{"$f":"480/60","v":8},8,{"$error":"#NUM!"},1.5083893084280406,1.5083893084280406]
[]
[]
[]
[]
[]
[]
[]
[]
[]
[]
[]
[]
[]
[]
[]
[]
[]
[]
[]
[]
[]
[]
[]
[]
[]
[null,null,null,null,"Experiment 26",null,null,null,"Experiment 40"]
[null,null,null,null,"[P]n - [P]n-1","[SM]n-1 - [SM]n","subtraction","[SM]0 - [P]n - [SM]n","[P]n - [P]n-1","[SM]n-1 - [SM]n","subtraction","[SM]0 - [P]n - [SM]n"]
[null,null,null,null,{"$f":"I13-I12","v":36.844174885095697},{"$f":"H12-H13","v":45.784409650223211},{"$f":"F54-E54","v":8.9402347651275136},{"$f":"$H$12-(I12-$I$12)-H12","v":0},{"$f":"O13-O12","v":37.436662361508702},{"$f":"N12-N13","v":50.818900923959816},{"$f":"J54-I54","v":13.382238562451114},{"$f":"$N$12-(O12-$O$12)-N12","v":0}]
[null,null,null,null,14.749793377932804,13.522932184531747,-1.2268611934010565,{"$f":"$H$12-(I13-$I$12)-H13","v":8.9402347651275136},14.738392381414776,14.141244277249555,-0.59714810416522113,{"$f":"$N$12-(O13-$O$12)-N13","v":13.382238562451114}]
[null,null,null,null,7.5077259505566971,7.3045420916794246,-0.20318385887727253,7.7133735717264571,9.1754985844811827,5.6858939026444233,-3.4896046818367594,12.785090458285893]
[null,null,null,null,10.650137983469996,7.3660842646057443,-3.2840537188642518,7.5101897128491846,10.309516336663698,10.118496912644645,-0.19101942401905347,9.2954857764491337]
[null,null,null,null,3.1769183485772032,2.6298189303983577,-0.54709941817884555,4.2261359939849328,3.9919948696345955,4.4240569996425947,0.4320621300079992,9.1044663524300802]
[null,null,null,null,1.6694496502177003,1.5727088501495599,-9.6740800068140453E-2,3.6790365758060872,3.3192724733125374,2.2174270699151748,-1.1018454033973626,9.5365284824380794]
[null,null,null,null,1.202588222547007,1.181885147899183,-2.070307464782406E-2,3.582295775737947,1.8536675947469092,2.7530383671646952,0.89937077241778596,8.4346830790407168]
[null,null,null,null,0.28761646931539531,0.44254705870005806,0.15493058938466275,3.5615927010901229,1.6014812743556206,1.4053194918643044,-0.19616178249131622,9.3340538514585027]
[null,null,null,null,3.6117928344893357E-2,0.2915827579659126,0.25546482962101924,3.7165232904747856,1.2752007904544627,1.3899006126548246,0.1146998222003619,9.1378920689671865]
[null,null,null,null,0.55903242001730291,0,-0.55903242001730291,3.9719881200958045,-83.701686666572485,0.76637712062489216,84.46806378719738,9.2525918911675475]
[null,null,null,null,0.31644476392530407,0,-0.31644476392530407,3.4129557000785016,0,0.39528913285943412,0.39528913285943412,93.720655678364921]
[null,null,null,null,0,0,0,3.0965109361531975,0,0.46472706483495618,0.46472706483495618,94.115944811224352]
[null,null,null,null,0,0,0,3.0965109361531975,0,0.19817893267519815,0.19817893267519815,94.580671876059313]
[null,null,null,null,0,0,0,3.0965109361531975,0,0.11033266108464046,0.11033266108464046,94.778850808734518]
[null,null,null,null,null,null,null,3.0965109361531975,null,null,null,94.889183469819159]

{"sheet":"5. equiv. BzOH BzOH order","index":13,"n_rows":68,"n_cols":15,"rows_kept":68,"cut":false,"hidden":false,"merged":[[0,4,0,8],[0,9,0,14],[9,4,9,8],[9,9,9,14],[51,4,51,7],[51,8,51,11],[26,12,26,14]]}
[null,null,null,null,"BL-176, BL-177",null,null,null,null,"BL-292, BL-297"]
[null,null,null,null,"  [SM]0","80 mM",null,null,null,"  [SM]0","80 mM"]
[null,null,null,null,"  [PhCO2H]0","400 mM",null,null,null,"  [PhCO2H]0","360 mM"]
[null,null,null,null,"  [PhCONHBr]0","96 mM",null,null,null,"  [PhCONHBr]0","96 mM"]
[null,null,null,null,"  [(DHQD)2PHAL]0","8 mM",null,null,null,"  [(DHQD)2PHAL]0","8 mM"]
[null,null,null,null,"  [(4-Tol)2CO]0","40 mM","← internal standard",null,null,"  [(4-Tol)2CO]0","40 mM","← internal standard"]
[null,null,null,null,"  [P]0 (83:17 er)","0 mM",null,null,null,"  [P]0 (83:17 er)","0 mM"]
[null,null,null,null,"  [PhCONH2]0","0 mM",null,null,null,"  [PhCONH2]0","0 mM"]
[]
[null,null,null,null,"Experiment 26",null,null,null,null,"Experiment 41"]
[null,null,null,null,"t (hours)","shifted t","[PhCO2H]","[SM] (mM)","[P] (mM)","t (hours)","shifted t","[PhCO2H]","[SM] (mM)","[SM] shifted (mM)","[P] (mM)"]
["order in BzOH",1,null,null,0,0,{"$f":"400-($B$15*(-$I$12+I12))-($B$16*8)","v":384},80.096610936153198,{"$f":"0+B14","v":0},{"$f":"0/60","v":0},0,{"$f":"360-($B$15*(-$O$12+O12))-($B$16*8)","v":344},80.480665010966888,{"$f":"M12+$B$13","v":80.480665010966888},0]
["shifted [SM] (mM)",0,null,null,{"$f":"5/60","v":8.3333333333333329E-2},{"$f":"F12+((G13+G12)/2)^$B$12*(E13-E12)","v":28.92965209290869},{"$f":"400-($B$15*(-$I$12+I13))-($B$16*8)","v":310.31165022980861},34.312201285929987,{"$f":"36.8441748850957+B14","v":36.844174885095697},{"$f":"5/60","v":8.3333333333333329E-2},{"$f":"K12+((L13+L12)/2)^$B$12*(J13-J12)","v":25.971285617247435},{"$f":"360-($B$15*(-$O$12+O13))-($B$16*8)","v":279.31085481393848},30.20034788516266,{"$f":"M13+$B$13","v":30.20034788516266},32.344572593030755]
["shifted [P] (mM)",0,null,null,{"$f":"10/60","v":0.16666666666666666},{"$f":"F13+((G14+G13)/2)^$B$12*(E14-E13)","v":53.559806830565009},{"$f":"400-($B$15*(-$I$12+I14))-($B$16*8)","v":280.812063473943},20.78926910139824,{"$f":"51.5939682630285+B14","v":51.593968263028501},{"$f":"10/60","v":0.16666666666666666},{"$f":"K13+((L14+L13)/2)^$B$12*(J14-J13)","v":48.156009207849742},253.12251136051685,17.74774117651144,17.74774117651144,45.438744319741566]
["correction benzamide",2,null,null,0.25,76.335168290847207,265.79661157282959,13.484727009718815,{"$f":"59.1016942135852+B14","v":59.101694213585198},{"$f":"15/60","v":0.25},68.684046215786822,239.55037682997295,15.091713721223753,15.091713721223753,52.224811585013519]
["acid equiv. cat",2,null,null,0.5,140.12178668818711,244.49633560588961,6.1186427451130712,{"$f":"69.7518321970552+B14","v":69.751832197055194},{"$f":"30/60","v":0.5},126.344326155742,221.73186268966845,7.855777420775218,7.855777420775218,61.134068655165784]
[null,null,null,null,0.75,200.4516410025152,238.14249890873521,3.4888238147147135,{"$f":"72.9287505456324+B14","v":72.928750545632397},{"$f":"45/60","v":0.75},180.90039045880616,214.71665173484482,4.5174744551259272,4.5174744551259272,64.641674132577592]
[null,null,null,null,1,259.56990331714456,234.80359960829981,1.9161149645651536,{"$f":"74.5982001958501+B14","v":74.598200195850097},{"$f":"60/60","v":1},234.11427902340799,210.99445678196977,3.0267540923592873,3.0267540923592873,66.502771609015113]
[null,null,null,null,1.5,376.37040901002098,232.39842316320579,0.73422981666597065,{"$f":"75.8007884183971+B14","v":75.800788418397104},{"$f":"90/60","v":1.5},338.79983887359981,207.74778261879754,1.3752683676105699,1.3752683676105699,68.126108690601228]
[null,null,null,null,2,492.42581235696616,231.823190224575,0.29168275796591259,{"$f":"76.0884048877125+B14","v":76.0884048877125},{"$f":"120/60","v":2},442.66265188717995,207.70346943552306,0.679813945665662,0.679813945665662,68.148265282238469]
[null,null,null,null,3,724.21288465319628,231.75095436788521,0,{"$f":"76.1245228160574+B14","v":76.124522816057393},{"$f":"181.333/60","v":3.0222166666666666},655.39961110550246,208.52327809351848,0.20104456059775788,0.20104456059775788,67.738360953240758]
[null,null,null,null,4,955.40480660106414,230.63288952785061,0,{"$f":"76.6835552360747+B14","v":76.683555236074696},{"$f":"240/60","v":4},858.09238390206281,206.07321969207203,0.11479542060639199,0.11479542060639199,68.963390153963985]
[null,null,null,null,5,1185.7212513649895,230,0,{"$f":"77+B14","v":77},{"$f":"300/60","v":5},1065.908279630019,209.55857176384026,0,0,67.220714118079869]
[null,null,null,null,6,1415.7212513649895,230,0,{"$f":"77+B14","v":77},{"$f":"360/60","v":6},1273.0573922110655,204.7396533982527,0,0,69.630173300873651]
[null,null,null,null,7,1645.7212513649895,230,0,{"$f":"77+B14","v":77},{"$f":"420/60","v":7},1479.1283817850663,207.40232574974914,0,0,68.298837125125431]
[null,null,null,null,8,1875.7212513649895,230,0,{"$f":"77+B14","v":77},{"$f":"480/60","v":8},1685.5967301140067,205.53437090813162,0,0,69.23281454593419]
[null,null,null,null,null,null,null,null,null,null,null,null,"could add these results to BzOH order tab"]
[]
[]
[]
[]
[]
[]
[]
[]
[]
[]
[]
[]
[]
[]
[]
[]
[]
[]
[]
[]
[]
[]
[]
[]
[null,null,null,null,"Experiment 26",null,null,null,"Experiment 41"]
[null,null,null,null,"[P]n - [P]n-1","[SM]n-1 - [SM]n","subtraction","[SM]0 - [P]n - [SM]n","[P]n - [P]n-1","[SM]n-1 - [SM]n","subtraction","[SM]0 - [P]n - [SM]n"]
[null,null,null,null,{"$f":"I13-I12","v":36.844174885095697},{"$f":"H12-H13","v":45.784409650223211},{"$f":"F54-E54","v":8.9402347651275136},{"$f":"$H$12-(I12-$I$12)-H12","v":0},{"$f":"O13-O12","v":32.344572593030755},{"$f":"N12-N13","v":50.280317125804231},{"$f":"J54-I54","v":17.935744532773477},{"$f":"$N$12-(O12-$O$12)-N12","v":0}]
[null,null,null,null,14.749793377932804,13.522932184531747,-1.2268611934010565,8.9402347651275136,13.094171726710812,12.452606708651221,-0.6415650180595911,{"$f":"$N$12-(O13-$O$12)-N13","v":17.935744532773473}]
[null,null,null,null,7.5077259505566971,7.3045420916794246,-0.20318385887727253,7.7133735717264571,6.7860672652719529,2.6560274552876866,-4.1300398099842663,17.294179514713882]
[null,null,null,null,10.650137983469996,7.3660842646057443,-3.2840537188642518,7.5101897128491846,8.9092570701522646,7.2359363004485351,-1.6733207697037296,13.164139704729616]
[null,null,null,null,3.1769183485772032,2.6298189303983577,-0.54709941817884555,4.2261359939849328,3.5076054774118077,3.3383029656492909,-0.16930251176251687,11.490818935025885]
[null,null,null,null,1.6694496502177003,1.5727088501495599,-9.6740800068140453E-2,3.6790365758060872,1.8610974764375214,1.4907203627666399,-0.37037711367088155,11.321516423263368]
[null,null,null,null,1.202588222547007,1.181885147899183,-2.070307464782406E-2,3.582295775737947,1.623337081586115,1.6514857247487174,2.8148643162602349E-2,10.951139309592488]
[null,null,null,null,0.28761646931539531,0.44254705870005806,0.15493058938466275,3.5615927010901229,2.2156591637241263E-2,0.69545442194490792,0.67329783030766666,10.97928795275509]
[null,null,null,null,3.6117928344893357E-2,0.29168275796591259,0.25556482962101923,3.7165232904747856,-0.40990432899771179,0.47876938506790412,0.88867371406561591,11.652585783062756]
[null,null,null,null,0.55903242001730291,0,-0.55903242001730291,3.9720881200958047,1.2250292007232275,8.6249139991365895E-2,-1.1387800607318617,12.541259497128372]
[null,null,null,null,0.31644476392530407,0,-0.31644476392530407,3.4130557000785018,-1.7426760358841165,0.11479542060639199,1.8574714564905084,11.402479436396511]
[null,null,null,null,0,0,0,3.0966109361531977,2.4094591827937819,0,-2.4094591827937819,13.259950892887019]
[null,null,null,null,0,0,0,3.0966109361531977,-1.3313361757482198,0,1.3313361757482198,10.850491710093237]
[null,null,null,null,0,0,0,3.0966109361531977,0.93397742080875901,0,-0.93397742080875901,12.181827885841457]
[null,null,null,null,null,null,null,3.0966109361531977,null,null,null,11.247850465032698]

{"sheet":"lower T","index":14,"n_rows":102,"n_cols":18,"rows_kept":102,"cut":false,"hidden":false,"merged":[[10,13,10,17],[0,3,0,7],[0,8,0,12],[0,13,0,17],[2,6,2,7],[2,11,2,12],[2,16,2,17],[118,3,118,14],[3,6,3,7],[3,11,3,12],[28,3,28,7],[28,8,28,12],[28,13,28,17],[30,6,30,7],[30,11,30,12],[30,16,30,17],[31,6,31,7],[31,11,31,12],[31,16,31,17],[38,3,38,7],[3,16,3,17],[10,3,10,7],[10,8,10,12],[100,3,100,6],[100,7,100,10],[100,11,100,14],[38,8,38,12],[38,13,38,17],[81,3,81,6],[81,7,81,10],[81,11,81,14]]}
[null,null,null,"BL-226, BL-256",null,null,null,null,"BL-265, BL-277",null,null,null,null,"BL-266, BL-278"]
[null,null,null,"  [SM]0","80 mM",null,null,null,"  [SM]0","80 mM",null,null,null,"  [SM]0","80 mM"]
[null,null,null,"  [PhCO2H]0","96 mM","← 1.2 equiv.",null,null,"  [PhCO2H]0","96 mM","← 1.2 equiv.",null,null,"  [PhCO2H]0","96 mM","← 1.2 equiv."]
[null,null,null,"  [PhCON(t-Bu)Br]0","96 mM",null,null,null,"  [PhCON(t-Bu)Br]0","96 mM",null,null,null,"  [PhCON(t-Bu)Br]0","96 mM"]
[null,null,null,"  [(DHQD)2PHAL]0","0.8 mM",null,null,null,"  [(DHQD)2PHAL]0","0.8 mM",null,null,null,"  [(DHQD)2PHAL]0","0.8 mM"]
[null,null,null,"  [(4-Tol)2CO]0","40 mM","← internal standard",null,null,"  [(4-Tol)2CO]0","40 mM","← internal standard",null,null,"  [(4-Tol)2CO]0","40 mM","← internal standard"]
[null,null,null,"  [P]0 (83:17 er)","0 mM",null,null,null,"  [P]0 (83:17 er)","0 mM",null,null,null,"  [P]0 (83:17 er)","0 mM"]
[null,null,null,"  [PhCONH2]0","0 mM",null,null,null,"  [PhCONH2]0","0 mM",null,null,null,"  [PhCONH2]0","0 mM"]
[null,null,null,"  T (°C) =",4,null,null,null,"  T (°C) =","−15",null,null,null,"  T (°C) =","−78"]
[]
[null,null,null,"Experiment 35",null,null,null,null,"Experiment 37",null,null,null,null,"Experiment 38"]
["Ea = 14.5 kJ mol-1",null,null,"t (minutes)","shifted t, SM","shifted t, P","[SM] (mM)","[P] (mM)","t (minutes)","shifted t, SM","shifted t, P","[SM] (mM)","[P] (mM)","t (minutes)","shifted t, SM","shifted t, P","[SM] (mM)","[P] (mM)"]
["ln A = 8.91",null,null,0,"−","−","−",0,0,"−","−","−",0,0,"−","−",null,0]
[null,null,null,5,"−","−","−",67.735394206754449,5,"−","−","−",46.316477056311676,5,"−","−",null,5.0610460069569356]
[null,null,null,10,"−","−","−",69,10,"−","−","−",58.297075159479782,10,"−","−",null,6.6080437625661759]
[null,null,null,15,"−","−","−",69,15,"−","−","−",62.778957044578227,15,"−","−",null,5.7028596781586884]
[null,null,null,30,"−","−","−",69,30,"−","−","−",65.80577410352987,30,"−","−",null,9.1733254141681186]
[null,null,null,45,"−","−","−",69,45,"−","−","−",66.840309111410363,45,"−","−",null,13.448690846808015]
[null,null,null,60,"−","−","−",68.488261162244896,60,"−","−","−",67,60,"−","−",null,14.374774208920218]
[null,null,null,90,"−","−","−",69,90,"−","−","−",67,90,"−","−",null,18.800920866636694]
[null,null,null,120,"−","−","−",69,120,"−","−","−",67,120,"−","−",null,21.419208477585954]
[null,null,null,180,"−","−","−",69,180,"−","−","−",67,180,"−","−",null,28.519520003815867]
[null,null,null,240,"−","−","−",69,240,"−","−","−",67,240,"−","−",null,31.900578593487975]
[null,null,null,300,"−","−","−",69,300,"−","−","−",67,300,"−","−",null,36.018360225333197]
[null,null,null,360,"−","−","−",69,360,"−","−","−",67,360,"−","−",null,39.615188748184664]
[null,null,null,420,"−","−","−",69,420,"−","−","−",67,420,"−","−",null,41.874392219772993]
[null,null,null,"−","−","−","−","−",480,"−","−","−",67,480,"−","−",null,44.17469102803372]
[null,null,null,"−","−","−","−","−","−","−","−","−","−",1440,"−","−","−",57.79619612881347]
[null,null,null,"BL-294, BL-295"]
[null,null,null,"  [SM]0","80 mM",null,null,null,"  [SM]0","80 mM",null,null,null,"  [SM]0","80 mM"]
[null,null,null,"  [PhCO2H]0","96 mM","← 1.2 equiv.",null,null,"  [PhCO2H]0","96 mM","← 1.2 equiv.",null,null,"  [PhCO2H]0","96 mM","← 1.2 equiv."]
[null,null,null,"  [PhCON(t-Bu)Br]0","96 mM",null,null,null,"  [PhCON(t-Bu)Br]0","96 mM",null,null,null,"  [PhCON(t-Bu)Br]0","96 mM"]
[null,null,null,"  [(DHQD)2PHAL]0","0.8 mM",null,null,null,"  [(DHQD)2PHAL]0","0.8 mM",null,null,null,"  [(DHQD)2PHAL]0","0.8 mM"]
[null,null,null,"  [(4-Tol)2CO]0","40 mM","← internal standard",null,null,"  [(4-Tol)2CO]0","40 mM","← internal standard",null,null,"  [(4-Tol)2CO]0","40 mM","← internal standard"]
[null,null,null,"  [P]0 (83:17 er)","0 mM",null,null,null,"  [P]0 (83:17 er)","0 mM",null,null,null,"  [P]0 (83:17 er)","0 mM"]
[null,null,null,"  [PhCONH2]0","0 mM",null,null,null,"  [PhCONH2]0","0 mM",null,null,null,"  [PhCONH2]0","0 mM"]
[null,null,null,"  T (°C) =","−30",null,null,null,"  T (°C) =",null,null,null,null,"  T (°C) ="]
[]
[null,null,null,"Experiment 42",null,null,null,null,"Experiment X",null,null,null,null,"Experiment X"]
[null,null,null,"t (minutes)","shifted t, SM","shifted t, P","[SM] (mM)","[P] (mM)","t (minutes)","shifted t, SM","shifted t, P","[SM] (mM)","[P] (mM)","t (minutes)","shifted t, SM","shifted t, P","[SM] (mM)","[P] (mM)"]
[null,null,null,0,"−","−",80.139283611132441,0,0,"−","−","−",0,0,"−","−"]
[null,null,null,5,"−","−",23.511465974502453,30.766097090823543,5,"−","−","−",46.316477056311676,5,"−","−"]
[null,null,null,10,"−","−",14.973192023008519,42.340295939753076,10,"−","−","−",58.297075159479782,10,"−","−"]
[null,null,null,15,"−","−",12.136207984735217,49.596042277244209,15,"−","−","−",62.778957044578227,15,"−","−"]
[null,null,null,30,"−","−",3.9332293566400036,58.243278757651005,30,"−","−","−",65.80577410352987,30,"−","−"]
[null,null,null,45,"−","−",1.7497767090799368,61.442059204571294,45,"−","−","−",66.840309111410363,45,"−","−"]
[null,null,null,60,"−","−",0.88221218590527717,62.458775896054348,60,"−","−","−",67,60,"−","−"]
[null,null,null,90,"−","−",0.67398894996988146,63.144217114150351,90,"−","−","−",67,90,"−","−"]
[null,null,null,120,"−","−",0.85473653012699102,63.886331202806154,120,"−","−","−",67,120,"−","−"]
[null,null,null,180,"−","−",0.41009028759787608,64,180,"−","−","−",67,180,"−","−"]
[null,null,null,240,"−","−",0,64,240,"−","−","−",67,240,"−","−"]
[null,null,null,300,"−","−",0,64,300,"−","−","−",67,300,"−","−"]
[null,null,null,360,"−","−",0,64,360,"−","−","−",67,360,"−","−"]
[null,null,null,420,"−","−",0,64,420,"−","−","−",67,420,"−","−"]
[null,null,null,"−","−","−","−","−",480,"−","−","−",67,480,"−","−"]
[null,null,null,"−","−","−","−","−","−","−","−","−","−","−","−","−","−","−"]
[]
[]
[]
[]
[]
[]
[]
[]
[]
[]
[]
[]
[]
[]
[]
[]
[]
[]
[]
[]
[]
[]
[]
[]
[]
[null,null,null,"Experiment 35",null,null,null,"Experiment 37",null,null,null,"Experiment 38"]
[null,null,null,"[P]n - [P]n-1","[SM]n-1 - [SM]n","subtraction","[SM]0 - [P]n - [SM]n","[P]n - [P]n-1","[SM]n-1 - [SM]n","subtraction","[SM]0 - [P]n - [SM]n","[P]n - [P]n-1","[SM]n-1 - [SM]n","subtraction","[SM]0 - [P]n - [SM]n"]
[null,null,null,{"$f":"H14-H13","v":67.735394206754449},{"$f":"G13-G14","v":{"$error":"#VALUE!"}},{"$f":"E84-D84","v":{"$error":"#VALUE!"}},{"$f":"$G$13-(H13-$H$13)-G13","v":{"$error":"#VALUE!"}},{"$f":"M14-M13","v":46.316477056311676},{"$f":"L13-L14","v":{"$error":"#VALUE!"}},{"$f":"I84-H84","v":{"$error":"#VALUE!"}},{"$f":"$L$13-M13-L13+$M$13","v":{"$error":"#VALUE!"}},{"$f":"R14-R13","v":5.0610460069569356},{"$f":"Q13-Q14","v":0},{"$f":"M84-L84","v":-5.0610460069569356},{"$f":"$Q$13-R13-Q13+$R$13","v":0}]
[null,null,null,{"$f":"H15-H14","v":1.2646057932455506},{"$f":"G14-G15","v":{"$error":"#VALUE!"}},{"$error":"#VALUE!"},{"$error":"#VALUE!"},11.980598103168106,{"$error":"#VALUE!"},{"$f":"I85-H85","v":{"$error":"#VALUE!"}},{"$error":"#VALUE!"},1.5469977556092402,0,{"$f":"M85-L85","v":-1.5469977556092402},-5.0610460069569356]
[null,null,null,{"$f":"H16-H15","v":0},{"$f":"G15-G16","v":{"$error":"#VALUE!"}},{"$error":"#VALUE!"},{"$error":"#VALUE!"},4.4818818850984457,{"$error":"#VALUE!"},{"$error":"#VALUE!"},{"$error":"#VALUE!"},-0.90518408440748743,0,0.90518408440748743,-6.6080437625661759]
[null,null,null,{"$f":"H17-H16","v":0},{"$f":"G16-G17","v":{"$error":"#VALUE!"}},{"$error":"#VALUE!"},{"$error":"#VALUE!"},3.026817058951643,{"$error":"#VALUE!"},{"$error":"#VALUE!"},{"$error":"#VALUE!"},3.4704657360094302,0,-3.4704657360094302,-5.7028596781586884]
[null,null,null,{"$f":"H18-H17","v":0},{"$f":"G17-G18","v":{"$error":"#VALUE!"}},{"$error":"#VALUE!"},{"$error":"#VALUE!"},1.0345350078804927,{"$error":"#VALUE!"},{"$error":"#VALUE!"},{"$error":"#VALUE!"},4.2753654326398962,0,-4.2753654326398962,-9.1733254141681186]
[null,null,null,null,null,null,{"$error":"#VALUE!"},0.15969088858963687,{"$error":"#VALUE!"},{"$error":"#VALUE!"},{"$error":"#VALUE!"},0.92608336211220355,0,-0.92608336211220355,-13.448690846808015]
[null,null,null,null,null,null,null,0,{"$error":"#VALUE!"},{"$error":"#VALUE!"},{"$error":"#VALUE!"},4.4261466577164761,0,-4.4261466577164761,-14.374774208920218]
[null,null,null,{"$f":"H21-H20","v":0},{"$f":"G20-G21","v":{"$error":"#VALUE!"}},{"$error":"#VALUE!"},{"$f":"$G$13-(H20-$H$13)-G20","v":{"$error":"#VALUE!"}},0,{"$error":"#VALUE!"},{"$error":"#VALUE!"},{"$error":"#VALUE!"},2.6182876109492597,0,-2.6182876109492597,-18.800920866636694]
[null,null,null,0,{"$error":"#VALUE!"},{"$error":"#VALUE!"},{"$error":"#VALUE!"},0,{"$error":"#VALUE!"},{"$error":"#VALUE!"},{"$error":"#VALUE!"},7.1003115262299126,0,-7.1003115262299126,-21.419208477585954]
[null,null,null,0,{"$error":"#VALUE!"},{"$error":"#VALUE!"},{"$error":"#VALUE!"},0,{"$error":"#VALUE!"},{"$error":"#VALUE!"},{"$error":"#VALUE!"},3.3810585896721079,0,-3.3810585896721079,-28.519520003815867]
[null,null,null,0,{"$error":"#VALUE!"},{"$error":"#VALUE!"},{"$error":"#VALUE!"},0,{"$error":"#VALUE!"},{"$error":"#VALUE!"},{"$error":"#VALUE!"},4.1177816318452223,0,-4.1177816318452223,-31.900578593487975]
[null,null,null,0,{"$error":"#VALUE!"},{"$error":"#VALUE!"},{"$error":"#VALUE!"},0,{"$error":"#VALUE!"},{"$error":"#VALUE!"},{"$error":"#VALUE!"},3.5968285228514674,0,-3.5968285228514674,-36.018360225333197]
[null,null,null,0,{"$error":"#VALUE!"},{"$error":"#VALUE!"},{"$error":"#VALUE!"},null,null,null,{"$error":"#VALUE!"},2.2592034715883287,0,-2.2592034715883287,-39.615188748184664]
[null,null,null,null,null,null,{"$error":"#VALUE!"},null,null,null,null,2.3002988082607274,0,-2.3002988082607274,-41.874392219772993]
[null,null,null,null,null,null,null,null,null,null,null,13.62150510077975,{"$error":"#VALUE!"},{"$error":"#VALUE!"},-44.17469102803372]
[null,null,null,null,null,null,null,null,null,null,null,null,null,null,{"$f":"$Q$13-R28-Q28+$R$13","v":{"$error":"#VALUE!"}}]
[]
[null,null,null,"Experiment 42",null,null,null,"Experiment X",null,null,null,"Experiment X"]
[null,null,null,"[P]n - [P]n-1","[SM]n-1 - [SM]n","subtraction","[SM]0 - [P]n - [SM]n","[P]n - [P]n-1","[SM]n-1 - [SM]n","subtraction","[SM]0 - [P]n - [SM]n","[P]n - [P]n-1","[SM]n-1 - [SM]n","subtraction","[SM]0 - [P]n - [SM]n"]

{"sheet":"alternative bromenium","index":15,"n_rows":139,"n_cols":15,"rows_kept":139,"cut":false,"hidden":false,"merged":[[29,15,29,16],[1,13,5,13],[0,10,0,13],[9,10,9,13],[26,3,26,5],[26,6,26,9],[26,10,26,13],[1,9,5,9],[0,6,0,9],[9,6,9,9],[0,3,0,5],[9,3,9,5],[123,3,123,6],[123,7,123,10],[123,11,123,14],[35,3,35,5],[35,6,35,9],[35,10,35,13],[105,3,105,6],[105,7,105,10],[105,11,105,14],[52,3,52,5],[52,6,52,9],[52,10,52,13],[61,3,61,5],[61,6,61,9],[61,10,61,13]]}
[null,null,null,"BL-074, BL-076 + BL-091 + BL-103",null,null,"BL-169, BL-174 − not reproducible",null,null,null,"BL-172, BL-175 − not reproducible"]
[null,null,null,"  [SM]0","80 mM",null,"  [SM]0","80 mM",null,"(S)-1","  [SM]0","80 mM",null,"(R)-1"]
[null,null,null,"  [PhCO2H]0","96 mM",null,"  [PhCO2H]0","96 mM",null,null,"  [PhCO2H]0","96 mM"]
[null,null,null,"  [PhCONHBr]0","96 mM",null,"  [(S)-1]0","96 mM",null,null,"  [(R)-1]0","96 mM"]
[null,null,null,"  [(DHQD)2PHAL]0","8 mM",null,"  [(DHQD)2PHAL]0","8 mM",null,null,"  [(DHQD)2PHAL]0","8 mM"]
[null,null,null,"  [(4-Tol)2CO]0","40 mM",null,"  [(4-Tol)2CO]0","40 mM",null,null,"  [(4-Tol)2CO]0","40 mM"]
[null,null,null,"  [P]0 (83:17 er)","0 mM",null,"  [P]0 (83:17 er)","0 mM",null,null,"  [P]0 (83:17 er)","0 mM"]
[null,null,null,"  [PhCONH2]0","0 mM",null,"  [PhCONH2]0","0 mM",null,null,"  [PhCONH2]0","0 mM"]
[]
[null,null,null,"Experiment 1",null,null,"Experiment 24",null,null,null,"Experiment 25"]
[null,null,null,"t (hours)","[SM] (mM)","[P] (mM)","t (hours)","[SM] (mM)","[P] (mM)","[dibromide] (mM)","t (hours)","[SM] (mM)","[P] (mM)","[dibromide] (mM)"]
[null,null,null,{"$f":"0/60","v":0},81.078082460677138,0,{"$f":"0/60","v":0},80.224628961091057,0,0,{"$f":"0/60","v":0},80.309974311049658,0,0]
[null,null,null,{"$f":"5/60","v":8.3333333333333329E-2},61.327168299177231,17.093114709733523,{"$f":"5/60","v":8.3333333333333329E-2},12.620770655196036,7.0986487703951573,25,{"$f":"5/60","v":8.3333333333333329E-2},0.88193190858057335,26.337094833614248,5.26]
[null,null,null,{"$f":"10/60","v":0.16666666666666666},54.167548197973019,24.355798754686603,{"$f":"10/60","v":0.16666666666666666},0,10.863486186850832,26,{"$f":"10/60","v":0.16666666666666666},5.160953649298631,34.500589298696724,3.99]
[null,null,null,{"$f":"15/60","v":0.25},49.325055225665537,28.841291474149038,{"$f":"15.5/60","v":0.25833333333333336},7.7022024596552816,14.191244189808176,26,{"$f":"15/60","v":0.25},0.49154047311659282,37.241251098289588,3.96]
[null,null,null,{"$f":"30/60","v":0.5},41.060446870558543,36.35950078782114,{"$f":"30/60","v":0.5},2.6548952675841333,19.565091690949462,26,{"$f":"30/60","v":0.5},0,42.654495443997078,3.61]
[null,null,null,{"$f":"45/60","v":0.75},36.50137065951418,40.683032700015751,{"$f":"45/60","v":0.75},0,22.420310233606038,26,{"$f":"45/60","v":0.75},0,44.757800472738509,3]
[null,null,null,{"$f":"60/60","v":1},32.908841157658983,43.719857032358888,{"$f":"60/60","v":1},4.8336861233630843,25.01653767780698,26,{"$f":"60/60","v":1},0,46.132592563034827,3]
[null,null,null,{"$f":"90/60","v":1.5},28.388800840859766,47.470049757339453,{"$f":"90/60","v":1.5},2.3213524399921397,27.418465786963331,26,{"$f":"90/60","v":1.5},0,47.53807256453053,3]
[null,null,null,{"$f":"120/60","v":2},25.738968218274337,50.11749133832069,{"$f":"120/60","v":2},0,28.313529854030715,26,{"$f":"120/60","v":2},0,47.909046938116099,3]
[null,null,null,{"$f":"180/60","v":3},21.675824866447766,53.110852348002119,{"$f":"180/60","v":3},0.64385272602797372,30.394452501158415,26,{"$f":"180/60","v":3},0,48,3]
[null,null,null,{"$f":"240/60","v":4},18.953880372968431,55.300617303107614,{"$f":"240/60","v":4},0.56214239859461712,30.860009406984879,26,{"$f":"240/60","v":4},0,48,3]
[null,null,null,{"$f":"300/60","v":5},17.041735283544604,56.7456981343339,{"$f":"300/60","v":5},0,31.193495275586027,26,{"$f":"300/60","v":5},0,48,3]
[null,null,null,{"$f":"360/60","v":6},15.316420234713711,58.231804117041989,{"$f":"360/60","v":6},0,30.978767134574777,26,{"$f":"360/60","v":6},0,48,3]
[null,null,null,{"$f":"420/60","v":7},14.232090722404987,58.889508644072166,{"$f":"420/60","v":7},0,31.57596660111702,26,{"$f":"420/60","v":7},0,48,3]
[null,null,null,{"$f":"480/60","v":8},13.17071067532439,59.543440610400857,{"$f":"480/60","v":8},0,31.468411910839919,26,{"$f":"480/60","v":8},0,48,3]
[null,null,null,"BL-224, BL-230",null,null,"BL-226, BL-256",null,null,null,"BL-270, BL-272"]
[null,null,null,"  [SM]0","80 mM",null,"  [SM]0","80 mM",null,null,"  [SM]0","80 mM"]
[null,null,null,"  [PhCO2H]0","96 mM",null,"  [PhCO2H]0","96 mM",null,null,"  [PhCO2H]0","96 mM"]
[null,null,null,"  [PhCON(t-Bu)Br]0","96 mM",null,"  [PhCON(t-Bu)Br]0","96 mM",null,null,"  [PhCON(t-Bu)Br]0","96 mM"]
[null,null,null,"  [(DHQD)2PHAL]0","8 mM",null,"  [(DHQD)2PHAL]0","0.8 mM",null,null,"  [(DHQD)2PHAL]0","0.08 mM"]
[null,null,null,"  [(4-Tol)2CO]0","40 mM",null,"  [(4-Tol)2CO]0","40 mM",null,null,"  [(4-Tol)2CO]0","40 mM"]
[null,null,null,"  [P]0 (83:17 er)","0 mM",null,"  [P]0 (83:17 er)","0 mM",null,null,"  [P]0 (83:17 er)","0 mM"]
[null,null,null,"  [PhCONH2]0","0 mM",null,"  [PhCONH2]0","0 mM",null,null,"  [PhCONH2]0","0 mM"]
[]
[null,null,null,"Experiment 34",null,null,"Experiment 35",null,null,null,"Experiment 36"]
[null,null,null,"t (hours)","[SM] (mM)","[P] (mM)","t (hours)","[SM] (mM)","[P] (mM)","[dibromide] (mM)","t (hours)","[SM] (mM)","[P] (mM)","[dibromide] (mM)"]
[null,null,null,{"$f":"0/60","v":0},79.968592911215239,0,{"$f":"0/60","v":0},80.181956286111756,0,"−",{"$f":"0/60","v":0},"−",0]
[null,null,null,{"$f":"5/60","v":8.3333333333333329E-2},3.1662584712447246,70.015559153008155,{"$f":"5/60","v":8.3333333333333329E-2},3.5472739250433847,67.735394206754449,"−",{"$f":"5/60","v":8.3333333333333329E-2},"−",33.241579912459571]
[null,null,null,{"$f":"10/60","v":0.16666666666666666},1.9453002672585593,70.466977439310568,{"$f":"10/60","v":0.16666666666666666},2.3265675205097751,69,"−",{"$f":"10/60","v":0.16666666666666666},"−",47.028890138947133]
[null,null,null,{"$f":"15/60","v":0.25},1.4649529380227975,70.622547243652207,{"$f":"15/60","v":0.25},2.0998696489312625,69,"−",{"$f":"15/60","v":0.25},"−",55.574061648264056]
[null,null,null,{"$f":"30/60","v":0.5},0.73730912325266706,71.477776862655531,{"$f":"30/60","v":0.5},1.9481631532484474,69,"−",{"$f":"30/60","v":0.5},"−",62.402432722122256]
[null,null,null,{"$f":"45/60","v":0.75},0.66375689647799219,72,{"$f":"45/60","v":0.75},1.8900967270374862,69,"−",{"$f":"45/60","v":0.75},"−",63.455847877724878]
[null,null,null,{"$f":"60/60","v":1},0.59816646596664591,null,{"$f":"60/60","v":1},null,null,"−",{"$f":"60/60","v":1},"−",62.987826261592907]
[null,null,null,{"$f":"90/60","v":1.5},0.52870843314082883,72,{"$f":"90/60","v":1.5},1.8333236250596241,69,"−",{"$f":"90/60","v":1.5},"−",63]
[null,null,null,{"$f":"120/60","v":2},0.57347227600152095,72,{"$f":"120/60","v":2},1.8128984888517681,69,"−",{"$f":"120/60","v":2},"−",63]
[null,null,null,{"$f":"180/60","v":3},0.49822143578554934,72,{"$f":"180/60","v":3},1.8121194611220035,69,"−",{"$f":"180/60","v":3},"−",63]
[null,null,null,{"$f":"240/60","v":4},0.42302800458913531,72,{"$f":"240/60","v":4},1.8434877007787804,69,"−",{"$f":"240/60","v":4},"−",63]
[null,null,null,{"$f":"300/60","v":5},0.47472040409018951,72,{"$f":"300/60","v":5},1.8281446351543447,69,"−",{"$f":"300/60","v":5},"−",63]
[null,null,null,{"$f":"360/60","v":6},0.44872145583116207,72,{"$f":"360/60","v":6},1.7414632136695456,69,"−",{"$f":"360/60","v":6},"−",63]
[null,null,null,{"$f":"420/60","v":7},0.44072912090694266,72,{"$f":"420/60","v":7},1.6789288346903968,69,"−",{"$f":"420/60","v":7},"−",63]
[null,null,null,null,null,null,null,null,null,null,{"$f":"480/60","v":8},"−",63]
[null,null,null,"BL-312, BL-314",null,null,"BL-397, BL-398"]
[null,null,null,"  [SM]0","80 mM",null,"  [SM]0","80 mM",null,null,"  [SM]0","80 mM"]
[null,null,null,"  [PhCO2H]0","96 mM",null,"  [PhCO2H]0","96 mM",null,null,"  [PhCO2H]0","96 mM"]
[null,null,null,"  [PhCONMeBr]0","96 mM",null,"  [Br-2-pyrrolidone]0","96 mM",null,null,"  [PhCON(t-Bu)Br]0","96 mM"]
[null,null,null,"  [(DHQD)2PHAL]0","8 mM",null,"  [(DHQD)2PHAL]0","8 mM",null,null,"  [(DHQD)2PHAL]0","8 mM"]
[null,null,null,"  [(4-Tol)2CO]0","40 mM",null,"  [(4-Tol)2CO]0","40 mM",null,null,"  [(4-Tol)2CO]0","40 mM"]
[null,null,null,"  [P]0 (83:17 er)","0 mM",null,"  [P]0 (83:17 er)","0 mM",null,null,"  [P]0 (83:17 er)","0 mM"]
[null,null,null,"  [PhCONH2]0","0 mM",null,"  [PhCONH2]0","0 mM",null,null,"  [PhCONH2]0","0 mM"]
[]
[null,null,null,"Experiment 43",null,null,"Experiment 45",null,null,null,"Experiment X"]
[null,null,null,"t (hours)","[SM] (mM)","[P] (mM)","t (hours)","[SM] (mM)","[P] (mM)","[dibromide] (mM)","t (minutes)","[SM] (mM)","[P] (mM)","[dibromide] (mM)"]
[null,null,null,{"$f":"0/60","v":0},80.224628961091057,0,{"$f":"0/60","v":0},"−",0,"−"]
[null,null,null,{"$f":"5/60","v":8.3333333333333329E-2},12.133419637173333,56.471635385624225,{"$f":"5/60","v":8.3333333333333329E-2},"−",2.1585571106844914,"−"]
[null,null,null,{"$f":"10/60","v":0.16666666666666666},10.611469034905264,58.593977898517885,{"$f":"10/60","v":0.16666666666666666},"−",3.4369840613072573,"−"]
[null,null,null,{"$f":"15/60","v":0.25},9.9460356508107761,58.758876488960169,{"$f":"15/60","v":0.25},"−",4.6121193280659352,"−"]
[null,null,null,{"$f":"30/60","v":0.5},9.606329748660789,58.955278289067259,{"$f":"30/60","v":0.5},"−",6.90773962692524,"−"]
[null,null,null,{"$f":"45/60","v":0.75},9,57.682239099063352,{"$f":"45/60","v":0.75},"−",9.5266261725996522,"−"]
[null,null,null,{"$f":"60/60","v":1},9,58.87138970078324,{"$f":"60/60","v":1},"−",11.056548143670067,"−"]
[null,null,null,{"$f":"90/60","v":1.5},9,59.107095656067926,{"$f":"90/60","v":1.5},"−",13.019170910353537,"−"]
[null,null,null,{"$f":"120/60","v":2},8.9774807416691544,58.33318667730795,{"$f":"120/60","v":2},"−",14.972453248093492,"−"]
[null,null,null,{"$f":"180/60","v":3},8.730686825961758,58.110830944866493,{"$f":"180/60","v":3},"−",17.496464376555913,"−"]
[null,null,null,{"$f":"240/60","v":4},8.010778853355502,58.204266085976144,{"$f":"240/60","v":4},"−",20.047286104096635,"−"]
[null,null,null,{"$f":"300/60","v":5},8.0208584110512664,58.745014363537088,{"$f":"300/60","v":5},"−",21.692807317431388,"−"]
[null,null,null,{"$f":"360/60","v":6},8,58,{"$f":"360/60","v":6},"−",22.792454039425571,"−"]
[null,null,null,{"$f":"420/60","v":7},8,58,{"$f":"420/60","v":7},"−",23.853840965636294,"−"]
[null,null,null,{"$f":"480/60","v":8},8,58,{"$f":"480/60","v":8},"−",25.279351278750195,"−"]
[]
[]
[]
[]
[]
[]
[]
[]
[]
[]
[]
[]
[]
[]
[]
[]
[]
[]
[]
[]
[]
[]
[]
[]
[]
[]
[]
[null,null,null,"Experiment 1",null,null,null,"Experiment 24",null,null,null,"Experiment 25"]
[null,null,null,"[P]n - [P]n-1","[SM]n-1 - [SM]n","subtraction","[SM]0 - [P]n - [SM]n","[P]n - [P]n-1","[SM]n-1 - [SM]n","subtraction","[SM]0 - [P]n - [SM]n - [dibromide]n","[P]n - [P]n-1","[SM]n-1 - [SM]n","subtraction","[SM]0 - [P]n - [SM]n"]
[null,null,null,{"$f":"F13-F12","v":17.093114709733523},{"$f":"E12-E13","v":19.750914161499907},{"$f":"E108-D108","v":2.6577994517663832},{"$f":"$E$12-(E12+F12)","v":0},{"$f":"I13-I12","v":7.0986487703951573},{"$f":"H12-H13","v":67.603858305895017},{"$f":"I108-H108","v":60.505209535499858},{"$f":"$H$12-(H12+I12)-J12","v":0},{"$f":"M13-M12","v":26.337094833614248},{"$f":"L12-L13","v":79.428042402469089},{"$f":"M108-L108","v":53.090947568854844},{"$f":"$L$12-(L12+M12)","v":0}]
[null,null,null,7.2626840449530796,7.1596201012042116,{"$f":"E109-D109","v":-0.10306394374886807},2.6577994517663797,3.7648374164556744,12.620770655196036,8.8559332387403629,35.505209535499858,8.1634944650824757,-4.2790217407180577,{"$f":"M109-L109","v":-12.442516205800533},53.090947568854837]
[null,null,null,4.4854927194624352,4.8424929723074825,0.35700025284504733,2.5547355080175151,3.3277580029573439,-7.7022024596552816,-11.029960462612625,43.361142774240221,2.7406617995928642,4.6694131761820383,1.9287513765891742,40.6484313630543]
[null,null,null,7.5182093136721022,8.2646083551069935,0.74639904143489133,2.9117357608625696,5.3738475011412863,5.0473071920711483,{"$f":"I111-H111","v":-0.32654030907013798},32.3311823116276,5.4132443457074899,0.49154047311659282,-4.9217038725908973,42.577182739643476]
[null,null,null,4.3235319121946105,4.5590762110443634,0.23554429884975292,3.6581348022974538,2.8552185426565764,2.6548952675841333,-0.20032327507244307,32.004642002557461,2.1033050287414312,0,-2.1033050287414312,37.65547886705258]
[null,null,null,3.0368243323431372,3.5925295018551964,0.55570516951205917,3.8936791011471996,2.5962274442009416,-4.8336861233630843,-7.429913567564026,31.804318727485018,1.3747920902963173,0,-1.3747920902963173,35.552173838311148]
[null,null,null,3.7501927249805647,4.5200403167992178,0.76984759181865314,4.4493842706592659,2.4019281091563514,2.5123336833709446,0.11040557421459329,24.374405159920997,1.4054800014957038,0,-1.4054800014957038,34.177381748014831]
[null,null,null,2.6474415809812371,2.6498326225854285,2.3910416041914573E-3,5.2192318624779261,0.89506406706738417,2.3213524399921397,1.4262883729247555,24.484810734135586,0.37097437358556817,0,-0.37097437358556817,32.771901746519127]
[null,null,null,2.9933610096814292,4.0631433518265716,1.0697823421451425,5.2216229040821105,2.0809226471277,-0.64385272602797372,-2.7247753731556736,25.911099107060338,9.0953061883901398E-2,0,-9.0953061883901398E-2,32.400927372933559]
[null,null,null,2.1897649551054954,2.7219444934793344,0.53217953837383902,6.2914052462272565,0.46555690582646392,8.17103274333566E-2,-0.38384657839310732,23.186323733904672,0,0,0,32.309974311049658]
[null,null,null,1.4450808312262851,1.9121450894238272,0.46706425819754216,6.8235847846010955,0.33348586860114793,0.56214239859461712,0.22865652999346919,22.802477155511561,0,0,0,32.309974311049658]
[null,null,null,1.4861059827080894,1.7253150488308933,0.2392090661228039,7.2906490427986341,-0.21472814101124982,0,0.21472814101124982,23.031133685505026,0,0,0,32.309974311049658]
[null,null,null,0.65770452703017668,1.0843295123087238,0.42662498527854709,7.5298581089214451,0.59719946654224287,0,-0.59719946654224287,23.245861826516276,0,0,0,32.309974311049658]
[null,null,null,0.65393196632869177,1.061380047080597,0.4074480807519052,7.9564830941999816,-0.10755469027710163,0,0.10755469027710163,22.64866235997404,0,0,0,32.309974311049658]
[null,null,null,null,null,null,8.3639311749518868,null,null,null,22.756217050251138,null,null,null,32.309974311049658]
[]
[null,null,null,"Experiment 34",null,null,null,"Experiment 44",null,null,null,"Experiment X"]
[null,null,null,"[P]n - [P]n-1","[SM]n-1 - [SM]n","subtraction","[SM]0 - [P]n - [SM]n","[P]n - [P]n-1","[SM]n-1 - [SM]n","subtraction","[SM]0 - [P]n - [SM]n - [dibromide]n","[P]n - [P]n-1","[SM]n-1 - [SM]n","subtraction","[SM]0 - [P]n - [SM]n"]
[null,null,null,{"$f":"F39-F38","v":70.015559153008155},{"$f":"E38-E39","v":76.802334439970508},{"$f":"E126-D126","v":6.786775286962353},{"$f":"$E$38-F38-E38","v":0},{"$f":"I65-I64","v":2.1585571106844914},{"$f":"H64-H65","v":{"$error":"#VALUE!"}},{"$f":"I126-H126","v":{"$error":"#VALUE!"}},"N/A"]
[null,null,null,{"$f":"F40-F39","v":0.45141828630241321},1.2209582039861653,{"$f":"E127-D127","v":0.76953991768375207},{"$f":"$E$38-F39-E39","v":6.7867752869623601},{"$f":"I66-I65","v":1.2784269506227659},{"$f":"H65-H66","v":{"$error":"#VALUE!"}},{"$f":"I127-H127","v":{"$error":"#VALUE!"}},"N/A"]
[null,null,null,null,0.48034732923576184,0.48034732923576184,7.5563152046461113,1.1751352667586779,{"$error":"#VALUE!"},{"$error":"#VALUE!"},"N/A"]
[null,null,null,null,0.7276438147701304,0.7276438147701304,null,2.2956202988593049,{"$error":"#VALUE!"},{"$error":"#VALUE!"},"N/A"]
[null,null,null,{"$f":"F43-F42","v":0.52222313734446857},7.3552226774674878E-2,-0.44867091056979369,7.7535069253070406,2.6188865456744121,{"$error":"#VALUE!"},{"$error":"#VALUE!"},"N/A"]
[null,null,null,null,6.5590430511346276E-2,6.5590430511346276E-2,7.3048360147372469,1.5299219710704151,{"$error":"#VALUE!"},{"$error":"#VALUE!"},"N/A"]
[null,null,null,null,6.9458032825817084E-2,6.9458032825817084E-2,null,1.9626227666834701,{"$error":"#VALUE!"},{"$error":"#VALUE!"},"N/A"]
[null,null,null,{"$f":"F46-F45","v":0},-4.4763842860692127E-2,-4.4763842860692127E-2,7.4398844780744104,1.9532823377399549,{"$error":"#VALUE!"},{"$error":"#VALUE!"},"N/A"]
[null,null,null,0,7.5250840215971615E-2,7.5250840215971615E-2,7.3951206352137184,2.5240111284624209,{"$error":"#VALUE!"},{"$error":"#VALUE!"},"N/A"]
[null,null,null,0,7.5193431196414029E-2,7.5193431196414029E-2,7.4703714754296904,2.5508217275407219,{"$error":"#VALUE!"},{"$error":"#VALUE!"},"N/A"]
[null,null,null,0,-5.1692399501054198E-2,-5.1692399501054198E-2,7.5455649066261037,1.645521213334753,{"$error":"#VALUE!"},{"$error":"#VALUE!"},"N/A"]
[null,null,null,0,2.5998948259027432E-2,2.5998948259027432E-2,7.49387250712505,1.0996467219941835,{"$error":"#VALUE!"},{"$error":"#VALUE!"},"N/A"]
[null,null,null,0,7.9923349242194131E-3,7.9923349242194131E-3,7.5198714553840773,1.0613869262107229,{"$error":"#VALUE!"},{"$error":"#VALUE!"},"N/A"]
[null,null,null,null,null,null,7.527863790308297,1.4255103131139002,{"$error":"#VALUE!"},{"$error":"#VALUE!"},"N/A"]

{"sheet":"New Table","index":16,"n_rows":18,"n_cols":60,"rows_kept":18,"cut":false,"hidden":true,"merged":[[0,20,0,23],[0,24,0,27],[0,28,0,31],[0,0,0,3],[0,4,0,7],[0,8,0,11],[0,12,0,15],[0,16,0,19],[0,52,0,55],[0,56,0,59],[0,48,0,51],[0,32,0,35],[0,36,0,39],[0,40,0,43],[0,44,0,47]]}
["Experiment 1",null,null,null,"Experiment 2",null,null,null,"Experiment 3",null,null,null,"Experiment 4",null,null,null,"Experiment 5",null,null,null,"Experiment 6",null,null,null,"Experiment 7",null,null,null,"Experiment 8",null,null,null,"Experiment 9",null,null,null,"Experiment 10",null,null,null,"Experiment 11",null,null,null,"Experiment 12",null,null,null,"Experiment 13",null,null,null,"Experiment 26",null,null,null,"Experiment 30"]
["t (seconds)","[SM]/[SM]0 (mM)","[P]/[SM]0 (mM)","([SM]0 - [SM] - [P])/[SM]0 (mM)","t (seconds)","[SM]/[SM]0 (mM)","[P]/[SM]0 (mM)","([SM]0 - [SM] - [P])/[SM]0 (mM)","t (seconds)","[SM]/[SM]0 (mM)","[P]/[SM]0 (mM)","([SM]0 - [SM] - [P])/[SM]0 (mM)","t (seconds)","[SM]/[SM]0 (mM)","[P]/[SM]0 (mM)","([SM]0 - [SM] - [P])/[SM]0 (mM)","t (seconds)","[SM]/[SM]0 (mM)","[P]/[SM]0 (mM)","([SM]0 - [SM] - [P])/[SM]0 (mM)","t (seconds)","[SM]/[SM]0 (mM)","[P]/[SM]0 (mM)","([SM]0 - [SM] - [P])/[SM]0 (mM)","t (seconds)","[SM]/[SM]0 (mM)","[P]/[SM]0 (mM)","([SM]0 - [SM] - [P])/[SM]0 (mM)","t (seconds)","[SM]/[SM]0 (mM)","[P]/[SM]0 (mM)","([SM]0 - [SM] - [P])/[SM]0 (mM)","t (seconds)","[SM]/[SM]0 (mM)","[P]/[SM]0 (mM)","([SM]0 - [SM] - [P])/[SM]0 (mM)","t (seconds)","[SM]/[SM]0 (mM)","[P]/[SM]0 (mM)","([SM]0 - [SM] - [P])/[SM]0 (mM)","t (seconds)","[SM]/[SM]0 (mM)","[P]/[SM]0 (mM)","([SM]0 - [SM] - [P])/[SM]0 (mM)","t (seconds)","[SM]/[SM]0 (mM)","[P]/[SM]0 (mM)","([SM]0 - [SM] - [P])/[SM]0 (mM)","t (seconds)","[SM]/[SM]0 (mM)","[P]/[SM]0 (mM)","([SM]0 - [SM] - [P])/[SM]0 (mM)","t (seconds)","[SM]/[SM]0 (mM)","[P]/[SM]0 (mM)","([SM]0 - [SM] - [P])/[SM]0 (mM)","t (seconds)","[SM]/[SM]0 (mM)","[P]/[SM]0 (mM)","([SM]0 - [SM] - [P])/[SM]0 (mM)"]
[{"$f":"60*'P inhibition, or deactivation'!D12","v":0},{"$f":"'P inhibition, or deactivation'!F12/'P inhibition, or deactivation'!$F$12","v":1},{"$f":"'P inhibition, or deactivation'!G12/'P inhibition, or deactivation'!$F$12","v":0},{"$f":"('P inhibition, or deactivation'!H56)/'P inhibition, or deactivation'!$F$12","v":0},{"$f":"60*'P inhibition, or deactivation'!H12","v":0},{"$f":"'P inhibition, or deactivation'!K12/'P inhibition, or deactivation'!$K$12","v":1},{"$f":"'P inhibition, or deactivation'!L12/'P inhibition, or deactivation'!$K$12","v":0.97087378640776689},{"$f":"('P inhibition, or deactivation'!L56)/'P inhibition, or deactivation'!$K$12","v":0},{"$f":"60*'P inhibition, or deactivation'!M12","v":0},{"$f":"'P inhibition, or deactivation'!P12/'P inhibition, or deactivation'!$P$12","v":1},{"$f":"'P inhibition, or deactivation'!Q12/'P inhibition, or deactivation'!$P$12","v":2.8846153846153846},{"$f":"'P inhibition, or deactivation'!P56/'P inhibition, or deactivation'!$P$12","v":0},{"$f":"60*'P spiked reactions'!D12","v":0},{"$f":"'P spiked reactions'!G12/'P spiked reactions'!$G$12","v":1},{"$f":"'P spiked reactions'!H12/'P spiked reactions'!$G$12","v":0.96166423108501886},{"$f":"('P spiked reactions'!G55)/'P spiked reactions'!$G$12","v":0},{"$f":"60*'P spiked reactions'!I12","v":0},{"$f":"'P spiked reactions'!L12/'P spiked reactions'!$L$12","v":1},{"$f":"'P spiked reactions'!M12/'P spiked reactions'!$L$12","v":0.98274270430188615},{"$f":"('P spiked reactions'!K55)/'P spiked reactions'!$L$12","v":0},{"$f":"60*'P spiked reactions'!N12","v":0},{"$f":"'P spiked reactions'!Q12/'P spiked reactions'!$Q$12","v":1},{"$f":"'P spiked reactions'!R12/'P spiked reactions'!$Q$12","v":0.95928082963317529},{"$f":"'P spiked reactions'!O55/'P spiked reactions'!$Q$12","v":0},{"$f":"60*60*'IS order'!J12","v":0},{"$f":"'IS order'!M12/'IS order'!$M$12","v":1},{"$f":"'IS order'!N12/'IS order'!$M$12","v":0},{"$f":"'IS order'!L55/'IS order'!$M$12","v":0},{"$f":"60*60*'cat order'!J12","v":0},{"$f":"'cat order'!M12/'cat order'!$M$12","v":1},{"$f":"'cat order'!N12/'cat order'!$M$12","v":0},{"$f":"('cat order'!K55)/'cat order'!$M$12","v":0},{"$f":"60*60*'PhCONHBr order'!J12","v":0},{"$f":"'PhCONHBr order'!M12/'PhCONHBr order'!$M$12","v":1},{"$f":"'PhCONHBr order'!N12/'PhCONHBr order'!$M$12","v":0},{"$f":"('PhCONHBr order'!L54)/'PhCONHBr order'!$M$12","v":0},{"$f":"60*60*#REF!","v":{"$error":"#REF!"}},{"$f":"#REF!/#REF!","v":{"$error":"#REF!"}},{"$f":"#REF!/#REF!","v":{"$error":"#REF!"}},{"$f":"(#REF!)/#REF!","v":{"$error":"#REF!"}},{"$f":"60*60*'SM order'!J12","v":0},{"$f":"'SM order'!M12/'SM order'!$M$12","v":1},{"$f":"'SM order'!O12/'SM order'!$M$12","v":0},{"$f":"'SM order'!L54/('SM order'!$M$12)","v":0},{"$f":"60*60*'cat order'!P12","v":0},{"$f":"'cat order'!S12/'cat order'!$S$12","v":1},{"$f":"'cat order'!T12/'cat order'!$S$12","v":0},{"$f":"('cat order'!O55)/'cat order'!$S$12","v":0},{"$f":"0*60*60","v":0},{"$f":"#REF!/#REF!","v":{"$error":"#REF!"}},{"$f":"#REF!/#REF!","v":{"$error":"#REF!"}},{"$f":"#REF!/#REF!","v":{"$error":"#REF!"}},0,{"$f":"'5 equiv. BzOH cat order'!G12/'5 equiv. BzOH cat order'!$G$12","v":1},{"$f":"'5 equiv. BzOH cat order'!H12/'5 equiv. BzOH cat order'!$G$12","v":0},{"$f":"'5 equiv. BzOH cat order'!G123/'5 equiv. BzOH cat order'!$G$12","v":0},0,null,{"$f":"'5 equiv. BzOH cat order'!T12/80","v":0},"N/A"]
[{"$f":"60*'P inhibition, or deactivation'!D13","v":5},{"$f":"'P inhibition, or deactivation'!F13/'P inhibition, or deactivation'!$F$12","v":0.75526069333962109},{"$f":"'P inhibition, or deactivation'!G13/'P inhibition, or deactivation'!$F$12","v":0.21050633878982172},{"$f":"('P inhibition, or deactivation'!H57)/'P inhibition, or deactivation'!$F$12","v":3.4232967870557206E-2},{"$f":"60*'P inhibition, or deactivation'!H15","v":15},{"$f":"'P inhibition, or deactivation'!K15/'P inhibition, or deactivation'!$K$12","v":0.75441249695757129},{"$f":"'P inhibition, or deactivation'!L15/'P inhibition, or deactivation'!$K$12","v":1.2286654983998349},{"$f":"('P inhibition, or deactivation'!L57)/'P inhibition, or deactivation'!$K$12","v":0},{"$f":"60*'P inhibition, or deactivation'!M13","v":15},{"$f":"'P inhibition, or deactivation'!P13/'P inhibition, or deactivation'!$P$12","v":0.85992669157010893},{"$f":"'P inhibition, or deactivation'!Q13/'P inhibition, or deactivation'!$P$12","v":3.0392920917388944},{"$f":"'P inhibition, or deactivation'!P57/'P inhibition, or deactivation'!$P$12","v":-1.4603398693618843E-2},{"$f":"60*'P spiked reactions'!D13","v":15},{"$f":"'P spiked reactions'!G13/'P spiked reactions'!$G$12","v":0.90425884158345771},{"$f":"'P spiked reactions'!H13/'P spiked reactions'!$G$12","v":1.0440106942068434},{"$f":"('P spiked reactions'!G56)/'P spiked reactions'!$G$12","v":1.3394695294717783E-2},{"$f":"60*'P spiked reactions'!I13","v":10},{"$f":"'P spiked reactions'!L13/'P spiked reactions'!$L$12","v":0.79900817151862313},{"$f":"'P spiked reactions'!M13/'P spiked reactions'!$L$12","v":1.1847030700731018},{"$f":"('P spiked reactions'!K56)/'P spiked reactions'!$L$12","v":-9.6853728983879175E-4},{"$f":"60*'P spiked reactions'!N13","v":5},{"$f":"'P spiked reactions'!Q13/'P spiked reactions'!$Q$12","v":0.93980137735796043},{"$f":"'P spiked reactions'!R13/'P spiked reactions'!$Q$12","v":0.99443512760144426},{"$f":"'P spiked reactions'!O56/'P spiked reactions'!$Q$12","v":2.5044324673770633E-2},{"$f":"60*60*'IS order'!J13","v":300},{"$f":"'IS order'!M13/'IS order'!$M$12","v":0.75551129121907368},{"$f":"'IS order'!N13/'IS order'!$M$12","v":0.21182739337394677},{"$f":"'IS order'!L56/'IS order'!$M$12","v":3.2661315406979551E-2},{"$f":"60*60*'cat order'!J13","v":300},{"$f":"'cat order'!M13/'cat order'!$M$12","v":0.7937840684982499},{"$f":"'cat order'!N13/'cat order'!$M$12","v":0.17027147589996675},{"$f":"('cat order'!K56)/'cat order'!$M$12","v":3.5944455601783422E-2},{"$f":"60*60*'PhCONHBr order'!J13","v":300},{"$f":"'PhCONHBr order'!M13/'PhCONHBr order'!$M$12","v":0.80669007266581927},{"$f":"'PhCONHBr order'!N13/'PhCONHBr order'!$M$12","v":0.16100015130232104},{"$f":"('PhCONHBr order'!L55)/'PhCONHBr order'!$M$12","v":3.2309776031859742E-2},{"$f":"60*60*#REF!","v":{"$error":"#REF!"}},{"$f":"#REF!/#REF!","v":{"$error":"#REF!"}},{"$f":"#REF!/#REF!","v":{"$error":"#REF!"}},{"$f":"(#REF!)/#REF!","v":{"$error":"#REF!"}},{"$f":"60*60*'SM order'!J13","v":300},{"$f":"'SM order'!M13/'SM order'!$M$12","v":0.64632867093290847},{"$f":"'SM order'!O13/'SM order'!$M$12","v":0.31163957868644054},{"$f":"'SM order'!L55/('SM order'!$M$12)","v":4.2031750380650934E-2},{"$f":"60*60*'cat order'!P13","v":300},{"$f":"'cat order'!S13/'cat order'!$S$12","v":0.86019975544956706},{"$f":"'cat order'!T13/'cat order'!$S$12","v":8.6892855212396147E-2},{"$f":"('cat order'!O56)/'cat order'!$S$12","v":5.2907389338036834E-2},{"$f":"0.0833333333333333*60*60","v":299.99999999999989},{"$f":"#REF!/#REF!","v":{"$error":"#REF!"}},{"$f":"#REF!/#REF!","v":{"$error":"#REF!"}},{"$f":"#REF!/#REF!","v":{"$error":"#REF!"}},300,{"$f":"'5 equiv. BzOH cat order'!G13/'5 equiv. BzOH cat order'!$G$12","v":0.42838518240529566},{"$f":"'5 equiv. BzOH cat order'!H13/'5 equiv. BzOH cat order'!$G$12","v":0.45284819617595939},{"$f":"'5 equiv. BzOH cat order'!G124/'5 equiv. BzOH cat order'!$G$12","v":0.11876662141874493},300,null,{"$f":"'5 equiv. BzOH cat order'!T13/80","v":6.3959029556127589E-2},"N/A"]
[{"$f":"60*'P inhibition, or deactivation'!D14","v":10},{"$f":"'P inhibition, or deactivation'!F14/'P inhibition, or deactivation'!$F$12","v":0.66708803199474165},{"$f":"'P inhibition, or deactivation'!G14/'P inhibition, or deactivation'!$F$12","v":0.29994826052569701},{"$f":"('P inhibition, or deactivation'!H58)/'P inhibition, or deactivation'!$F$12","v":3.2963707479561337E-2},{"$f":"60*'P inhibition, or deactivation'!H16","v":30},{"$f":"'P inhibition, or deactivation'!K16/'P inhibition, or deactivation'!$K$12","v":0.66395679064077495},{"$f":"'P inhibition, or deactivation'!L16/'P inhibition, or deactivation'!$K$12","v":1.3276781871937087},{"$f":"('P inhibition, or deactivation'!L58)/'P inhibition, or deactivation'!$K$12","v":0},{"$f":"60*'P inhibition, or deactivation'!M14","v":30},{"$f":"'P inhibition, or deactivation'!P14/'P inhibition, or deactivation'!$P$12","v":0.75713132010385997},{"$f":"'P inhibition, or deactivation'!Q14/'P inhibition, or deactivation'!$P$12","v":3.1319157313865684},{"$f":"'P inhibition, or deactivation'!P58/'P inhibition, or deactivation'!$P$12","v":-4.4316668750440293E-3},{"$f":"60*'P spiked reactions'!D14","v":30},{"$f":"'P spiked reactions'!G14/'P spiked reactions'!$G$12","v":0.8223957231811948},{"$f":"'P spiked reactions'!H14/'P spiked reactions'!$G$12","v":1.1142133041933937},{"$f":"('P spiked reactions'!G57)/'P spiked reactions'!$G$12","v":2.5055203710430483E-2},{"$f":"60*'P spiked reactions'!I14","v":15},{"$f":"'P spiked reactions'!L14/'P spiked reactions'!$L$12","v":0.75136597164916696},{"$f":"'P spiked reactions'!M14/'P spiked reactions'!$L$12","v":1.2417250649388576},{"$f":"('P spiked reactions'!K57)/'P spiked reactions'!$L$12","v":-1.0348332286138287E-2},{"$f":"60*'P spiked reactions'!N14","v":10},{"$f":"'P spiked reactions'!Q14/'P spiked reactions'!$Q$12","v":0.89995361818572206},{"$f":"'P spiked reactions'!R14/'P spiked reactions'!$Q$12","v":1.0249250154142386},{"$f":"'P spiked reactions'!O57/'P spiked reactions'!$Q$12","v":3.4402196033214497E-2},{"$f":"60*60*'IS order'!J14","v":600},{"$f":"'IS order'!M14/'IS order'!$M$12","v":0.65843333520938341},{"$f":"'IS order'!N14/'IS order'!$M$12","v":0.30561104830693764},{"$f":"'IS order'!L57/'IS order'!$M$12","v":3.5955616483678995E-2},{"$f":"60*60*'cat order'!J14","v":600},{"$f":"'cat order'!M14/'cat order'!$M$12","v":0.71163991708493568},{"$f":"'cat order'!N14/'cat order'!$M$12","v":0.25553673344362682},{"$f":"('cat order'!K57)/'cat order'!$M$12","v":3.2823349471437495E-2},{"$f":"60*60*'PhCONHBr order'!J14","v":600},{"$f":"'PhCONHBr order'!M14/'PhCONHBr order'!$M$12","v":0.7239203231041148},{"$f":"'PhCONHBr order'!N14/'PhCONHBr order'!$M$12","v":0.23403101124082715},{"$f":"('PhCONHBr order'!L56)/'PhCONHBr order'!$M$12","v":4.204866565505809E-2},{"$f":"60*60*#REF!","v":{"$error":"#REF!"}},{"$f":"#REF!/#REF!","v":{"$error":"#REF!"}},{"$f":"#REF!/#REF!","v":{"$error":"#REF!"}},{"$f":"(#REF!)/#REF!","v":{"$error":"#REF!"}},{"$f":"60*60*'SM order'!J14","v":600},{"$f":"'SM order'!M14/'SM order'!$M$12","v":0.50978947725246737},{"$f":"'SM order'!O14/'SM order'!$M$12","v":0.44082041600773975},{"$f":"'SM order'!L56/('SM order'!$M$12)","v":4.9390106739792938E-2},{"$f":"60*60*'cat order'!P14","v":600},{"$f":"'cat order'!S14/'cat order'!$S$12","v":0.7799996988849176},{"$f":"'cat order'!T14/'cat order'!$S$12","v":0.15001316677764504},{"$f":"('cat order'!O57)/'cat order'!$S$12","v":6.998713433743739E-2},{"$f":"0.166666666666667*60*60","v":600.00000000000114},{"$f":"#REF!/#REF!","v":{"$error":"#REF!"}},{"$f":"#REF!/#REF!","v":{"$error":"#REF!"}},{"$f":"#REF!/#REF!","v":{"$error":"#REF!"}},600,{"$f":"'5 equiv. BzOH cat order'!G14/'5 equiv. BzOH cat order'!$G$12","v":0.25955241874053614},{"$f":"'5 equiv. BzOH cat order'!H14/'5 equiv. BzOH cat order'!$G$12","v":0.63968344928106036},{"$f":"'5 equiv. BzOH cat order'!G125/'5 equiv. BzOH cat order'!$G$12","v":0.10076413197840356},600,null,{"$f":"'5 equiv. BzOH cat order'!T14/80","v":0.11771885906149596},"N/A"]
[{"$f":"60*'P inhibition, or deactivation'!D15","v":15},{"$f":"'P inhibition, or deactivation'!F15/'P inhibition, or deactivation'!$F$12","v":0.62186782807432639},{"$f":"'P inhibition, or deactivation'!G15/'P inhibition, or deactivation'!$F$12","v":0.36665850181759885},{"$f":"('P inhibition, or deactivation'!H59)/'P inhibition, or deactivation'!$F$12","v":1.1473670108074815E-2},{"$f":"60*'P inhibition, or deactivation'!H17","v":45},{"$f":"'P inhibition, or deactivation'!K17/'P inhibition, or deactivation'!$K$12","v":0.58795214630630954},{"$f":"'P inhibition, or deactivation'!L17/'P inhibition, or deactivation'!$K$12","v":1.3853326966116042},{"$f":"('P inhibition, or deactivation'!L59)/'P inhibition, or deactivation'!$K$12","v":-1.220420894963929E-2},{"$f":"60*'P inhibition, or deactivation'!M15","v":45},{"$f":"'P inhibition, or deactivation'!P15/'P inhibition, or deactivation'!$P$12","v":0.70148188063106676},{"$f":"'P inhibition, or deactivation'!Q15/'P inhibition, or deactivation'!$P$12","v":3.1909752434319367},{"$f":"'P inhibition, or deactivation'!P59/'P inhibition, or deactivation'!$P$12","v":-7.841739447618918E-3},{"$f":"60*'P spiked reactions'!D15","v":45},{"$f":"'P spiked reactions'!G15/'P spiked reactions'!$G$12","v":0.75986770738723863},{"$f":"'P spiked reactions'!H15/'P spiked reactions'!$G$12","v":1.1571176437797612},{"$f":"('P spiked reactions'!G58)/'P spiked reactions'!$G$12","v":4.4678879918019027E-2},{"$f":"60*'P spiked reactions'!I15","v":30},{"$f":"'P spiked reactions'!L15/'P spiked reactions'!$L$12","v":0.6519348425499415},{"$f":"'P spiked reactions'!M15/'P spiked reactions'!$L$12","v":1.3429724483113461},{"$f":"('P spiked reactions'!K58)/'P spiked reactions'!$L$12","v":-1.2164586559401364E-2},{"$f":"60*'P spiked reactions'!N15","v":15},{"$f":"'P spiked reactions'!Q15/'P spiked reactions'!$Q$12","v":0.86571689462152956},{"$f":"'P spiked reactions'!R15/'P spiked reactions'!$Q$12","v":1.0517773788769225},{"$f":"'P spiked reactions'!O58/'P spiked reactions'!$Q$12","v":4.1786556134723214E-2},{"$f":"60*60*'IS order'!J15","v":900},{"$f":"'IS order'!M15/'IS order'!$M$12","v":0.60106359733768389},{"$f":"'IS order'!N15/'IS order'!$M$12","v":0.36179465214619227},{"$f":"'IS order'!L58/'IS order'!$M$12","v":3.7141750516123902E-2},{"$f":"60*60*'cat order'!J15","v":900},{"$f":"'cat order'!M15/'cat order'!$M$12","v":0.649558716598574},{"$f":"'cat order'!N15/'cat order'!$M$12","v":0.31450904813013564},{"$f":"('cat order'!K58)/'cat order'!$M$12","v":3.5932235271290344E-2},{"$f":"60*60*'PhCONHBr order'!J15","v":900},{"$f":"'PhCONHBr order'!M15/'PhCONHBr order'!$M$12","v":0.67826350514877698},{"$f":"'PhCONHBr order'!N15/'PhCONHBr order'!$M$12","v":0.27815535371340522},{"$f":"('PhCONHBr order'!L57)/'PhCONHBr order'!$M$12","v":4.3581141137817747E-2},{"$f":"60*60*#REF!","v":{"$error":"#REF!"}},{"$f":"#REF!/#REF!","v":{"$error":"#REF!"}},{"$f":"#REF!/#REF!","v":{"$error":"#REF!"}},{"$f":"(#REF!)/#REF!","v":{"$error":"#REF!"}},{"$f":"60*60*'SM order'!J15","v":900},{"$f":"'SM order'!M15/'SM order'!$M$12","v":0.39765503096226462},{"$f":"'SM order'!O15/'SM order'!$M$12","v":0.52374574736388557},{"$f":"'SM order'!L57/('SM order'!$M$12)","v":7.859922167384964E-2},{"$f":"60*60*'cat order'!P16","v":1800},{"$f":"'cat order'!S16/'cat order'!$S$12","v":0.64344586902459633},{"$f":"'cat order'!T16/'cat order'!$S$12","v":0.29052786042003698},{"$f":"('cat order'!O58)/'cat order'!$S$12","v":6.6026270555366709E-2},{"$f":"0.25*60*60","v":900},{"$f":"#REF!/#REF!","v":{"$error":"#REF!"}},{"$f":"#REF!/#REF!","v":{"$error":"#REF!"}},{"$f":"#REF!/#REF!","v":{"$error":"#REF!"}},900,{"$f":"'5 equiv. BzOH cat order'!G15/'5 equiv. BzOH cat order'!$G$12","v":0.16835577500860546},{"$f":"'5 equiv. BzOH cat order'!H15/'5 equiv. BzOH cat order'!$G$12","v":0.73645758807893302},{"$f":"'5 equiv. BzOH cat order'!G126/'5 equiv. BzOH cat order'!$G$12","v":9.5186636912461473E-2},900,null,{"$f":"'5 equiv. BzOH cat order'!T15/80","v":0.16580020071412935},"N/A"]
[{"$f":"60*'P inhibition, or deactivation'!D16","v":30},{"$f":"'P inhibition, or deactivation'!F16/'P inhibition, or deactivation'!$F$12","v":0.51391341964334725},{"$f":"'P inhibition, or deactivation'!G16/'P inhibition, or deactivation'!$F$12","v":0.46249647765566737},{"$f":"('P inhibition, or deactivation'!H60)/'P inhibition, or deactivation'!$F$12","v":2.3590102700985306E-2},{"$f":"60*'P inhibition, or deactivation'!H18","v":60},{"$f":"'P inhibition, or deactivation'!K18/'P inhibition, or deactivation'!$K$12","v":0.54331881424012918},{"$f":"'P inhibition, or deactivation'!L18/'P inhibition, or deactivation'!$K$12","v":1.4270179637642839},{"$f":"('P inhibition, or deactivation'!L60)/'P inhibition, or deactivation'!$K$12","v":-2.0761191426716626E-2},{"$f":"60*'P inhibition, or deactivation'!M16","v":60},{"$f":"'P inhibition, or deactivation'!P16/'P inhibition, or deactivation'!$P$12","v":0.64836273234401598},{"$f":"'P inhibition, or deactivation'!Q16/'P inhibition, or deactivation'!$P$12","v":3.2391956893638776},{"$f":"'P inhibition, or deactivation'!P60/'P inhibition, or deactivation'!$P$12","v":-2.9430370925092723E-3},{"$f":"60*'P spiked reactions'!D16","v":60},{"$f":"'P spiked reactions'!G16/'P spiked reactions'!$G$12","v":0.70874048422950109},{"$f":"'P spiked reactions'!H16/'P spiked reactions'!$G$12","v":1.202769869687601},{"$f":"('P spiked reactions'!G59)/'P spiked reactions'!$G$12","v":5.0153877167916826E-2},{"$f":"60*'P spiked reactions'!I16","v":45},{"$f":"'P spiked reactions'!L16/'P spiked reactions'!$L$12","v":0.5885859922010479},{"$f":"'P spiked reactions'!M16/'P spiked reactions'!$L$12","v":1.4090909735074748},{"$f":"('P spiked reactions'!K59)/'P spiked reactions'!$L$12","v":-1.4934261406636621E-2},{"$f":"60*'P spiked reactions'!N16","v":30},{"$f":"'P spiked reactions'!Q16/'P spiked reactions'!$Q$12","v":0.8046997383215545},{"$f":"'P spiked reactions'!R16/'P spiked reactions'!$Q$12","v":1.1123449821266966},{"$f":"'P spiked reactions'!O59/'P spiked reactions'!$Q$12","v":4.2236109184924132E-2},{"$f":"60*60*'IS order'!J16","v":1800},{"$f":"'IS order'!M16/'IS order'!$M$12","v":0.50478800081452624},{"$f":"'IS order'!N16/'IS order'!$M$12","v":0.45843776203778502},{"$f":"'IS order'!L59/'IS order'!$M$12","v":3.6774237147688772E-2},{"$f":"60*60*'cat order'!J16","v":1800},{"$f":"'cat order'!M16/'cat order'!$M$12","v":0.54689981889181194},{"$f":"'cat order'!N16/'cat order'!$M$12","v":0.40968037956080006},{"$f":"('cat order'!K59)/'cat order'!$M$12","v":4.3419801547388032E-2},{"$f":"60*60*'PhCONHBr order'!J16","v":1800},{"$f":"'PhCONHBr order'!M16/'PhCONHBr order'!$M$12","v":0.59237226122205733},{"$f":"'PhCONHBr order'!N16/'PhCONHBr order'!$M$12","v":0.36612795507185802},{"$f":"('PhCONHBr order'!L58)/'PhCONHBr order'!$M$12","v":4.1499783706084557E-2},{"$f":"60*60*#REF!","v":{"$error":"#REF!"}},{"$f":"#REF!/#REF!","v":{"$error":"#REF!"}},{"$f":"#REF!/#REF!","v":{"$error":"#REF!"}},{"$f":"(#REF!)/#REF!","v":{"$error":"#REF!"}},{"$f":"60*60*'SM order'!J16","v":1800},{"$f":"'SM order'!M16/'SM order'!$M$12","v":0.25216987077796327},{"$f":"'SM order'!O16/'SM order'!$M$12","v":0.65063944179409861},{"$f":"'SM order'!L58/('SM order'!$M$12)","v":9.7190687427938086E-2},{"$f":"60*60*'cat order'!P17","v":2700},{"$f":"'cat order'!S17/'cat order'!$S$12","v":0.56194792897429813},{"$f":"'cat order'!T17/'cat order'!$S$12","v":0.34524918067118832},{"$f":"('cat order'!O59)/'cat order'!$S$12","v":9.2802890354513556E-2},{"$f":"0.5*60*60","v":1800},{"$f":"#REF!/#REF!","v":{"$error":"#REF!"}},{"$f":"#REF!/#REF!","v":{"$error":"#REF!"}},{"$f":"#REF!/#REF!","v":{"$error":"#REF!"}},1800,{"$f":"'5 equiv. BzOH cat order'!G16/'5 equiv. BzOH cat order'!$G$12","v":7.6390782001879931E-2},{"$f":"'5 equiv. BzOH cat order'!H16/'5 equiv. BzOH cat order'!$G$12","v":0.85863911762508249},{"$f":"'5 equiv. BzOH cat order'!G127/'5 equiv. BzOH cat order'!$G$12","v":6.4970100373037548E-2},1800,null,{"$f":"'5 equiv. BzOH cat order'!T16/80","v":0.29150692769848469},"N/A"]
[{"$f":"60*'P inhibition, or deactivation'!D17","v":45},{"$f":"'P inhibition, or deactivation'!F17/'P inhibition, or deactivation'!$F$12","v":0.45477532623841871},{"$f":"'P inhibition, or deactivation'!G17/'P inhibition, or deactivation'!$F$12","v":0.51808144151911162},{"$f":"('P inhibition, or deactivation'!H61)/'P inhibition, or deactivation'!$F$12","v":2.7143232242469516E-2},{"$f":"60*'P inhibition, or deactivation'!H19","v":90},{"$f":"'P inhibition, or deactivation'!K19/'P inhibition, or deactivation'!$K$12","v":0.4785756618256925},{"$f":"'P inhibition, or deactivation'!L19/'P inhibition, or deactivation'!$K$12","v":1.4871306940968423},{"$f":"('P inhibition, or deactivation'!L61)/'P inhibition, or deactivation'!$K$12","v":-2.4110565101469017E-3},{"$f":"60*'P inhibition, or deactivation'!M17","v":90},{"$f":"'P inhibition, or deactivation'!P17/'P inhibition, or deactivation'!$P$12","v":0.57280761026900473},{"$f":"'P inhibition, or deactivation'!Q17/'P inhibition, or deactivation'!$P$12","v":3.3041241102748944},{"$f":"'P inhibition, or deactivation'!P61/'P inhibition, or deactivation'!$P$12","v":7.6836640714852749E-3},{"$f":"60*'P spiked reactions'!D17","v":90},{"$f":"'P spiked reactions'!G17/'P spiked reactions'!$G$12","v":0.64790850483109141},{"$f":"'P spiked reactions'!H17/'P spiked reactions'!$G$12","v":1.2590200299584207},{"$f":"('P spiked reactions'!G60)/'P spiked reactions'!$G$12","v":5.4735696295506883E-2},{"$f":"60*'P spiked reactions'!I17","v":60},{"$f":"'P spiked reactions'!L17/'P spiked reactions'!$L$12","v":0.54044775567762871},{"$f":"'P spiked reactions'!M17/'P spiked reactions'!$L$12","v":1.4434852355965693},{"$f":"('P spiked reactions'!K60)/'P spiked reactions'!$L$12","v":-1.1902869723118452E-3},{"$f":"60*'P spiked reactions'!N17","v":45},{"$f":"'P spiked reactions'!Q17/'P spiked reactions'!$Q$12","v":0.74482941247255874},{"$f":"'P spiked reactions'!R17/'P spiked reactions'!$Q$12","v":1.1591508166789386},{"$f":"'P spiked reactions'!O60/'P spiked reactions'!$Q$12","v":5.530060048167805E-2},{"$f":"60*60*'IS order'!J17","v":2700},{"$f":"'IS order'!M17/'IS order'!$M$12","v":0.43859582578929951},{"$f":"'IS order'!N17/'IS order'!$M$12","v":0.51125800976938929},{"$f":"'IS order'!L60/'IS order'!$M$12","v":5.0146164441311224E-2},{"$f":"60*60*'cat order'!J17","v":2700},{"$f":"'cat order'!M17/'cat order'!$M$12","v":0.48413394798887183},{"$f":"'cat order'!N17/'cat order'!$M$12","v":0.4674560418943603},{"$f":"('cat order'!K60)/'cat order'!$M$12","v":4.8410010116767918E-2},{"$f":"60*60*'PhCONHBr order'!J17","v":2700},{"$f":"'PhCONHBr order'!M17/'PhCONHBr order'!$M$12","v":0.54429193997659886},{"$f":"'PhCONHBr order'!N17/'PhCONHBr order'!$M$12","v":0.41196459065800156},{"$f":"('PhCONHBr order'!L59)/'PhCONHBr order'!$M$12","v":4.3743469365399627E-2},{"$f":"60*60*#REF!","v":{"$error":"#REF!"}},{"$f":"#REF!/#REF!","v":{"$error":"#REF!"}},{"$f":"#REF!/#REF!","v":{"$error":"#REF!"}},{"$f":"(#REF!)/#REF!","v":{"$error":"#REF!"}},{"$f":"60*60*'SM order'!J17","v":2700},{"$f":"'SM order'!M17/'SM order'!$M$12","v":0.16084575536091278},{"$f":"'SM order'!O17/'SM order'!$M$12","v":0.71764891622674343},{"$f":"'SM order'!L59/('SM order'!$M$12)","v":0.12150532841234367},{"$f":"60*60*'cat order'!P18","v":3600},{"$f":"'cat order'!S18/'cat order'!$S$12","v":0.51810530654455988},{"$f":"'cat order'!T18/'cat order'!$S$12","v":0.38662484304890971},{"$f":"('cat order'!O60)/'cat order'!$S$12","v":9.526985040653041E-2},{"$f":"0.75*60*60","v":2700},{"$f":"#REF!/#REF!","v":{"$error":"#REF!"}},{"$f":"#REF!/#REF!","v":{"$error":"#REF!"}},{"$f":"#REF!/#REF!","v":{"$error":"#REF!"}},2700,{"$f":"'5 equiv. BzOH cat order'!G17/'5 equiv. BzOH cat order'!$G$12","v":4.3557695811820715E-2},{"$f":"'5 equiv. BzOH cat order'!H17/'5 equiv. BzOH cat order'!$G$12","v":0.89825605904611017},{"$f":"'5 equiv. BzOH cat order'!G128/'5 equiv. BzOH cat order'!$G$12","v":5.8186245142069111E-2},2700,null,{"$f":"'5 equiv. BzOH cat order'!T17/80","v":0.38909350950611166},"N/A"]
[{"$f":"60*'P inhibition, or deactivation'!D18","v":60},{"$f":"'P inhibition, or deactivation'!F18/'P inhibition, or deactivation'!$F$12","v":0.41891730851622305},{"$f":"'P inhibition, or deactivation'!G18/'P inhibition, or deactivation'!$F$12","v":0.55004407601529071},{"$f":"('P inhibition, or deactivation'!H62)/'P inhibition, or deactivation'!$F$12","v":3.1038615468486349E-2},{"$f":"60*'P inhibition, or deactivation'!H20","v":120},{"$f":"'P inhibition, or deactivation'!K20/'P inhibition, or deactivation'!$K$12","v":0.4237358726671025},{"$f":"'P inhibition, or deactivation'!L20/'P inhibition, or deactivation'!$K$12","v":1.5237129203019197},{"$f":"('P inhibition, or deactivation'!L62)/'P inhibition, or deactivation'!$K$12","v":5.3700840335376364E-4},{"$f":"60*'P inhibition, or deactivation'!M18","v":120},{"$f":"'P inhibition, or deactivation'!P18/'P inhibition, or deactivation'!$P$12","v":0.51523618753568801},{"$f":"'P inhibition, or deactivation'!Q18/'P inhibition, or deactivation'!$P$12","v":3.3490341237710997},{"$f":"'P inhibition, or deactivation'!P62/'P inhibition, or deactivation'!$P$12","v":2.0345073308596789E-2},{"$f":"60*'P spiked reactions'!D18","v":120},{"$f":"'P spiked reactions'!G18/'P spiked reactions'!$G$12","v":0.58937731681255234},{"$f":"'P spiked reactions'!H18/'P spiked reactions'!$G$12","v":1.3004631161867022},{"$f":"('P spiked reactions'!G61)/'P spiked reactions'!$G$12","v":7.1823798085764293E-2},{"$f":"60*'P spiked reactions'!I18","v":90},{"$f":"'P spiked reactions'!L18/'P spiked reactions'!$L$12","v":0.47637632846080036},{"$f":"'P spiked reactions'!M18/'P spiked reactions'!$L$12","v":1.498743207748686},{"$f":"('P spiked reactions'!K61)/'P spiked reactions'!$L$12","v":7.6231680923999814E-3},{"$f":"60*'P spiked reactions'!N18","v":60},{"$f":"'P spiked reactions'!Q18/'P spiked reactions'!$Q$12","v":0.70269266152945098},{"$f":"'P spiked reactions'!R18/'P spiked reactions'!$Q$12","v":1.1939789865716086},{"$f":"'P spiked reactions'!O61/'P spiked reactions'!$Q$12","v":6.2609181532115754E-2},{"$f":"60*60*'IS order'!J18","v":3600},{"$f":"'IS order'!M18/'IS order'!$M$12","v":0.40194050123155123},{"$f":"'IS order'!N18/'IS order'!$M$12","v":0.5495423650332486},{"$f":"'IS order'!L61/'IS order'!$M$12","v":4.8517133735200106E-2},{"$f":"60*60*'cat order'!J18","v":3600},{"$f":"'cat order'!M18/'cat order'!$M$12","v":0.44326098044752221},{"$f":"'cat order'!N18/'cat order'!$M$12","v":0.50559229696194163},{"$f":"('cat order'!K61)/'cat order'!$M$12","v":5.1146722590536195E-2},{"$f":"60*60*'PhCONHBr order'!J18","v":3600},{"$f":"'PhCONHBr order'!M18/'PhCONHBr order'!$M$12","v":0.51095381136719953},{"$f":"'PhCONHBr order'!N18/'PhCONHBr order'!$M$12","v":0.44640425576444054},{"$f":"('PhCONHBr order'!L60)/'PhCONHBr order'!$M$12","v":4.2641932868359933E-2},{"$f":"60*60*#REF!","v":{"$error":"#REF!"}},{"$f":"#REF!/#REF!","v":{"$error":"#REF!"}},{"$f":"#REF!/#REF!","v":{"$error":"#REF!"}},{"$f":"(#REF!)/#REF!","v":{"$error":"#REF!"}},{"$f":"60*60*'SM order'!J18","v":3600},{"$f":"'SM order'!M18/'SM order'!$M$12","v":0.1169181972262172},{"$f":"'SM order'!O18/'SM order'!$M$12","v":0.77741437346249664},{"$f":"'SM order'!L60/('SM order'!$M$12)","v":0.10566742931128624},{"$f":"60*60*'cat order'!P19","v":5400},{"$f":"'cat order'!S19/'cat order'!$S$12","v":0.44956248138748306},{"$f":"'cat order'!T19/'cat order'!$S$12","v":0.43698177669915883},{"$f":"('cat order'!O61)/'cat order'!$S$12","v":0.11345574191335808},{"$f":"1*60*60","v":3600},{"$f":"#REF!/#REF!","v":{"$error":"#REF!"}},{"$f":"#REF!/#REF!","v":{"$error":"#REF!"}},{"$f":"#REF!/#REF!","v":{"$error":"#REF!"}},3600,{"$f":"'5 equiv. BzOH cat order'!G18/'5 equiv. BzOH cat order'!$G$12","v":2.3922547310928445E-2},{"$f":"'5 equiv. BzOH cat order'!H18/'5 equiv. BzOH cat order'!$G$12","v":0.91969594172051927},{"$f":"'5 equiv. BzOH cat order'!G129/'5 equiv. BzOH cat order'!$G$12","v":5.6381510968552241E-2},3600,null,{"$f":"'5 equiv. BzOH cat order'!T18/80","v":0.46810819700734541},"N/A"]
[{"$f":"60*'P inhibition, or deactivation'!D19","v":90},{"$f":"'P inhibition, or deactivation'!F19/'P inhibition, or deactivation'!$F$12","v":0.36143564772599862},{"$f":"'P inhibition, or deactivation'!G19/'P inhibition, or deactivation'!$F$12","v":0.59990813178923919},{"$f":"('P inhibition, or deactivation'!H63)/'P inhibition, or deactivation'!$F$12","v":3.8656220484762097E-2},{"$f":"60*'P inhibition, or deactivation'!H21","v":180},{"$f":"'P inhibition, or deactivation'!K21/'P inhibition, or deactivation'!$K$12","v":0.36921320151465953},{"$f":"'P inhibition, or deactivation'!L21/'P inhibition, or deactivation'!$K$12","v":1.5780487930282887},{"$f":"('P inhibition, or deactivation'!L63)/'P inhibition, or deactivation'!$K$12","v":5.1674304852321745E-3},{"$f":"60*'P inhibition, or deactivation'!M19","v":180},{"$f":"'P inhibition, or deactivation'!P19/'P inhibition, or deactivation'!$P$12","v":0.41284204122479051},{"$f":"'P inhibition, or deactivation'!Q19/'P inhibition, or deactivation'!$P$12","v":3.414140126748817},{"$f":"'P inhibition, or deactivation'!P63/'P inhibition, or deactivation'!$P$12","v":5.7633216641776834E-2},{"$f":"60*'P spiked reactions'!D19","v":180},{"$f":"'P spiked reactions'!G19/'P spiked reactions'!$G$12","v":0.51404574012416271},{"$f":"'P spiked reactions'!H19/'P spiked reactions'!$G$12","v":1.3642239815019415},{"$f":"('P spiked reactions'!G62)/'P spiked reactions'!$G$12","v":8.3394509458914703E-2},{"$f":"60*'P spiked reactions'!I19","v":120},{"$f":"'P spiked reactions'!L19/'P spiked reactions'!$L$12","v":0.42969024110902571},{"$f":"'P spiked reactions'!M19/'P spiked reactions'!$L$12","v":1.5421641067947829},{"$f":"('P spiked reactions'!K62)/'P spiked reactions'!$L$12","v":1.0888356398077566E-2},{"$f":"60*'P spiked reactions'!N19","v":90},{"$f":"'P spiked reactions'!Q19/'P spiked reactions'!$Q$12","v":0.63694041940469082},{"$f":"'P spiked reactions'!R19/'P spiked reactions'!$Q$12","v":1.2513282788218902},{"$f":"'P spiked reactions'!O62/'P spiked reactions'!$Q$12","v":7.1012131406594334E-2},{"$f":"60*60*'IS order'!J19","v":5400},{"$f":"'IS order'!M19/'IS order'!$M$12","v":0.34375891906600492},{"$f":"'IS order'!N19/'IS order'!$M$12","v":0.59886547076475072},{"$f":"'IS order'!L62/'IS order'!$M$12","v":5.7375610169244341E-2},{"$f":"60*60*'cat order'!J19","v":5400},{"$f":"'cat order'!M19/'cat order'!$M$12","v":0.38295614544100182},{"$f":"'cat order'!N19/'cat order'!$M$12","v":0.55686045099345183},{"$f":"('cat order'!K62)/'cat order'!$M$12","v":6.0183403565546356E-2},{"$f":"60*60*'PhCONHBr order'!J19","v":5400},{"$f":"'PhCONHBr order'!M19/'PhCONHBr order'!$M$12","v":0.46715447303475116},{"$f":"'PhCONHBr order'!N19/'PhCONHBr order'!$M$12","v":0.48820356699964651},{"$f":"('PhCONHBr order'!L61)/'PhCONHBr order'!$M$12","v":4.4641959965602301E-2},{"$f":"60*60*#REF!","v":{"$error":"#REF!"}},{"$f":"#REF!/#REF!","v":{"$error":"#REF!"}},{"$f":"#REF!/#REF!","v":{"$error":"#REF!"}},{"$f":"(#REF!)/#REF!","v":{"$error":"#REF!"}},{"$f":"60*60*'SM order'!J19","v":5400},{"$f":"'SM order'!M19/'SM order'!$M$12","v":6.8640820223023896E-2},{"$f":"'SM order'!O19/'SM order'!$M$12","v":0.80674802328381279},{"$f":"'SM order'!L61/('SM order'!$M$12)","v":0.12461115649316322},{"$f":"60*60*'cat order'!P20","v":7200},{"$f":"'cat order'!S20/'cat order'!$S$12","v":0.41482289658892368},{"$f":"'cat order'!T20/'cat order'!$S$12","v":0.47873225142551029},{"$f":"('cat order'!O62)/'cat order'!$S$12","v":0.10644485198556602},{"$f":"1.5*60*60","v":5400},{"$f":"#REF!/#REF!","v":{"$error":"#REF!"}},{"$f":"#REF!/#REF!","v":{"$error":"#REF!"}},{"$f":"#REF!/#REF!","v":{"$error":"#REF!"}},5400,{"$f":"'5 equiv. BzOH cat order'!G19/'5 equiv. BzOH cat order'!$G$12","v":9.1668025411367482E-3},{"$f":"'5 equiv. BzOH cat order'!H19/'5 equiv. BzOH cat order'!$G$12","v":0.93151864041459509},{"$f":"'5 equiv. BzOH cat order'!G130/'5 equiv. BzOH cat order'!$G$12","v":5.9314557044268183E-2},5400,null,{"$f":"'5 equiv. BzOH cat order'!T19/80","v":0.59086464060452193},"N/A"]
[{"$f":"60*'P inhibition, or deactivation'!D20","v":120},{"$f":"'P inhibition, or deactivation'!F20/'P inhibition, or deactivation'!$F$12","v":0.32193209308729109},{"$f":"'P inhibition, or deactivation'!G20/'P inhibition, or deactivation'!$F$12","v":0.63068070030239021},{"$f":"('P inhibition, or deactivation'!H64)/'P inhibition, or deactivation'!$F$12","v":4.7387206610318741E-2},{"$f":"60*'P inhibition, or deactivation'!H22","v":240},{"$f":"'P inhibition, or deactivation'!K22/'P inhibition, or deactivation'!$K$12","v":0.32466670723401003},{"$f":"'P inhibition, or deactivation'!L22/'P inhibition, or deactivation'!$K$12","v":1.6143026717149245},{"$f":"('P inhibition, or deactivation'!L64)/'P inhibition, or deactivation'!$K$12","v":2.3424993438744622E-2},{"$f":"60*'P inhibition, or deactivation'!M20","v":240},{"$f":"'P inhibition, or deactivation'!P20/'P inhibition, or deactivation'!$P$12","v":0.38335537721213536},{"$f":"'P inhibition, or deactivation'!Q20/'P inhibition, or deactivation'!$P$12","v":3.4536882910416105},{"$f":"'P inhibition, or deactivation'!P64/'P inhibition, or deactivation'!$P$12","v":4.7571716361638393E-2},{"$f":"60*'P spiked reactions'!D20","v":240},{"$f":"'P spiked reactions'!G20/'P spiked reactions'!$G$12","v":0.45546686320278063},{"$f":"'P spiked reactions'!H20/'P spiked reactions'!$G$12","v":1.4062087496520776},{"$f":"('P spiked reactions'!G63)/'P spiked reactions'!$G$12","v":9.9988618230160684E-2},{"$f":"60*'P spiked reactions'!I20","v":180},{"$f":"'P spiked reactions'!L20/'P spiked reactions'!$L$12","v":0.36872990358695823},{"$f":"'P spiked reactions'!M20/'P spiked reactions'!$L$12","v":1.589373091180073},{"$f":"('P spiked reactions'!K63)/'P spiked reactions'!$L$12","v":2.4639709534854986E-2},{"$f":"60*'P spiked reactions'!N20","v":120},{"$f":"'P spiked reactions'!Q20/'P spiked reactions'!$Q$12","v":0.5822451027679052},{"$f":"'P spiked reactions'!R20/'P spiked reactions'!$Q$12","v":1.2941299319139332},{"$f":"'P spiked reactions'!O63/'P spiked reactions'!$Q$12","v":8.2905794951336889E-2},{"$f":"60*60*'IS order'!J20","v":7200},{"$f":"'IS order'!M20/'IS order'!$M$12","v":0.31206160456802784},{"$f":"'IS order'!N20/'IS order'!$M$12","v":0.6280913912852184},{"$f":"'IS order'!L63/'IS order'!$M$12","v":5.9847004146753743E-2},{"$f":"60*60*'cat order'!J20","v":7200},{"$f":"'cat order'!M20/'cat order'!$M$12","v":0.34485517510297237},{"$f":"'cat order'!N20/'cat order'!$M$12","v":0.59263676969066803},{"$f":"('cat order'!K63)/'cat order'!$M$12","v":6.2508055206359603E-2},{"$f":"60*60*'PhCONHBr order'!J20","v":7200},{"$f":"'PhCONHBr order'!M20/'PhCONHBr order'!$M$12","v":0.43372331150844201},{"$f":"'PhCONHBr order'!N20/'PhCONHBr order'!$M$12","v":0.51484674648135953},{"$f":"('PhCONHBr order'!L62)/'PhCONHBr order'!$M$12","v":5.1429942010198397E-2},{"$f":"60*60*#REF!","v":{"$error":"#REF!"}},{"$f":"#REF!/#REF!","v":{"$error":"#REF!"}},{"$f":"#REF!/#REF!","v":{"$error":"#REF!"}},{"$f":"(#REF!)/#REF!","v":{"$error":"#REF!"}},{"$f":"60*60*'SM order'!J20","v":7200},{"$f":"'SM order'!M20/'SM order'!$M$12","v":3.7933937455568938E-2},{"$f":"'SM order'!O20/'SM order'!$M$12","v":0.82341122160987834},{"$f":"'SM order'!L62/('SM order'!$M$12)","v":0.13865484093455263},{"$f":"60*60*'cat order'!P21","v":10800},{"$f":"'cat order'!S21/'cat order'!$S$12","v":0.36304842190506448},{"$f":"'cat order'!T21/'cat order'!$S$12","v":0.52895213571453004},{"$f":"('cat order'!O63)/'cat order'!$S$12","v":0.10799944238040549},{"$f":"2*60*60","v":7200},{"$f":"#REF!/#REF!","v":{"$error":"#REF!"}},{"$f":"#REF!/#REF!","v":{"$error":"#REF!"}},{"$f":"#REF!/#REF!","v":{"$error":"#REF!"}},7200,{"$f":"'5 equiv. BzOH cat order'!G20/'5 equiv. BzOH cat order'!$G$12","v":3.6416367004394163E-3},{"$f":"'5 equiv. BzOH cat order'!H20/'5 equiv. BzOH cat order'!$G$12","v":0.93757839215994743},{"$f":"'5 equiv. BzOH cat order'!G131/'5 equiv. BzOH cat order'!$G$12","v":5.8779971139613127E-2},7200,null,{"$f":"'5 equiv. BzOH cat order'!T20/80","v":0.64890572597521934},"N/A"]
[{"$f":"60*'P inhibition, or deactivation'!D21","v":180},{"$f":"'P inhibition, or deactivation'!F21/'P inhibition, or deactivation'!$F$12","v":0.27831795005957644},{"$f":"'P inhibition, or deactivation'!G21/'P inhibition, or deactivation'!$F$12","v":0.67000728068703685},{"$f":"('P inhibition, or deactivation'!H65)/'P inhibition, or deactivation'!$F$12","v":5.1674769253386779E-2},{"$f":"60*'P inhibition, or deactivation'!H23","v":300},{"$f":"'P inhibition, or deactivation'!K23/'P inhibition, or deactivation'!$K$12","v":0.29256028521512911},{"$f":"'P inhibition, or deactivation'!L23/'P inhibition, or deactivation'!$K$12","v":1.6383945881359199},{"$f":"('P inhibition, or deactivation'!L65)/'P inhibition, or deactivation'!$K$12","v":2.3611791864818692E-2},{"$f":"60*'P inhibition, or deactivation'!M21","v":300},{"$f":"'P inhibition, or deactivation'!P21/'P inhibition, or deactivation'!$P$12","v":0.34592335290342813},{"$f":"'P inhibition, or deactivation'!Q21/'P inhibition, or deactivation'!$P$12","v":3.4901796499531677},{"$f":"'P inhibition, or deactivation'!P65/'P inhibition, or deactivation'!$P$12","v":4.851238175878838E-2},{"$f":"60*'P spiked reactions'!D21","v":300},{"$f":"'P spiked reactions'!G21/'P spiked reactions'!$G$12","v":0.41325067205291727},{"$f":"'P spiked reactions'!H21/'P spiked reactions'!$G$12","v":1.4349007406719156},{"$f":"('P spiked reactions'!G64)/'P spiked reactions'!$G$12","v":0.11351281836018604},{"$f":"60*'P spiked reactions'!I21","v":240},{"$f":"'P spiked reactions'!L21/'P spiked reactions'!$L$12","v":0.32170888603827807},{"$f":"'P spiked reactions'!M21/'P spiked reactions'!$L$12","v":1.6297912924381703},{"$f":"('P spiked reactions'!K64)/'P spiked reactions'!$L$12","v":3.1242525825437666E-2},{"$f":"60*'P spiked reactions'!N21","v":180},{"$f":"'P spiked reactions'!Q21/'P spiked reactions'!$Q$12","v":0.49953732459106859},{"$f":"'P spiked reactions'!R21/'P spiked reactions'!$Q$12","v":1.3556407985255565},{"$f":"'P spiked reactions'!O64/'P spiked reactions'!$Q$12","v":0.10410270651655018},{"$f":"60*60*'IS order'!J21","v":10800},{"$f":"'IS order'!M21/'IS order'!$M$12","v":0.26127956075593006},{"$f":"'IS order'!N21/'IS order'!$M$12","v":0.66433724326683918},{"$f":"'IS order'!L64/'IS order'!$M$12","v":7.4383195977230726E-2},{"$f":"60*60*'cat order'!J21","v":10800},{"$f":"'cat order'!M21/'cat order'!$M$12","v":0.29314680495762996},{"$f":"'cat order'!N21/'cat order'!$M$12","v":0.6334649422654377},{"$f":"('cat order'!K64)/'cat order'!$M$12","v":7.3388252776932297E-2},{"$f":"60*60*'PhCONHBr order'!J21","v":10920},{"$f":"'PhCONHBr order'!M21/'PhCONHBr order'!$M$12","v":0.39307092077089617},{"$f":"'PhCONHBr order'!N21/'PhCONHBr order'!$M$12","v":0.55851185547157967},{"$f":"('PhCONHBr order'!L63)/'PhCONHBr order'!$M$12","v":4.8417223757524115E-2},{"$f":"60*60*#REF!","v":{"$error":"#REF!"}},{"$f":"#REF!/#REF!","v":{"$error":"#REF!"}},{"$f":"#REF!/#REF!","v":{"$error":"#REF!"}},{"$f":"(#REF!)/#REF!","v":{"$error":"#REF!"}},{"$f":"60*60*'SM order'!J21","v":10800},{"$f":"'SM order'!M21/'SM order'!$M$12","v":1.2752615149357403E-2},{"$f":"'SM order'!O21/'SM order'!$M$12","v":0.85438319228070403},{"$f":"'SM order'!L63/('SM order'!$M$12)","v":0.13286419256993862},{"$f":"60*60*'cat order'!P22","v":14400},{"$f":"'cat order'!S22/'cat order'!$S$12","v":0.32995451480833454},{"$f":"'cat order'!T22/'cat order'!$S$12","v":0.56392973435713856},{"$f":"('cat order'!O64)/'cat order'!$S$12","v":0.10611575083452685},{"$f":"3*60*60","v":10800},{"$f":"#REF!/#REF!","v":{"$error":"#REF!"}},{"$f":"#REF!/#REF!","v":{"$error":"#REF!"}},{"$f":"#REF!/#REF!","v":{"$error":"#REF!"}},10800,{"$f":"'5 equiv. BzOH cat order'!G21/'5 equiv. BzOH cat order'!$G$12","v":0},{"$f":"'5 equiv. BzOH cat order'!H21/'5 equiv. BzOH cat order'!$G$12","v":0.94885412892914156},{"$f":"'5 equiv. BzOH cat order'!G132/'5 equiv. BzOH cat order'!$G$12","v":5.1145871070858391E-2},10800,null,{"$f":"'5 equiv. BzOH cat order'!T21/80","v":0.75388039478853508},"N/A"]
[{"$f":"60*'P inhibition, or deactivation'!D22","v":240},{"$f":"'P inhibition, or deactivation'!F22/'P inhibition, or deactivation'!$F$12","v":0.23981828213937531},{"$f":"'P inhibition, or deactivation'!G22/'P inhibition, or deactivation'!$F$12","v":0.69960591549927365},{"$f":"('P inhibition, or deactivation'!H66)/'P inhibition, or deactivation'!$F$12","v":6.0575802361351058E-2},{"$f":"60*'P inhibition, or deactivation'!H24","v":360},{"$f":"'P inhibition, or deactivation'!K24/'P inhibition, or deactivation'!$K$12","v":0.26789356888960508},{"$f":"'P inhibition, or deactivation'!L24/'P inhibition, or deactivation'!$K$12","v":1.6645123472025338},{"$f":"('P inhibition, or deactivation'!L66)/'P inhibition, or deactivation'!$K$12","v":3.1904407458832419E-2},{"$f":"60*'P inhibition, or deactivation'!M22","v":360},{"$f":"'P inhibition, or deactivation'!P22/'P inhibition, or deactivation'!$P$12","v":0.3128300717380369},{"$f":"'P inhibition, or deactivation'!Q22/'P inhibition, or deactivation'!$P$12","v":3.5160602710902014},{"$f":"'P inhibition, or deactivation'!P66/'P inhibition, or deactivation'!$P$12","v":5.5725041787145976E-2},{"$f":"60*'P spiked reactions'!D22","v":360},{"$f":"'P spiked reactions'!G22/'P spiked reactions'!$G$12","v":0.3737714378985183},{"$f":"'P spiked reactions'!H22/'P spiked reactions'!$G$12","v":1.4577984151475076},{"$f":"('P spiked reactions'!G65)/'P spiked reactions'!$G$12","v":0.1300943780389931},{"$f":"60*'P spiked reactions'!I22","v":300},{"$f":"'P spiked reactions'!L22/'P spiked reactions'!$L$12","v":0.29306696494559958},{"$f":"'P spiked reactions'!M22/'P spiked reactions'!$L$12","v":1.6533324318836582},{"$f":"('P spiked reactions'!K65)/'P spiked reactions'!$L$12","v":3.6343307472628532E-2},{"$f":"60*'P spiked reactions'!N22","v":240},{"$f":"'P spiked reactions'!Q22/'P spiked reactions'!$Q$12","v":0.45379775549127216},{"$f":"'P spiked reactions'!R22/'P spiked reactions'!$Q$12","v":1.3925039143934752},{"$f":"'P spiked reactions'!O65/'P spiked reactions'!$Q$12","v":0.11297915974842783},{"$f":"60*60*'IS order'!J22","v":14400},{"$f":"'IS order'!M22/'IS order'!$M$12","v":0.22883497172200867},{"$f":"'IS order'!N22/'IS order'!$M$12","v":0.69049628601124513},{"$f":"'IS order'!L65/'IS order'!$M$12","v":8.0668742266746182E-2},{"$f":"60*60*'cat order'!J22","v":14400},{"$f":"'cat order'!M22/'cat order'!$M$12","v":0.25744829891805743},{"$f":"'cat order'!N22/'cat order'!$M$12","v":0.65672273269961545},{"$f":"('cat order'!K65)/'cat order'!$M$12","v":8.5828968382327092E-2},{"$f":"60*60*'PhCONHBr order'!J22","v":14400},{"$f":"'PhCONHBr order'!M22/'PhCONHBr order'!$M$12","v":0.362304465039259},{"$f":"'PhCONHBr order'!N22/'PhCONHBr order'!$M$12","v":0.57856064925070472},{"$f":"('PhCONHBr order'!L64)/'PhCONHBr order'!$M$12","v":5.9134885710036278E-2},{"$f":"60*60*#REF!","v":{"$error":"#REF!"}},{"$f":"#REF!/#REF!","v":{"$error":"#REF!"}},{"$f":"#REF!/#REF!","v":{"$error":"#REF!"}},{"$f":"(#REF!)/#REF!","v":{"$error":"#REF!"}},{"$f":"60*60*'SM order'!J22","v":14400},{"$f":"'SM order'!M22/'SM order'!$M$12","v":5.8742750571797392E-3},{"$f":"'SM order'!O22/'SM order'!$M$12","v":0.86374915933532581},{"$f":"'SM order'!L64/('SM order'!$M$12)","v":0.1303765656074945},{"$f":"60*60*'cat order'!P23","v":18000},{"$f":"'cat order'!S23/'cat order'!$S$12","v":0.3017894809434386},{"$f":"'cat order'!T23/'cat order'!$S$12","v":0.5836435479817168},{"$f":"('cat order'!O65)/'cat order'!$S$12","v":0.11456697107484462},{"$f":"4*60*60","v":14400},{"$f":"#REF!/#REF!","v":{"$error":"#REF!"}},{"$f":"#REF!/#REF!","v":{"$error":"#REF!"}},{"$f":"#REF!/#REF!","v":{"$error":"#REF!"}},14400,{"$f":"'5 equiv. BzOH cat order'!G22/'5 equiv. BzOH cat order'!$G$12","v":0},{"$f":"'5 equiv. BzOH cat order'!H22/'5 equiv. BzOH cat order'!$G$12","v":0.94885412892914156},{"$f":"'5 equiv. BzOH cat order'!G133/'5 equiv. BzOH cat order'!$G$12","v":5.1145871070858391E-2},14400,null,{"$f":"'5 equiv. BzOH cat order'!T22/80","v":0.80629968579689693},"N/A"]
[{"$f":"60*'P inhibition, or deactivation'!D23","v":300},{"$f":"'P inhibition, or deactivation'!F23/'P inhibition, or deactivation'!$F$12","v":0.21866255945344087},{"$f":"'P inhibition, or deactivation'!G23/'P inhibition, or deactivation'!$F$12","v":0.72492537858195993},{"$f":"('P inhibition, or deactivation'!H67)/'P inhibition, or deactivation'!$F$12","v":5.6412061964599275E-2},{"$f":"60*'P inhibition, or deactivation'!H25","v":420},{"$f":"'P inhibition, or deactivation'!K25/'P inhibition, or deactivation'!$K$12","v":0.24609929205299388},{"$f":"'P inhibition, or deactivation'!L25/'P inhibition, or deactivation'!$K$12","v":1.679263773984381},{"$f":"('P inhibition, or deactivation'!L67)/'P inhibition, or deactivation'!$K$12","v":3.9918913056717929E-2},{"$f":"60*'P inhibition, or deactivation'!M23","v":420},{"$f":"'P inhibition, or deactivation'!P23/'P inhibition, or deactivation'!$P$12","v":0.28115723653242303},{"$f":"'P inhibition, or deactivation'!Q23/'P inhibition, or deactivation'!$P$12","v":3.5336445003816057},{"$f":"'P inhibition, or deactivation'!P67/'P inhibition, or deactivation'!$P$12","v":6.981364770135548E-2},{"$f":"60*'P spiked reactions'!D23","v":420},{"$f":"'P spiked reactions'!G23/'P spiked reactions'!$G$12","v":0.35440203240504475},{"$f":"'P spiked reactions'!H23/'P spiked reactions'!$G$12","v":1.4798728888951667},{"$f":"('P spiked reactions'!G66)/'P spiked reactions'!$G$12","v":0.12738930978480742},{"$f":"60*'P spiked reactions'!I23","v":360},{"$f":"'P spiked reactions'!L23/'P spiked reactions'!$L$12","v":0.26552634698553301},{"$f":"'P spiked reactions'!M23/'P spiked reactions'!$L$12","v":1.6633549211819858},{"$f":"('P spiked reactions'!K66)/'P spiked reactions'!$L$12","v":5.3861436134367321E-2},{"$f":"60*'P spiked reactions'!N23","v":300},{"$f":"'P spiked reactions'!Q23/'P spiked reactions'!$Q$12","v":0.40848756331182978},{"$f":"'P spiked reactions'!R23/'P spiked reactions'!$Q$12","v":1.4245457847078828},{"$f":"'P spiked reactions'!O66/'P spiked reactions'!$Q$12","v":0.12624748161346258},{"$f":"60*60*'IS order'!J23","v":18000},{"$f":"'IS order'!M23/'IS order'!$M$12","v":0.2056710071878306},{"$f":"'IS order'!N23/'IS order'!$M$12","v":0.70961033597893008},{"$f":"'IS order'!L66/'IS order'!$M$12","v":8.4718656833239342E-2},{"$f":"60*60*'cat order'!J23","v":18000},{"$f":"'cat order'!M23/'cat order'!$M$12","v":0.23346136520027713},{"$f":"'cat order'!N23/'cat order'!$M$12","v":0.67725533557170714},{"$f":"('cat order'!K66)/'cat order'!$M$12","v":8.9283299228015714E-2},{"$f":"60*60*'PhCONHBr order'!J23","v":18000},{"$f":"'PhCONHBr order'!M23/'PhCONHBr order'!$M$12","v":0.3450614624158545},{"$f":"'PhCONHBr order'!N23/'PhCONHBr order'!$M$12","v":0.59714999347521902},{"$f":"('PhCONHBr order'!L65)/'PhCONHBr order'!$M$12","v":5.7788544108926469E-2},{"$f":"60*60*#REF!","v":{"$error":"#REF!"}},{"$f":"#REF!/#REF!","v":{"$error":"#REF!"}},{"$f":"#REF!/#REF!","v":{"$error":"#REF!"}},{"$f":"(#REF!)/#REF!","v":{"$error":"#REF!"}},{"$f":"60*60*'SM order'!J23","v":18000},{"$f":"'SM order'!M23/'SM order'!$M$12","v":1.1560775269172498E-3},{"$f":"'SM order'!O23/'SM order'!$M$12","v":0.86753781389986628},{"$f":"'SM order'!L65/('SM order'!$M$12)","v":0.13130610857321634},{"$f":"60*60*'cat order'!P24","v":21600},{"$f":"'cat order'!S24/'cat order'!$S$12","v":0.27420667062788295},{"$f":"'cat order'!T24/'cat order'!$S$12","v":0.60123814057470992},{"$f":"('cat order'!O66)/'cat order'!$S$12","v":0.12455518879740714},{"$f":"5*60*60","v":18000},{"$f":"#REF!/#REF!","v":{"$error":"#REF!"}},{"$f":"#REF!/#REF!","v":{"$error":"#REF!"}},{"$f":"#REF!/#REF!","v":{"$error":"#REF!"}},18000,{"$f":"'5 equiv. BzOH cat order'!G23/'5 equiv. BzOH cat order'!$G$12","v":0},{"$f":"'5 equiv. BzOH cat order'!H23/'5 equiv. BzOH cat order'!$G$12","v":0.94885412892914156},{"$f":"'5 equiv. BzOH cat order'!G134/'5 equiv. BzOH cat order'!$G$12","v":5.1145871070858391E-2},18000,null,{"$f":"'5 equiv. BzOH cat order'!T23/80","v":0.83821899506647668},"N/A"]
[{"$f":"60*'P inhibition, or deactivation'!D24","v":360},{"$f":"'P inhibition, or deactivation'!F24/'P inhibition, or deactivation'!$F$12","v":0.19837612696240728},{"$f":"'P inhibition, or deactivation'!G24/'P inhibition, or deactivation'!$F$12","v":0.73953201970443339},{"$f":"('P inhibition, or deactivation'!H68)/'P inhibition, or deactivation'!$F$12","v":6.2091853333159232E-2},{"$f":"60*'P inhibition, or deactivation'!H26","v":480},{"$f":"'P inhibition, or deactivation'!K26/'P inhibition, or deactivation'!$K$12","v":0.22604325873672371},{"$f":"'P inhibition, or deactivation'!L26/'P inhibition, or deactivation'!$K$12","v":1.6867990287472014},{"$f":"('P inhibition, or deactivation'!L68)/'P inhibition, or deactivation'!$K$12","v":3.8467870315627914E-2},{"$f":"60*'P inhibition, or deactivation'!M24","v":480},{"$f":"'P inhibition, or deactivation'!P24/'P inhibition, or deactivation'!$P$12","v":0.26034822186404899},{"$f":"'P inhibition, or deactivation'!Q24/'P inhibition, or deactivation'!$P$12","v":3.5517729120521535},{"$f":"'P inhibition, or deactivation'!P68/'P inhibition, or deactivation'!$P$12","v":7.2494250699181625E-2},{"$f":"60*'P spiked reactions'!D24","v":480},{"$f":"'P spiked reactions'!G24/'P spiked reactions'!$G$12","v":0.32921174184707241},{"$f":"'P spiked reactions'!H24/'P spiked reactions'!$G$12","v":1.4947661771123277},{"$f":"('P spiked reactions'!G67)/'P spiked reactions'!$G$12","v":0.13768631212561883},{"$f":"60*'P spiked reactions'!I24","v":420},{"$f":"'P spiked reactions'!L24/'P spiked reactions'!$L$12","v":0.24371271714541601},{"$f":"'P spiked reactions'!M24/'P spiked reactions'!$L$12","v":1.6762615122004281},{"$f":"('P spiked reactions'!K67)/'P spiked reactions'!$L$12","v":6.2768474956042097E-2},{"$f":"60*'P spiked reactions'!N24","v":360},{"$f":"'P spiked reactions'!Q24/'P spiked reactions'!$Q$12","v":0.37261634735556476},{"$f":"'P spiked reactions'!R24/'P spiked reactions'!$Q$12","v":1.451178412642993},{"$f":"'P spiked reactions'!O67/'P spiked reactions'!$Q$12","v":0.13548606963461748},{"$f":"60*60*'IS order'!J24","v":21600},{"$f":"'IS order'!M24/'IS order'!$M$12","v":0.18487439916573203},{"$f":"'IS order'!N24/'IS order'!$M$12","v":0.72340496519982744},{"$f":"'IS order'!L67/'IS order'!$M$12","v":9.1720635634440481E-2},{"$f":"60*60*'cat order'!J24","v":21600},{"$f":"'cat order'!M24/'cat order'!$M$12","v":0.21021085493036762},{"$f":"'cat order'!N24/'cat order'!$M$12","v":0.69326085510170532},{"$f":"('cat order'!K67)/'cat order'!$M$12","v":9.6528289967927047E-2},{"$f":"60*60*'PhCONHBr order'!J24","v":21600},{"$f":"'PhCONHBr order'!M24/'PhCONHBr order'!$M$12","v":0.32880362906857258},{"$f":"'PhCONHBr order'!N24/'PhCONHBr order'!$M$12","v":0.61042405583628523},{"$f":"('PhCONHBr order'!L66)/'PhCONHBr order'!$M$12","v":6.0772315095142165E-2},{"$f":"60*60*#REF!","v":{"$error":"#REF!"}},{"$f":"#REF!/#REF!","v":{"$error":"#REF!"}},{"$f":"#REF!/#REF!","v":{"$error":"#REF!"}},{"$f":"(#REF!)/#REF!","v":{"$error":"#REF!"}},{"$f":"60*60*'SM order'!J24","v":21600},{"$f":"'SM order'!M24/'SM order'!$M$12","v":0},{"$f":"'SM order'!O24/'SM order'!$M$12","v":0.86606190153864704},{"$f":"'SM order'!L66/('SM order'!$M$12)","v":0.13393809846135293},{"$f":"60*60*'cat order'!P25","v":25200},{"$f":"'cat order'!S25/'cat order'!$S$12","v":0.25526104191961801},{"$f":"'cat order'!T25/'cat order'!$S$12","v":0.61646944098215084},{"$f":"('cat order'!O67)/'cat order'!$S$12","v":0.12826951709823109},{"$f":"6*60*60","v":21600},{"$f":"#REF!/#REF!","v":{"$error":"#REF!"}},{"$f":"#REF!/#REF!","v":{"$error":"#REF!"}},{"$f":"#REF!/#REF!","v":{"$error":"#REF!"}},21600,{"$f":"'5 equiv. BzOH cat order'!G24/'5 equiv. BzOH cat order'!$G$12","v":0},{"$f":"'5 equiv. BzOH cat order'!H24/'5 equiv. BzOH cat order'!$G$12","v":0.94885412892914156},{"$f":"'5 equiv. BzOH cat order'!G135/'5 equiv. BzOH cat order'!$G$12","v":5.1145871070858391E-2},21600,null,{"$f":"'5 equiv. BzOH cat order'!T24/80","v":0.85789406805645141},"N/A"]
[{"$f":"60*'P inhibition, or deactivation'!D25","v":420},{"$f":"'P inhibition, or deactivation'!F25/'P inhibition, or deactivation'!$F$12","v":0.1847684655376074},{"$f":"'P inhibition, or deactivation'!G25/'P inhibition, or deactivation'!$F$12","v":0.75},{"$f":"('P inhibition, or deactivation'!H69)/'P inhibition, or deactivation'!$F$12","v":6.5231534462392618E-2},null,null,null,null,null,null,null,null,null,null,null,null,null,null,null,null,{"$f":"60*'P spiked reactions'!N25","v":420},{"$f":"'P spiked reactions'!Q25/'P spiked reactions'!$Q$12","v":0.34053986331836017},{"$f":"'P spiked reactions'!R25/'P spiked reactions'!$Q$12","v":1.4705555784197124},{"$f":"'P spiked reactions'!O68/'P spiked reactions'!$Q$12","v":0.14818538789510285},{"$f":"60*60*'IS order'!J25","v":25200},{"$f":"'IS order'!M25/'IS order'!$M$12","v":0.16949522322117005},{"$f":"'IS order'!N25/'IS order'!$M$12","v":0.73418913659750651},{"$f":"'IS order'!L68/'IS order'!$M$12","v":9.6315640181323423E-2},{"$f":"60*60*'cat order'!J25","v":25200},{"$f":"'cat order'!M25/'cat order'!$M$12","v":0.19536722908260734},{"$f":"'cat order'!N25/'cat order'!$M$12","v":0.70794568076193265},{"$f":"('cat order'!K68)/'cat order'!$M$12","v":9.6687090155460065E-2},{"$f":"60*60*'PhCONHBr order'!J25","v":25200},{"$f":"'PhCONHBr order'!M25/'PhCONHBr order'!$M$12","v":0.31534558665363871},{"$f":"'PhCONHBr order'!N25/'PhCONHBr order'!$M$12","v":0.62038528705824725},{"$f":"('PhCONHBr order'!L67)/'PhCONHBr order'!$M$12","v":6.426912628811407E-2},{"$f":"60*60*#REF!","v":{"$error":"#REF!"}},{"$f":"#REF!/#REF!","v":{"$error":"#REF!"}},{"$f":"#REF!/#REF!","v":{"$error":"#REF!"}},{"$f":"(#REF!)/#REF!","v":{"$error":"#REF!"}},{"$f":"60*60*'SM order'!J25","v":25200},{"$f":"'SM order'!M25/'SM order'!$M$12","v":0},{"$f":"'SM order'!O25/'SM order'!$M$12","v":0.87063583356561491},{"$f":"'SM order'!L67/('SM order'!$M$12)","v":1.1477247622371665},{"$f":"60*60*'cat order'!P26","v":28800},{"$f":"'cat order'!S26/'cat order'!$S$12","v":0.23482951795658755},{"$f":"'cat order'!T26/'cat order'!$S$12","v":0.62932358961929036},{"$f":"('cat order'!O68)/'cat order'!$S$12","v":0.1358468924241221},{"$f":"7*60*60","v":25200},{"$f":"#REF!/#REF!","v":{"$error":"#REF!"}},{"$f":"#REF!/#REF!","v":{"$error":"#REF!"}},{"$f":"#REF!/#REF!","v":{"$error":"#REF!"}},25200,{"$f":"'5 equiv. BzOH cat order'!G25/'5 equiv. BzOH cat order'!$G$12","v":0},{"$f":"'5 equiv. BzOH cat order'!H25/'5 equiv. BzOH cat order'!$G$12","v":0.94885412892914156},{"$f":"'5 equiv. BzOH cat order'!G136/'5 equiv. BzOH cat order'!$G$12","v":5.1145871070858391E-2},25200,null,{"$f":"'5 equiv. BzOH cat order'!T25/80","v":0.8685722500274371},"N/A"]
[{"$f":"60*'P inhibition, or deactivation'!D26","v":480},{"$f":"'P inhibition, or deactivation'!F26/'P inhibition, or deactivation'!$F$12","v":0.17331642429356464},{"$f":"'P inhibition, or deactivation'!G26/'P inhibition, or deactivation'!$F$12","v":0.75911570848771104},{"$f":"('P inhibition, or deactivation'!H70)/'P inhibition, or deactivation'!$F$12","v":6.7567867218724278E-2},null,null,null,null,null,null,null,null,null,null,null,null,null,null,null,null,{"$f":"60*'P spiked reactions'!N26","v":480},{"$f":"'P spiked reactions'!Q26/'P spiked reactions'!$Q$12","v":0.32447929057827168},{"$f":"'P spiked reactions'!R26/'P spiked reactions'!$Q$12","v":1.4843981937549724},{"$f":"'P spiked reactions'!O69/'P spiked reactions'!$Q$12","v":0.15040334529993127},{"$f":"60*60*'IS order'!J26","v":28800},{"$f":"'IS order'!M26/'IS order'!$M$12","v":0.15382615485878831},{"$f":"'IS order'!N26/'IS order'!$M$12","v":0.74684738686601315},{"$f":"'IS order'!L69/'IS order'!$M$12","v":9.9326458275198579E-2},{"$f":"60*60*'cat order'!J26","v":28800},{"$f":"'cat order'!M26/'cat order'!$M$12","v":0.18244977789517583},{"$f":"'cat order'!N26/'cat order'!$M$12","v":0.71568477195189451},{"$f":"('cat order'!K69)/'cat order'!$M$12","v":0.10186545015292968},{"$f":"60*60*'PhCONHBr order'!J26","v":28800},{"$f":"'PhCONHBr order'!M26/'PhCONHBr order'!$M$12","v":0.30525366520041136},{"$f":"'PhCONHBr order'!N26/'PhCONHBr order'!$M$12","v":0.62893746015696739},{"$f":"('PhCONHBr order'!L68)/'PhCONHBr order'!$M$12","v":6.5808874642621237E-2},{"$f":"60*60*#REF!","v":{"$error":"#REF!"}},{"$f":"#REF!/#REF!","v":{"$error":"#REF!"}},{"$f":"#REF!/#REF!","v":{"$error":"#REF!"}},{"$f":"(#REF!)/#REF!","v":{"$error":"#REF!"}},{"$f":"60*60*'SM order'!J26","v":28800},{"$f":"'SM order'!M26/'SM order'!$M$12","v":0},{"$f":"'SM order'!O26/'SM order'!$M$12","v":0.86932104751017469},{"$f":"'SM order'!L68/('SM order'!$M$12)","v":1.1490395482926066},{"$f":"60*60*'cat order'!P27","v":32400},{"$f":"'cat order'!S27/'cat order'!$S$12","v":0.22378692759399274},{"$f":"'cat order'!T27/'cat order'!$S$12","v":0.64235049368814112},{"$f":"('cat order'!O69)/'cat order'!$S$12","v":0.13386257871786617},{"$f":"8*60*60","v":28800},{"$f":"#REF!/#REF!","v":{"$error":"#REF!"}},{"$f":"#REF!/#REF!","v":{"$error":"#REF!"}},{"$f":"#REF!/#REF!","v":{"$error":"#REF!"}},28800,{"$f":"'5 equiv. BzOH cat order'!G26/'5 equiv. BzOH cat order'!$G$12","v":0},{"$f":"'5 equiv. BzOH cat order'!H26/'5 equiv. BzOH cat order'!$G$12","v":0.94885412892914156},{"$f":"'5 equiv. BzOH cat order'!G137/'5 equiv. BzOH cat order'!$G$12","v":5.1145871070858391E-2},28800,null,{"$f":"'5 equiv. BzOH cat order'!T26/80","v":0.88039811282475178},"N/A"]
[null,null,null,null,null,null,null,null,null,null,null,null,null,null,null,null,null,null,null,null,null,null,null,null,null,null,null,null,null,null,null,null,null,null,null,null,null,null,null,null,null,null,null,null,{"$f":"60*60*'cat order'!P28","v":36000},{"$f":"'cat order'!S28/'cat order'!$S$12","v":0.21448648000776743},{"$f":"'cat order'!T28/'cat order'!$S$12","v":0.65447972859247527},{"$f":"('cat order'!O70)/'cat order'!$S$12","v":0.13103379139975732},null,null,null,null,null,null,null,null,32400,null,{"$f":"'5 equiv. BzOH cat order'!T27/80","v":0.88453100544015228},"N/A"]