
data_CB2202b

_audit_creation_method            'SHELXL-2018/3'
_shelx_SHELXL_version_number      '2018/3'
_chemical_name_systematic         ?
_chemical_name_common             ?
_chemical_melting_point           ?
_chemical_formula_moiety
 'C8 H5 Cl N2 O'
_chemical_formula_sum
 'C8 H5 Cl N2 O'
_chemical_formula_weight          180.59

loop_
 _atom_type_symbol
 _atom_type_description
 _atom_type_scat_dispersion_real
 _atom_type_scat_dispersion_imag
 _atom_type_scat_source
 'C'  'C'   0.0181   0.0091
 'International Tables Vol C Tables 4.2.6.8 and 6.1.1.4'
 'H'  'H'   0.0000   0.0000
 'International Tables Vol C Tables 4.2.6.8 and 6.1.1.4'
 'Cl'  'Cl'   0.3639   0.7018
 'International Tables Vol C Tables 4.2.6.8 and 6.1.1.4'
 'N'  'N'   0.0311   0.0180
 'International Tables Vol C Tables 4.2.6.8 and 6.1.1.4'
 'O'  'O'   0.0492   0.0322
 'International Tables Vol C Tables 4.2.6.8 and 6.1.1.4'

_space_group_crystal_system       monoclinic
_space_group_IT_number            14
_space_group_name_H-M_alt         'P 21/c'
_space_group_name_Hall            '-P 2ybc'

_shelx_space_group_comment
;
The symmetry employed for this shelxl refinement is uniquely defined
by the following loop, which should always be used as a source of
symmetry information in preference to the above space-group names.
They are only intended as comments.
;

loop_
 _space_group_symop_operation_xyz
 'x, y, z'
 '-x, y+1/2, -z+1/2'
 '-x, -y, -z'
 'x, -y-1/2, z-1/2'

_cell_length_a                    3.7558(4)
_cell_length_b                    13.4444(7)
_cell_length_c                    14.5531(10)
_cell_angle_alpha                 90
_cell_angle_beta                  91.564(7)
_cell_angle_gamma                 90
_cell_volume                      734.58(9)
_cell_formula_units_Z             4
_cell_measurement_temperature     173(2)
_cell_measurement_reflns_used     1104
_cell_measurement_theta_min       4.4190
_cell_measurement_theta_max       71.5980

_exptl_crystal_description        needles
_exptl_crystal_colour             Colourless
_exptl_crystal_density_meas       ?
_exptl_crystal_density_method     ?
_exptl_crystal_density_diffrn     1.633
_exptl_crystal_F_000              368
_exptl_transmission_factor_min    ?
_exptl_transmission_factor_max    ?
_exptl_crystal_size_max           0.255
_exptl_crystal_size_mid           0.056
_exptl_crystal_size_min           0.049
_exptl_absorpt_coefficient_mu     4.145
_shelx_estimated_absorpt_T_min    ?
_shelx_estimated_absorpt_T_max    ?
_exptl_absorpt_correction_type    analytical
_exptl_absorpt_correction_T_min   0.577
_exptl_absorpt_correction_T_max   0.840
_exptl_absorpt_process_details
;
CrysAlisPro 1.171.38.46 (Rigaku Oxford Diffraction, 2015)
Analytical numeric absorption correction using a multifaceted crystal
model based on expressions derived by R.C. Clark & J.S. Reid.
(Clark, R. C. & Reid, J. S. (1995). Acta Cryst. A51, 887-897)
Empirical absorption correction using spherical harmonics,
implemented in SCALE3 ABSPACK scaling algorithm.
;
_exptl_absorpt_special_details    ?
_diffrn_ambient_temperature       173(2)
_diffrn_radiation_wavelength      1.54184
_diffrn_radiation_type            CuK\a
_diffrn_source                    'Enhance Ultra (Cu) X-ray Source'
_diffrn_measurement_device_type   'Agilent Xcalibur PX Ultra A'
_diffrn_measurement_method        'omega scans'
_diffrn_detector_area_resol_mean  10.4115
_diffrn_reflns_number             4054
_diffrn_reflns_av_unetI/netI      0.0526
_diffrn_reflns_av_R_equivalents   0.0520
_diffrn_reflns_limit_h_min        -3
_diffrn_reflns_limit_h_max        4
_diffrn_reflns_limit_k_min        -16
_diffrn_reflns_limit_k_max        16
_diffrn_reflns_limit_l_min        -18
_diffrn_reflns_limit_l_max        17
_diffrn_reflns_theta_min          4.478
_diffrn_reflns_theta_max          73.540
_diffrn_reflns_theta_full         67.684
_diffrn_measured_fraction_theta_max   0.970
_diffrn_measured_fraction_theta_full  0.999
_diffrn_reflns_Laue_measured_fraction_max    0.970
_diffrn_reflns_Laue_measured_fraction_full   0.999
_diffrn_reflns_point_group_measured_fraction_max   0.970
_diffrn_reflns_point_group_measured_fraction_full  0.999
_reflns_number_total              1445
_reflns_number_gt                 1133
_reflns_threshold_expression      'I > 2σ(I)'
_reflns_Friedel_coverage          0.000
_reflns_Friedel_fraction_max      .
_reflns_Friedel_fraction_full     .

_reflns_special_details
;
 Reflections were merged by SHELXL according to the crystal
 class for the calculation of statistics and refinement.

 _reflns_Friedel_fraction is defined as the number of unique
 Friedel pairs measured divided by the number that would be
 possible theoretically, ignoring centric projections and
 systematic absences.
;

_computing_data_collection        'CrysAlisPro, Rigaku OD'
_computing_cell_refinement        'CrysAlisPro, Rigaku OD'
_computing_data_reduction         'CrysAlisPro, Rigaku OD'
_computing_structure_solution     'SHELXS-2014 (Sheldrick, 2017)'
_computing_structure_refinement 'SHELXL-2018/3 (Sheldrick, 2018)'
_computing_molecular_graphics     'Bruker SHELXTL'
_computing_publication_material   'CIFTAB-2014 (Sheldrick, 2017)'
_refine_special_details           ?
_refine_ls_structure_factor_coef  Fsqd
_refine_ls_matrix_type            full
_refine_ls_weighting_scheme       calc
_refine_ls_weighting_details
'w=1/[σ²(Fo²)+(0.1135P)²+0.0446P] where P=(Fo²+2Fc²)/3'
_atom_sites_solution_primary      ?
_atom_sites_solution_secondary    ?
_atom_sites_solution_hydrogens    mixed
_refine_ls_hydrogen_treatment     mixed
_refine_ls_extinction_method      none
_refine_ls_extinction_coef        .
_refine_ls_number_reflns          1445
_refine_ls_number_parameters      113
_refine_ls_number_restraints      1
_refine_ls_R_factor_all           0.0762
_refine_ls_R_factor_gt            0.0620
_refine_ls_wR_factor_ref          0.1800
_refine_ls_wR_factor_gt           0.1610
_refine_ls_goodness_of_fit_ref    1.062
_refine_ls_restrained_S_all       1.062
_refine_ls_shift/su_max           0.001
_refine_ls_shift/su_mean          0.000

loop_
 _atom_site_label
 _atom_site_type_symbol
 _atom_site_fract_x
 _atom_site_fract_y
 _atom_site_fract_z
 _atom_site_U_iso_or_equiv
 _atom_site_adp_type
 _atom_site_occupancy
 _atom_site_site_symmetry_order
 _atom_site_calc_flag
 _atom_site_refinement_flags_posn
 _atom_site_refinement_flags_adp
 _atom_site_refinement_flags_occupancy
 _atom_site_disorder_assembly
 _atom_site_disorder_group
C1 C 0.0299(8) 0.2182(2) 0.4012(2) 0.0340(7) Uani 1 1 d . . . . .
Cl1 Cl -0.0538(3) 0.09232(6) 0.41484(6) 0.0455(4) Uani 1 1 d . . . . .
N2 N -0.0591(7) 0.2734(2) 0.46887(18) 0.0363(6) Uani 1 1 d . . . . .
N3 N 0.0059(8) 0.37284(19) 0.46085(15) 0.0385(7) Uani 1 1 d D . . . .
H3 H -0.013(8) 0.4124(4) 0.5104(3) 0.065(15) Uiso 1 1 d D . . . .
C4 C 0.1583(9) 0.4201(2) 0.3887(2) 0.0359(7) Uani 1 1 d . . . . .
O4 O 0.2068(8) 0.51116(18) 0.39031(16) 0.0457(6) Uani 1 1 d . . . . .
C5 C 0.2510(8) 0.3553(2) 0.3119(2) 0.0324(7) Uani 1 1 d . . . . .
C6 C 0.4013(9) 0.3965(2) 0.2329(2) 0.0366(7) Uani 1 1 d . . . . .
H6A H 0.447215 0.465887 0.229478 0.044 Uiso 1 1 calc R U . . .
C7 C 0.4811(9) 0.3347(3) 0.1604(2) 0.0413(8) Uani 1 1 d . . . . .
H7A H 0.579693 0.361974 0.106462 0.050 Uiso 1 1 calc R U . . .
C8 C 0.4183(9) 0.2334(3) 0.1657(2) 0.0418(8) Uani 1 1 d . . . . .
H8A H 0.477717 0.192010 0.115508 0.050 Uiso 1 1 calc R U . . .
C9 C 0.2706(9) 0.1913(2) 0.2427(2) 0.0374(7) Uani 1 1 d . . . . .
H9A H 0.227335 0.121755 0.245232 0.045 Uiso 1 1 calc R U . . .
C10 C 0.1856(8) 0.2529(2) 0.31716(19) 0.0329(7) Uani 1 1 d . . . . .

loop_
 _atom_site_aniso_label
 _atom_site_aniso_U_11
 _atom_site_aniso_U_22
 _atom_site_aniso_U_33
 _atom_site_aniso_U_23
 _atom_site_aniso_U_13
 _atom_site_aniso_U_12
C1 0.0446(16) 0.0323(15) 0.0253(14) 0.0009(11) 0.0011(12) -0.0011(12)
Cl1 0.0666(6) 0.0311(5) 0.0389(5) 0.0019(3) 0.0072(4) -0.0037(3)
N2 0.0497(15) 0.0345(13) 0.0249(12) -0.0002(10) 0.0056(11) -0.0017(11)
N3 0.0580(17) 0.0343(14) 0.0238(12) -0.0027(10) 0.0108(11) -0.0004(12)
C4 0.0502(17) 0.0331(15) 0.0249(14) 0.0003(11) 0.0073(12) 0.0008(13)
O4 0.0738(16) 0.0334(12) 0.0308(12) -0.0041(9) 0.0171(11) -0.0028(11)
C5 0.0392(15) 0.0354(15) 0.0227(13) -0.0009(11) 0.0006(11) 0.0042(12)
C6 0.0472(17) 0.0391(16) 0.0237(14) -0.0006(11) 0.0040(12) -0.0002(13)
C7 0.0483(17) 0.0536(19) 0.0223(14) 0.0013(13) 0.0069(12) 0.0050(15)
C8 0.0495(17) 0.0521(19) 0.0240(14) -0.0089(13) 0.0071(13) 0.0101(15)
C9 0.0475(17) 0.0366(16) 0.0280(14) -0.0042(12) 0.0009(12) 0.0046(13)
C10 0.0401(14) 0.0371(16) 0.0217(13) -0.0005(11) 0.0044(11) 0.0022(12)

_geom_special_details
;
 All esds (except the esd in the dihedral angle between two l.s. planes)
 are estimated using the full covariance matrix.  The cell esds are taken
 into account individually in the estimation of esds in distances, angles
 and torsion angles; correlations between esds in cell parameters are only
 used when they are defined by crystal symmetry.  An approximate (isotropic)
 treatment of cell esds is used for estimating esds involving l.s. planes.
;

loop_
 _geom_bond_atom_site_label_1
 _geom_bond_atom_site_label_2
 _geom_bond_distance
 _geom_bond_site_symmetry_2
 _geom_bond_publ_flag
C1 N2 1.285(4) . ?
C1 C10 1.447(4) . ?
C1 Cl1 1.734(3) . ?
N2 N3 1.365(4) . ?
N3 C4 1.367(4) . ?
C4 O4 1.238(4) . ?
C4 C5 1.466(4) . ?
C5 C10 1.400(4) . ?
C5 C6 1.409(4) . ?
C6 C7 1.382(5) . ?
C7 C8 1.384(5) . ?
C8 C9 1.385(5) . ?
C9 C10 1.408(4) . ?

loop_
 _geom_angle_atom_site_label_1
 _geom_angle_atom_site_label_2
 _geom_angle_atom_site_label_3
 _geom_angle
 _geom_angle_site_symmetry_1
 _geom_angle_site_symmetry_3
 _geom_angle_publ_flag
N2 C1 C10 125.5(3) . . ?
N2 C1 Cl1 115.1(2) . . ?
C10 C1 Cl1 119.4(2) . . ?
C1 N2 N3 116.7(3) . . ?
N2 N3 C4 126.9(2) . . ?
O4 C4 N3 120.6(3) . . ?
O4 C4 C5 124.4(3) . . ?
N3 C4 C5 115.0(3) . . ?
C10 C5 C6 120.4(3) . . ?
C10 C5 C4 119.8(3) . . ?
C6 C5 C4 119.8(3) . . ?
C7 C6 C5 119.1(3) . . ?
C6 C7 C8 120.5(3) . . ?
C7 C8 C9 121.3(3) . . ?
C8 C9 C10 119.1(3) . . ?
C5 C10 C9 119.5(3) . . ?
C5 C10 C1 116.0(3) . . ?
C9 C10 C1 124.5(3) . . ?

loop_
 _geom_hbond_atom_site_label_D
 _geom_hbond_atom_site_label_H
 _geom_hbond_atom_site_label_A
 _geom_hbond_distance_DH
 _geom_hbond_distance_HA
 _geom_hbond_distance_DA
 _geom_hbond_angle_DHA
 _geom_hbond_site_symmetry_A
 _geom_hbond_publ_flag
N3 H3 O4  0.9000(1) 1.932(10) 2.803(3) 162(3) 3_566 yes

_refine_diff_density_max    0.793
_refine_diff_density_min   -0.386
_refine_diff_density_rms    0.111



#===END
